BEGIN:VCALENDAR
VERSION:2.0
PRODID:-//Prisma Community Care - ECPv6.10.2//NONSGML v1.0//EN
CALSCALE:GREGORIAN
METHOD:PUBLISH
X-WR-CALNAME:Prisma Community Care
X-ORIGINAL-URL:https://prismacare.org
X-WR-CALDESC:Events for Prisma Community Care
REFRESH-INTERVAL;VALUE=DURATION:PT1H
X-Robots-Tag:noindex
X-PUBLISHED-TTL:PT1H
BEGIN:VTIMEZONE
TZID:UTC
BEGIN:STANDARD
TZOFFSETFROM:+0000
TZOFFSETTO:+0000
TZNAME:UTC
DTSTART:20250101T000000
END:STANDARD
END:VTIMEZONE
BEGIN:VEVENT
DTSTART;TZID=UTC:20260328T100000
DTEND;TZID=UTC:20260329T170000
DTSTAMP:20260423T185733
CREATED:20260302T173750Z
LAST-MODIFIED:20260302T173750Z
UID:10002657-1774692000-1774803600@prismacare.org
SUMMARY:Rainbows Festival
DESCRIPTION:0SHARESFacebook\n            \n                \n             \n 
URL:https://prismacare.org/event/rainbows-festival-3/
LOCATION:Heritage Square Park\, 601 E Monroe St\, Phoenix\, AZ\, 85004\, United States
END:VEVENT
BEGIN:VEVENT
DTSTART;TZID=UTC:20250406T100000
DTEND;TZID=UTC:20250406T180000
DTSTAMP:20260423T185733
CREATED:20250321T194609Z
LAST-MODIFIED:20250321T200519Z
UID:10001456-1743933600-1743962400@prismacare.org
SUMMARY:Rainbows Festival
DESCRIPTION:0SHARESFacebook\n            \n                \n             \nJoin us! \nThe annual Rainbows Festival & Street Fair is a celebration of the diversity of the LGBTQ+ community. The event is located in historic Heritage Square Park in Downtown Phoenix. Each year\, the Rainbows Festival draws a crowd of over 25\,000 friends\, families\, and allies. Rainbows Festival is the 2nd largest LGBTQ+ event in the state of Arizona\, only 2nd to the Phoenix Pride Festival. \nThe annual Rainbows Festival is a free event open to the public. Prisma will be attending to connect attendees to primary care services and Nice Package programming.
URL:https://prismacare.org/event/rainbows-festival-2/
LOCATION:Heritage Square Park\, 601 E Monroe St\, Phoenix\, AZ\, 85004\, United States
END:VEVENT
BEGIN:VEVENT
DTSTART;TZID=UTC:20250405T100000
DTEND;TZID=UTC:20250405T180000
DTSTAMP:20260423T185733
CREATED:20250321T194109Z
LAST-MODIFIED:20250321T200608Z
UID:10001455-1743847200-1743876000@prismacare.org
SUMMARY:Rainbows Festival
DESCRIPTION:0SHARESFacebook\n            \n                \n             \nJoin us! \nThe annual Rainbows Festival & Street Fair is a celebration of the diversity of the LGBTQ+ community. The event is located in historic Heritage Square Park in Downtown Phoenix. Each year\, the Rainbows Festival draws a crowd of over 25\,000 friends\, families\, and allies. Rainbows Festival is the 2nd largest LGBTQ+ event in the state of Arizona\, only 2nd to the Phoenix Pride Festival. \nThe annual Rainbows Festival is a free event open to the public. Prisma will be attending to connect attendees to primary care services and Nice Package programming.
URL:https://prismacare.org/event/rainbows-festival/
LOCATION:Heritage Square Park\, 601 E Monroe St\, Phoenix\, AZ\, 85004\, United States
END:VEVENT
END:VCALENDAR