BEGIN:VCALENDAR
VERSION:2.0
PRODID:-//Prisma Community Care - ECPv6.10.2//NONSGML v1.0//EN
CALSCALE:GREGORIAN
METHOD:PUBLISH
X-ORIGINAL-URL:https://prismacare.org
X-WR-CALDESC:Events for Prisma Community Care
REFRESH-INTERVAL;VALUE=DURATION:PT1H
X-Robots-Tag:noindex
X-PUBLISHED-TTL:PT1H
BEGIN:VTIMEZONE
TZID:UTC
BEGIN:STANDARD
TZOFFSETFROM:+0000
TZOFFSETTO:+0000
TZNAME:UTC
DTSTART:20260101T000000
END:STANDARD
END:VTIMEZONE
BEGIN:VEVENT
DTSTART;TZID=UTC:20260420T113000
DTEND;TZID=UTC:20260420T140000
DTSTAMP:20260423T112833
CREATED:20260417T200714Z
LAST-MODIFIED:20260417T200714Z
UID:10002662-1776684600-1776693600@prismacare.org
SUMMARY:Medicine Monday Health Fair – ASU West Valley
DESCRIPTION:0SHARESFacebook\n            \n                \n            Whether you’re looking for the perfect student org\, need to chat with your college advisors\, or want to link up with community health leaders\, we’re bringing them all to one table. No appointments\, no formal emails\, just walk up\, grab some resources\, and start building your network!
URL:https://prismacare.org/event/medicine-monday-health-fair-asu-west-valley/
LOCATION:ASU West\, 4701 W Thunderbird Rd\, Glendale\, AZ\, 85306\, United States
END:VEVENT
END:VCALENDAR