BEGIN:VCALENDAR
VERSION:2.0
PRODID:-//Prisma Community Care - ECPv6.10.2//NONSGML v1.0//EN
CALSCALE:GREGORIAN
METHOD:PUBLISH
X-WR-CALNAME:Prisma Community Care
X-ORIGINAL-URL:https://prismacare.org
X-WR-CALDESC:Events for Prisma Community Care
REFRESH-INTERVAL;VALUE=DURATION:PT1H
X-Robots-Tag:noindex
X-PUBLISHED-TTL:PT1H
BEGIN:VTIMEZONE
TZID:UTC
BEGIN:STANDARD
TZOFFSETFROM:+0000
TZOFFSETTO:+0000
TZNAME:UTC
DTSTART:20260101T000000
END:STANDARD
END:VTIMEZONE
BEGIN:VEVENT
DTSTART;TZID=UTC:20260409T180000
DTEND;TZID=UTC:20260409T210000
DTSTAMP:20260419T205627
CREATED:20260409T164103Z
LAST-MODIFIED:20260409T164103Z
UID:10002658-1775757600-1775768400@prismacare.org
SUMMARY:Drag U Downtown
DESCRIPTION:0SHARESFacebook\n            \n                \n             \nPrisma will be attending to connect attendees to primary care services. \n 
URL:https://prismacare.org/event/drag-u-downtown/
LOCATION:ASU Downtown Fitness Complex\, 330 N 1st Ave\, Phoenix\, AZ\, Arizona\, 85003
END:VEVENT
END:VCALENDAR