BEGIN:VCALENDAR
VERSION:2.0
PRODID:-//Prisma Community Care - ECPv6.10.2//NONSGML v1.0//EN
CALSCALE:GREGORIAN
METHOD:PUBLISH
X-ORIGINAL-URL:https://prismacare.org
X-WR-CALDESC:Events for Prisma Community Care
REFRESH-INTERVAL;VALUE=DURATION:PT1H
X-Robots-Tag:noindex
X-PUBLISHED-TTL:PT1H
BEGIN:VTIMEZONE
TZID:UTC
BEGIN:STANDARD
TZOFFSETFROM:+0000
TZOFFSETTO:+0000
TZNAME:UTC
DTSTART:20250101T000000
END:STANDARD
END:VTIMEZONE
BEGIN:VEVENT
DTSTART;TZID=UTC:20250301T110000
DTEND;TZID=UTC:20250301T170000
DTSTAMP:20260424T044745
CREATED:20250225T190811Z
LAST-MODIFIED:20250226T181841Z
UID:10001444-1740826800-1740848400@prismacare.org
SUMMARY:Melrose Street Fair
DESCRIPTION:0SHARESFacebook\n            \n                \n             \n  \nJoin us at the annual Melrose Street Fair on 7th Ave for a day of shopping\, food\, music\, and fun in the heart of the city.  Stop by the Prisma Community Care table to say hello\, learn more about volunteering opportunities\, and giveaways! \n 
URL:https://prismacare.org/event/melrose-street-fair/
LOCATION:Melrose Street Fair on 7th Ave\, 7th Avenue and Indian School\, Phoenix\, AZ\, 85013\, United States
END:VEVENT
END:VCALENDAR