BEGIN:VCALENDAR
VERSION:2.0
PRODID:-//Prisma Community Care - ECPv6.10.2//NONSGML v1.0//EN
CALSCALE:GREGORIAN
METHOD:PUBLISH
X-WR-CALNAME:Prisma Community Care
X-ORIGINAL-URL:https://prismacare.org
X-WR-CALDESC:Events for Prisma Community Care
REFRESH-INTERVAL;VALUE=DURATION:PT1H
X-Robots-Tag:noindex
X-PUBLISHED-TTL:PT1H
BEGIN:VTIMEZONE
TZID:UTC
BEGIN:STANDARD
TZOFFSETFROM:+0000
TZOFFSETTO:+0000
TZNAME:UTC
DTSTART:20250101T000000
END:STANDARD
END:VTIMEZONE
BEGIN:VEVENT
DTSTART;TZID=UTC:20250627T170000
DTEND;TZID=UTC:20250627T170000
DTSTAMP:20260425T191539
CREATED:20250523T143704Z
LAST-MODIFIED:20250523T143704Z
UID:10001470-1751043600-1751043600@prismacare.org
SUMMARY:Diamondback Pride Night
DESCRIPTION:0SHARESFacebook\n            \n                \n            Celebrate love\, inclusivity\, and the power of baseball to bring communities together for the 8th Annual D-backs Pride Night at Chase Field on Friday\, June 27! Prisma will be tabling and providing direct linkage to care through primary care referral opportunities. \n 
URL:https://prismacare.org/event/diamondback-pride-night/
LOCATION:Chase field\, 401 E Jefferson St\, Phoenix\, AZ\, United States
END:VEVENT
END:VCALENDAR