BEGIN:VCALENDAR
VERSION:2.0
PRODID:-//Prisma Community Care - ECPv6.10.2//NONSGML v1.0//EN
CALSCALE:GREGORIAN
METHOD:PUBLISH
X-WR-CALNAME:Prisma Community Care
X-ORIGINAL-URL:https://prismacare.org
X-WR-CALDESC:Events for Prisma Community Care
REFRESH-INTERVAL;VALUE=DURATION:PT1H
X-Robots-Tag:noindex
X-PUBLISHED-TTL:PT1H
BEGIN:VTIMEZONE
TZID:UTC
BEGIN:STANDARD
TZOFFSETFROM:+0000
TZOFFSETTO:+0000
TZNAME:UTC
DTSTART:20250101T000000
END:STANDARD
END:VTIMEZONE
BEGIN:VEVENT
DTSTART;TZID=UTC:20251211T150000
DTEND;TZID=UTC:20251211T190000
DTSTAMP:20260422T103821
CREATED:20251208T173803Z
LAST-MODIFIED:20251208T173803Z
UID:10002639-1765465200-1765479600@prismacare.org
SUMMARY:CPLC World AIDS Day
DESCRIPTION:0SHARESFacebook
URL:https://prismacare.org/event/cplc-world-aids-day/
LOCATION:CPLC\, 6850 W. Indian School Rd\, Phoenix\, AZ\, 85033\, United States
END:VEVENT
END:VCALENDAR