BEGIN:VCALENDAR
VERSION:2.0
PRODID:-//Prisma Community Care - ECPv6.10.2//NONSGML v1.0//EN
CALSCALE:GREGORIAN
METHOD:PUBLISH
X-ORIGINAL-URL:https://prismacare.org
X-WR-CALDESC:Events for Prisma Community Care
REFRESH-INTERVAL;VALUE=DURATION:PT1H
X-Robots-Tag:noindex
X-PUBLISHED-TTL:PT1H
BEGIN:VTIMEZONE
TZID:UTC
BEGIN:STANDARD
TZOFFSETFROM:+0000
TZOFFSETTO:+0000
TZNAME:UTC
DTSTART:20260101T000000
END:STANDARD
END:VTIMEZONE
BEGIN:VEVENT
DTSTART;TZID=UTC:20260325T110000
DTEND;TZID=UTC:20260325T130000
DTSTAMP:20260421T092541
CREATED:20260302T162240Z
LAST-MODIFIED:20260302T162240Z
UID:10002656-1774436400-1774443600@prismacare.org
SUMMARY:Downtown Phoenix Inc Wellness Fair
DESCRIPTION:0SHARESFacebook\n            \n                \n            Embrace the fresh energy of Spring at the DTPHX Wellness Fair\, a celebration of self-care and community in the heart of the city. \n 
URL:https://prismacare.org/event/downtown-phoenix-inc-wellness-fair/
LOCATION:Civic Space Park\, 424 N Central Ave.\, Phoenix\, 85004\, United States
END:VEVENT
BEGIN:VEVENT
DTSTART;TZID=UTC:20260313T190000
DTEND;TZID=UTC:20260315T230000
DTSTAMP:20260421T092541
CREATED:20260227T185524Z
LAST-MODIFIED:20260227T185524Z
UID:10002651-1773428400-1773615600@prismacare.org
SUMMARY:Tempe Festival of the Arts
DESCRIPTION:0SHARESFacebook\n            \n                \n            Tempe Festival of the Arts has a 50+ year history in Tempe and takes place in early December and early to mid-March each year. It is one of the oldest festivals in the Southwest. The festival has grown to become a Tempe point of pride and a favorite of our residents and visitors. Guests enjoy artists from around the country\, local music\, a Kids Block and many great food options – all located on the streets of historic Mill Avenue.
URL:https://prismacare.org/event/tempe-festival-of-the-arts/
LOCATION:Centerpoint Plaza\, 660-740 S Mill Ave\, Tempe\, AZ\, United States
END:VEVENT
END:VCALENDAR