BEGIN:VCALENDAR
VERSION:2.0
PRODID:-//Prisma Community Care - ECPv6.10.2//NONSGML v1.0//EN
CALSCALE:GREGORIAN
METHOD:PUBLISH
X-WR-CALNAME:Prisma Community Care
X-ORIGINAL-URL:https://prismacare.org
X-WR-CALDESC:Events for Prisma Community Care
REFRESH-INTERVAL;VALUE=DURATION:PT1H
X-Robots-Tag:noindex
X-PUBLISHED-TTL:PT1H
BEGIN:VTIMEZONE
TZID:UTC
BEGIN:STANDARD
TZOFFSETFROM:+0000
TZOFFSETTO:+0000
TZNAME:UTC
DTSTART:20250101T000000
END:STANDARD
END:VTIMEZONE
BEGIN:VEVENT
DTSTART;TZID=UTC:20250306T120000
DTEND;TZID=UTC:20250306T150000
DTSTAMP:20260420T140417
CREATED:20250226T211534Z
LAST-MODIFIED:20250226T211534Z
UID:10001452-1741262400-1741273200@prismacare.org
SUMMARY:Community Resource Fair
DESCRIPTION:0SHARESFacebook\n            \n                \n             \nJoin us for Community Resource Day on March 6. This day is designed to connect students\, families\, and staff with local organizations that provide essential resources\, including legal aid\, immigration support\, education\, mental health services\, and community-building initiatives. Join us as we connect attendees to primary care services.
URL:https://prismacare.org/event/community-resource-fair/
LOCATION:ASU Prep Phoenix High School\, 735 E Fillmore St.\, Phoenix\, AZ\, 85006\, United States
END:VEVENT
END:VCALENDAR