BEGIN:VCALENDAR
VERSION:2.0
PRODID:-//Prisma Community Care - ECPv6.10.2//NONSGML v1.0//EN
CALSCALE:GREGORIAN
METHOD:PUBLISH
X-ORIGINAL-URL:https://prismacare.org
X-WR-CALDESC:Events for Prisma Community Care
REFRESH-INTERVAL;VALUE=DURATION:PT1H
X-Robots-Tag:noindex
X-PUBLISHED-TTL:PT1H
BEGIN:VTIMEZONE
TZID:UTC
BEGIN:STANDARD
TZOFFSETFROM:+0000
TZOFFSETTO:+0000
TZNAME:UTC
DTSTART:20260101T000000
END:STANDARD
END:VTIMEZONE
BEGIN:VEVENT
DTSTART;TZID=UTC:20260422T110000
DTEND;TZID=UTC:20260422T120000
DTSTAMP:20260422T104041
CREATED:20250814T202409Z
LAST-MODIFIED:20250814T202515Z
UID:10002399-1776855600-1776859200@prismacare.org
SUMMARY:MINDFUL RECOVERY
DESCRIPTION:A holistic approach that integrates mindfulness practices to support recovery from addiction\, stress\, or other mental health challenges. Here are some key aspects of mindful recovery: \n\nStress managements\nSubstance use intervention\nMindfulness\nRelapse prevention\n\n 
URL:https://prismacare.org/event/mindful-recovery-2/2026-04-22/
LOCATION:Prisma Community Care\, 1101 N. Central Ave.\, Phoenix\, AZ\, 85004\, United States
END:VEVENT
BEGIN:VEVENT
DTSTART;TZID=UTC:20260429T110000
DTEND;TZID=UTC:20260429T120000
DTSTAMP:20260422T104041
CREATED:20250814T202409Z
LAST-MODIFIED:20250814T202515Z
UID:10002400-1777460400-1777464000@prismacare.org
SUMMARY:MINDFUL RECOVERY
DESCRIPTION:A holistic approach that integrates mindfulness practices to support recovery from addiction\, stress\, or other mental health challenges. Here are some key aspects of mindful recovery: \n\nStress managements\nSubstance use intervention\nMindfulness\nRelapse prevention\n\n 
URL:https://prismacare.org/event/mindful-recovery-2/2026-04-29/
LOCATION:Prisma Community Care\, 1101 N. Central Ave.\, Phoenix\, AZ\, 85004\, United States
END:VEVENT
BEGIN:VEVENT
DTSTART;TZID=UTC:20260506T110000
DTEND;TZID=UTC:20260506T120000
DTSTAMP:20260422T104041
CREATED:20250814T202409Z
LAST-MODIFIED:20250814T202515Z
UID:10002401-1778065200-1778068800@prismacare.org
SUMMARY:MINDFUL RECOVERY
DESCRIPTION:A holistic approach that integrates mindfulness practices to support recovery from addiction\, stress\, or other mental health challenges. Here are some key aspects of mindful recovery: \n\nStress managements\nSubstance use intervention\nMindfulness\nRelapse prevention\n\n 
URL:https://prismacare.org/event/mindful-recovery-2/2026-05-06/
LOCATION:Prisma Community Care\, 1101 N. Central Ave.\, Phoenix\, AZ\, 85004\, United States
END:VEVENT
BEGIN:VEVENT
DTSTART;TZID=UTC:20260513T110000
DTEND;TZID=UTC:20260513T120000
DTSTAMP:20260422T104041
CREATED:20250814T202409Z
LAST-MODIFIED:20250814T202515Z
UID:10002402-1778670000-1778673600@prismacare.org
SUMMARY:MINDFUL RECOVERY
DESCRIPTION:A holistic approach that integrates mindfulness practices to support recovery from addiction\, stress\, or other mental health challenges. Here are some key aspects of mindful recovery: \n\nStress managements\nSubstance use intervention\nMindfulness\nRelapse prevention\n\n 
URL:https://prismacare.org/event/mindful-recovery-2/2026-05-13/
LOCATION:Prisma Community Care\, 1101 N. Central Ave.\, Phoenix\, AZ\, 85004\, United States
END:VEVENT
BEGIN:VEVENT
DTSTART;TZID=UTC:20260520T110000
DTEND;TZID=UTC:20260520T120000
DTSTAMP:20260422T104041
CREATED:20250814T202409Z
LAST-MODIFIED:20250814T202515Z
UID:10002403-1779274800-1779278400@prismacare.org
SUMMARY:MINDFUL RECOVERY
DESCRIPTION:A holistic approach that integrates mindfulness practices to support recovery from addiction\, stress\, or other mental health challenges. Here are some key aspects of mindful recovery: \n\nStress managements\nSubstance use intervention\nMindfulness\nRelapse prevention\n\n 
URL:https://prismacare.org/event/mindful-recovery-2/2026-05-20/
LOCATION:Prisma Community Care\, 1101 N. Central Ave.\, Phoenix\, AZ\, 85004\, United States
END:VEVENT
BEGIN:VEVENT
DTSTART;TZID=UTC:20260527T110000
DTEND;TZID=UTC:20260527T120000
DTSTAMP:20260422T104041
CREATED:20250814T202409Z
LAST-MODIFIED:20250814T202515Z
UID:10002404-1779879600-1779883200@prismacare.org
SUMMARY:MINDFUL RECOVERY
DESCRIPTION:A holistic approach that integrates mindfulness practices to support recovery from addiction\, stress\, or other mental health challenges. Here are some key aspects of mindful recovery: \n\nStress managements\nSubstance use intervention\nMindfulness\nRelapse prevention\n\n 
URL:https://prismacare.org/event/mindful-recovery-2/2026-05-27/
LOCATION:Prisma Community Care\, 1101 N. Central Ave.\, Phoenix\, AZ\, 85004\, United States
END:VEVENT
BEGIN:VEVENT
DTSTART;TZID=UTC:20260603T110000
DTEND;TZID=UTC:20260603T120000
DTSTAMP:20260422T104041
CREATED:20250814T202409Z
LAST-MODIFIED:20250814T202515Z
UID:10002405-1780484400-1780488000@prismacare.org
SUMMARY:MINDFUL RECOVERY
DESCRIPTION:A holistic approach that integrates mindfulness practices to support recovery from addiction\, stress\, or other mental health challenges. Here are some key aspects of mindful recovery: \n\nStress managements\nSubstance use intervention\nMindfulness\nRelapse prevention\n\n 
URL:https://prismacare.org/event/mindful-recovery-2/2026-06-03/
LOCATION:Prisma Community Care\, 1101 N. Central Ave.\, Phoenix\, AZ\, 85004\, United States
END:VEVENT
BEGIN:VEVENT
DTSTART;TZID=UTC:20260610T110000
DTEND;TZID=UTC:20260610T120000
DTSTAMP:20260422T104041
CREATED:20250814T202409Z
LAST-MODIFIED:20250814T202515Z
UID:10002406-1781089200-1781092800@prismacare.org
SUMMARY:MINDFUL RECOVERY
DESCRIPTION:A holistic approach that integrates mindfulness practices to support recovery from addiction\, stress\, or other mental health challenges. Here are some key aspects of mindful recovery: \n\nStress managements\nSubstance use intervention\nMindfulness\nRelapse prevention\n\n 
URL:https://prismacare.org/event/mindful-recovery-2/2026-06-10/
LOCATION:Prisma Community Care\, 1101 N. Central Ave.\, Phoenix\, AZ\, 85004\, United States
END:VEVENT
BEGIN:VEVENT
DTSTART;TZID=UTC:20260617T110000
DTEND;TZID=UTC:20260617T120000
DTSTAMP:20260422T104041
CREATED:20250814T202409Z
LAST-MODIFIED:20250814T202515Z
UID:10002407-1781694000-1781697600@prismacare.org
SUMMARY:MINDFUL RECOVERY
DESCRIPTION:A holistic approach that integrates mindfulness practices to support recovery from addiction\, stress\, or other mental health challenges. Here are some key aspects of mindful recovery: \n\nStress managements\nSubstance use intervention\nMindfulness\nRelapse prevention\n\n 
URL:https://prismacare.org/event/mindful-recovery-2/2026-06-17/
LOCATION:Prisma Community Care\, 1101 N. Central Ave.\, Phoenix\, AZ\, 85004\, United States
END:VEVENT
BEGIN:VEVENT
DTSTART;TZID=UTC:20260624T110000
DTEND;TZID=UTC:20260624T120000
DTSTAMP:20260422T104041
CREATED:20250814T202409Z
LAST-MODIFIED:20250814T202515Z
UID:10002408-1782298800-1782302400@prismacare.org
SUMMARY:MINDFUL RECOVERY
DESCRIPTION:A holistic approach that integrates mindfulness practices to support recovery from addiction\, stress\, or other mental health challenges. Here are some key aspects of mindful recovery: \n\nStress managements\nSubstance use intervention\nMindfulness\nRelapse prevention\n\n 
URL:https://prismacare.org/event/mindful-recovery-2/2026-06-24/
LOCATION:Prisma Community Care\, 1101 N. Central Ave.\, Phoenix\, AZ\, 85004\, United States
END:VEVENT
BEGIN:VEVENT
DTSTART;TZID=UTC:20260701T110000
DTEND;TZID=UTC:20260701T120000
DTSTAMP:20260422T104041
CREATED:20250814T202409Z
LAST-MODIFIED:20250814T202515Z
UID:10002409-1782903600-1782907200@prismacare.org
SUMMARY:MINDFUL RECOVERY
DESCRIPTION:A holistic approach that integrates mindfulness practices to support recovery from addiction\, stress\, or other mental health challenges. Here are some key aspects of mindful recovery: \n\nStress managements\nSubstance use intervention\nMindfulness\nRelapse prevention\n\n 
URL:https://prismacare.org/event/mindful-recovery-2/2026-07-01/
LOCATION:Prisma Community Care\, 1101 N. Central Ave.\, Phoenix\, AZ\, 85004\, United States
END:VEVENT
BEGIN:VEVENT
DTSTART;TZID=UTC:20260708T110000
DTEND;TZID=UTC:20260708T120000
DTSTAMP:20260422T104041
CREATED:20250814T202409Z
LAST-MODIFIED:20250814T202515Z
UID:10002410-1783508400-1783512000@prismacare.org
SUMMARY:MINDFUL RECOVERY
DESCRIPTION:A holistic approach that integrates mindfulness practices to support recovery from addiction\, stress\, or other mental health challenges. Here are some key aspects of mindful recovery: \n\nStress managements\nSubstance use intervention\nMindfulness\nRelapse prevention\n\n 
URL:https://prismacare.org/event/mindful-recovery-2/2026-07-08/
LOCATION:Prisma Community Care\, 1101 N. Central Ave.\, Phoenix\, AZ\, 85004\, United States
END:VEVENT
BEGIN:VEVENT
DTSTART;TZID=UTC:20260715T110000
DTEND;TZID=UTC:20260715T120000
DTSTAMP:20260422T104041
CREATED:20250814T202409Z
LAST-MODIFIED:20250814T202515Z
UID:10002411-1784113200-1784116800@prismacare.org
SUMMARY:MINDFUL RECOVERY
DESCRIPTION:A holistic approach that integrates mindfulness practices to support recovery from addiction\, stress\, or other mental health challenges. Here are some key aspects of mindful recovery: \n\nStress managements\nSubstance use intervention\nMindfulness\nRelapse prevention\n\n 
URL:https://prismacare.org/event/mindful-recovery-2/2026-07-15/
LOCATION:Prisma Community Care\, 1101 N. Central Ave.\, Phoenix\, AZ\, 85004\, United States
END:VEVENT
BEGIN:VEVENT
DTSTART;TZID=UTC:20260722T110000
DTEND;TZID=UTC:20260722T120000
DTSTAMP:20260422T104041
CREATED:20250814T202409Z
LAST-MODIFIED:20250814T202515Z
UID:10002412-1784718000-1784721600@prismacare.org
SUMMARY:MINDFUL RECOVERY
DESCRIPTION:A holistic approach that integrates mindfulness practices to support recovery from addiction\, stress\, or other mental health challenges. Here are some key aspects of mindful recovery: \n\nStress managements\nSubstance use intervention\nMindfulness\nRelapse prevention\n\n 
URL:https://prismacare.org/event/mindful-recovery-2/2026-07-22/
LOCATION:Prisma Community Care\, 1101 N. Central Ave.\, Phoenix\, AZ\, 85004\, United States
END:VEVENT
BEGIN:VEVENT
DTSTART;TZID=UTC:20260729T110000
DTEND;TZID=UTC:20260729T120000
DTSTAMP:20260422T104041
CREATED:20250814T202409Z
LAST-MODIFIED:20250814T202515Z
UID:10002413-1785322800-1785326400@prismacare.org
SUMMARY:MINDFUL RECOVERY
DESCRIPTION:A holistic approach that integrates mindfulness practices to support recovery from addiction\, stress\, or other mental health challenges. Here are some key aspects of mindful recovery: \n\nStress managements\nSubstance use intervention\nMindfulness\nRelapse prevention\n\n 
URL:https://prismacare.org/event/mindful-recovery-2/2026-07-29/
LOCATION:Prisma Community Care\, 1101 N. Central Ave.\, Phoenix\, AZ\, 85004\, United States
END:VEVENT
BEGIN:VEVENT
DTSTART;TZID=UTC:20260805T110000
DTEND;TZID=UTC:20260805T120000
DTSTAMP:20260422T104041
CREATED:20250814T202409Z
LAST-MODIFIED:20250814T202515Z
UID:10002414-1785927600-1785931200@prismacare.org
SUMMARY:MINDFUL RECOVERY
DESCRIPTION:A holistic approach that integrates mindfulness practices to support recovery from addiction\, stress\, or other mental health challenges. Here are some key aspects of mindful recovery: \n\nStress managements\nSubstance use intervention\nMindfulness\nRelapse prevention\n\n 
URL:https://prismacare.org/event/mindful-recovery-2/2026-08-05/
LOCATION:Prisma Community Care\, 1101 N. Central Ave.\, Phoenix\, AZ\, 85004\, United States
END:VEVENT
BEGIN:VEVENT
DTSTART;TZID=UTC:20260812T110000
DTEND;TZID=UTC:20260812T120000
DTSTAMP:20260422T104041
CREATED:20250814T202409Z
LAST-MODIFIED:20250814T202515Z
UID:10002415-1786532400-1786536000@prismacare.org
SUMMARY:MINDFUL RECOVERY
DESCRIPTION:A holistic approach that integrates mindfulness practices to support recovery from addiction\, stress\, or other mental health challenges. Here are some key aspects of mindful recovery: \n\nStress managements\nSubstance use intervention\nMindfulness\nRelapse prevention\n\n 
URL:https://prismacare.org/event/mindful-recovery-2/2026-08-12/
LOCATION:Prisma Community Care\, 1101 N. Central Ave.\, Phoenix\, AZ\, 85004\, United States
END:VEVENT
BEGIN:VEVENT
DTSTART;TZID=UTC:20260819T110000
DTEND;TZID=UTC:20260819T120000
DTSTAMP:20260422T104041
CREATED:20250814T202409Z
LAST-MODIFIED:20250814T202515Z
UID:10002416-1787137200-1787140800@prismacare.org
SUMMARY:MINDFUL RECOVERY
DESCRIPTION:A holistic approach that integrates mindfulness practices to support recovery from addiction\, stress\, or other mental health challenges. Here are some key aspects of mindful recovery: \n\nStress managements\nSubstance use intervention\nMindfulness\nRelapse prevention\n\n 
URL:https://prismacare.org/event/mindful-recovery-2/2026-08-19/
LOCATION:Prisma Community Care\, 1101 N. Central Ave.\, Phoenix\, AZ\, 85004\, United States
END:VEVENT
BEGIN:VEVENT
DTSTART;TZID=UTC:20260826T110000
DTEND;TZID=UTC:20260826T120000
DTSTAMP:20260422T104041
CREATED:20250814T202409Z
LAST-MODIFIED:20250814T202515Z
UID:10002417-1787742000-1787745600@prismacare.org
SUMMARY:MINDFUL RECOVERY
DESCRIPTION:A holistic approach that integrates mindfulness practices to support recovery from addiction\, stress\, or other mental health challenges. Here are some key aspects of mindful recovery: \n\nStress managements\nSubstance use intervention\nMindfulness\nRelapse prevention\n\n 
URL:https://prismacare.org/event/mindful-recovery-2/2026-08-26/
LOCATION:Prisma Community Care\, 1101 N. Central Ave.\, Phoenix\, AZ\, 85004\, United States
END:VEVENT
BEGIN:VEVENT
DTSTART;TZID=UTC:20260902T110000
DTEND;TZID=UTC:20260902T120000
DTSTAMP:20260422T104041
CREATED:20250814T202409Z
LAST-MODIFIED:20250814T202515Z
UID:10002418-1788346800-1788350400@prismacare.org
SUMMARY:MINDFUL RECOVERY
DESCRIPTION:A holistic approach that integrates mindfulness practices to support recovery from addiction\, stress\, or other mental health challenges. Here are some key aspects of mindful recovery: \n\nStress managements\nSubstance use intervention\nMindfulness\nRelapse prevention\n\n 
URL:https://prismacare.org/event/mindful-recovery-2/2026-09-02/
LOCATION:Prisma Community Care\, 1101 N. Central Ave.\, Phoenix\, AZ\, 85004\, United States
END:VEVENT
BEGIN:VEVENT
DTSTART;TZID=UTC:20260909T110000
DTEND;TZID=UTC:20260909T120000
DTSTAMP:20260422T104041
CREATED:20250814T202409Z
LAST-MODIFIED:20250814T202515Z
UID:10002419-1788951600-1788955200@prismacare.org
SUMMARY:MINDFUL RECOVERY
DESCRIPTION:A holistic approach that integrates mindfulness practices to support recovery from addiction\, stress\, or other mental health challenges. Here are some key aspects of mindful recovery: \n\nStress managements\nSubstance use intervention\nMindfulness\nRelapse prevention\n\n 
URL:https://prismacare.org/event/mindful-recovery-2/2026-09-09/
LOCATION:Prisma Community Care\, 1101 N. Central Ave.\, Phoenix\, AZ\, 85004\, United States
END:VEVENT
BEGIN:VEVENT
DTSTART;TZID=UTC:20260916T110000
DTEND;TZID=UTC:20260916T120000
DTSTAMP:20260422T104041
CREATED:20250814T202409Z
LAST-MODIFIED:20250814T202515Z
UID:10002420-1789556400-1789560000@prismacare.org
SUMMARY:MINDFUL RECOVERY
DESCRIPTION:A holistic approach that integrates mindfulness practices to support recovery from addiction\, stress\, or other mental health challenges. Here are some key aspects of mindful recovery: \n\nStress managements\nSubstance use intervention\nMindfulness\nRelapse prevention\n\n 
URL:https://prismacare.org/event/mindful-recovery-2/2026-09-16/
LOCATION:Prisma Community Care\, 1101 N. Central Ave.\, Phoenix\, AZ\, 85004\, United States
END:VEVENT
BEGIN:VEVENT
DTSTART;TZID=UTC:20260923T110000
DTEND;TZID=UTC:20260923T120000
DTSTAMP:20260422T104041
CREATED:20250814T202409Z
LAST-MODIFIED:20250814T202515Z
UID:10002421-1790161200-1790164800@prismacare.org
SUMMARY:MINDFUL RECOVERY
DESCRIPTION:A holistic approach that integrates mindfulness practices to support recovery from addiction\, stress\, or other mental health challenges. Here are some key aspects of mindful recovery: \n\nStress managements\nSubstance use intervention\nMindfulness\nRelapse prevention\n\n 
URL:https://prismacare.org/event/mindful-recovery-2/2026-09-23/
LOCATION:Prisma Community Care\, 1101 N. Central Ave.\, Phoenix\, AZ\, 85004\, United States
END:VEVENT
BEGIN:VEVENT
DTSTART;TZID=UTC:20260930T110000
DTEND;TZID=UTC:20260930T120000
DTSTAMP:20260422T104041
CREATED:20250814T202409Z
LAST-MODIFIED:20250814T202515Z
UID:10002422-1790766000-1790769600@prismacare.org
SUMMARY:MINDFUL RECOVERY
DESCRIPTION:A holistic approach that integrates mindfulness practices to support recovery from addiction\, stress\, or other mental health challenges. Here are some key aspects of mindful recovery: \n\nStress managements\nSubstance use intervention\nMindfulness\nRelapse prevention\n\n 
URL:https://prismacare.org/event/mindful-recovery-2/2026-09-30/
LOCATION:Prisma Community Care\, 1101 N. Central Ave.\, Phoenix\, AZ\, 85004\, United States
END:VEVENT
BEGIN:VEVENT
DTSTART;TZID=UTC:20261007T110000
DTEND;TZID=UTC:20261007T120000
DTSTAMP:20260422T104041
CREATED:20250814T202409Z
LAST-MODIFIED:20250814T202515Z
UID:10002423-1791370800-1791374400@prismacare.org
SUMMARY:MINDFUL RECOVERY
DESCRIPTION:A holistic approach that integrates mindfulness practices to support recovery from addiction\, stress\, or other mental health challenges. Here are some key aspects of mindful recovery: \n\nStress managements\nSubstance use intervention\nMindfulness\nRelapse prevention\n\n 
URL:https://prismacare.org/event/mindful-recovery-2/2026-10-07/
LOCATION:Prisma Community Care\, 1101 N. Central Ave.\, Phoenix\, AZ\, 85004\, United States
END:VEVENT
BEGIN:VEVENT
DTSTART;TZID=UTC:20261014T110000
DTEND;TZID=UTC:20261014T120000
DTSTAMP:20260422T104041
CREATED:20250814T202409Z
LAST-MODIFIED:20250814T202515Z
UID:10002424-1791975600-1791979200@prismacare.org
SUMMARY:MINDFUL RECOVERY
DESCRIPTION:A holistic approach that integrates mindfulness practices to support recovery from addiction\, stress\, or other mental health challenges. Here are some key aspects of mindful recovery: \n\nStress managements\nSubstance use intervention\nMindfulness\nRelapse prevention\n\n 
URL:https://prismacare.org/event/mindful-recovery-2/2026-10-14/
LOCATION:Prisma Community Care\, 1101 N. Central Ave.\, Phoenix\, AZ\, 85004\, United States
END:VEVENT
BEGIN:VEVENT
DTSTART;TZID=UTC:20261021T110000
DTEND;TZID=UTC:20261021T120000
DTSTAMP:20260422T104041
CREATED:20250814T202409Z
LAST-MODIFIED:20250814T202515Z
UID:10002425-1792580400-1792584000@prismacare.org
SUMMARY:MINDFUL RECOVERY
DESCRIPTION:A holistic approach that integrates mindfulness practices to support recovery from addiction\, stress\, or other mental health challenges. Here are some key aspects of mindful recovery: \n\nStress managements\nSubstance use intervention\nMindfulness\nRelapse prevention\n\n 
URL:https://prismacare.org/event/mindful-recovery-2/2026-10-21/
LOCATION:Prisma Community Care\, 1101 N. Central Ave.\, Phoenix\, AZ\, 85004\, United States
END:VEVENT
BEGIN:VEVENT
DTSTART;TZID=UTC:20261028T110000
DTEND;TZID=UTC:20261028T120000
DTSTAMP:20260422T104041
CREATED:20250814T202409Z
LAST-MODIFIED:20250814T202515Z
UID:10002426-1793185200-1793188800@prismacare.org
SUMMARY:MINDFUL RECOVERY
DESCRIPTION:A holistic approach that integrates mindfulness practices to support recovery from addiction\, stress\, or other mental health challenges. Here are some key aspects of mindful recovery: \n\nStress managements\nSubstance use intervention\nMindfulness\nRelapse prevention\n\n 
URL:https://prismacare.org/event/mindful-recovery-2/2026-10-28/
LOCATION:Prisma Community Care\, 1101 N. Central Ave.\, Phoenix\, AZ\, 85004\, United States
END:VEVENT
BEGIN:VEVENT
DTSTART;TZID=UTC:20261104T110000
DTEND;TZID=UTC:20261104T120000
DTSTAMP:20260422T104041
CREATED:20250814T202409Z
LAST-MODIFIED:20250814T202515Z
UID:10002427-1793790000-1793793600@prismacare.org
SUMMARY:MINDFUL RECOVERY
DESCRIPTION:A holistic approach that integrates mindfulness practices to support recovery from addiction\, stress\, or other mental health challenges. Here are some key aspects of mindful recovery: \n\nStress managements\nSubstance use intervention\nMindfulness\nRelapse prevention\n\n 
URL:https://prismacare.org/event/mindful-recovery-2/2026-11-04/
LOCATION:Prisma Community Care\, 1101 N. Central Ave.\, Phoenix\, AZ\, 85004\, United States
END:VEVENT
BEGIN:VEVENT
DTSTART;TZID=UTC:20261111T110000
DTEND;TZID=UTC:20261111T120000
DTSTAMP:20260422T104041
CREATED:20250814T202409Z
LAST-MODIFIED:20250814T202515Z
UID:10002428-1794394800-1794398400@prismacare.org
SUMMARY:MINDFUL RECOVERY
DESCRIPTION:A holistic approach that integrates mindfulness practices to support recovery from addiction\, stress\, or other mental health challenges. Here are some key aspects of mindful recovery: \n\nStress managements\nSubstance use intervention\nMindfulness\nRelapse prevention\n\n 
URL:https://prismacare.org/event/mindful-recovery-2/2026-11-11/
LOCATION:Prisma Community Care\, 1101 N. Central Ave.\, Phoenix\, AZ\, 85004\, United States
END:VEVENT
END:VCALENDAR