BEGIN:VCALENDAR
VERSION:2.0
PRODID:-//Prisma Community Care - ECPv6.10.2//NONSGML v1.0//EN
CALSCALE:GREGORIAN
METHOD:PUBLISH
X-WR-CALNAME:Prisma Community Care
X-ORIGINAL-URL:https://prismacare.org
X-WR-CALDESC:Events for Prisma Community Care
REFRESH-INTERVAL;VALUE=DURATION:PT1H
X-Robots-Tag:noindex
X-PUBLISHED-TTL:PT1H
BEGIN:VTIMEZONE
TZID:UTC
BEGIN:STANDARD
TZOFFSETFROM:+0000
TZOFFSETTO:+0000
TZNAME:UTC
DTSTART:20250101T000000
END:STANDARD
END:VTIMEZONE
BEGIN:VEVENT
DTSTART;TZID=UTC:20260115T130000
DTEND;TZID=UTC:20260115T140000
DTSTAMP:20260422T085047
CREATED:20250808T180926Z
LAST-MODIFIED:20250808T180926Z
UID:10001874-1768482000-1768485600@prismacare.org
SUMMARY:Recovery Unlocked Group
DESCRIPTION:Available to Prisma patients. \nDiscover a supportive space to explore how substance use affects the body and mind. \nThis group provides tools to navigate substance dependency and addiction\, while encouraging each person to explore healthy paths to recovery. \nWhere: 1101 North Central Ave\, Ste. 200\, Phoenix AZ\, 85004. (Safe Space) \nWhen: Tuesdays from 11am – 12pm and Thursdays from 1pm – 2pm \nContact: charisma.meadows@prismacare.org | 602.595.8140 \nskyler.jorgensen@prismacare.org | 602.595.5615
URL:https://prismacare.org/event/recovery-unlocked-group-3/2026-01-15/
LOCATION:Prisma Community Care\, 1101 N. Central Ave.\, Phoenix\, AZ\, 85004\, United States
ORGANIZER;CN="Prisma Community Care":MAILTO:contactus@prismacare.org
END:VEVENT
BEGIN:VEVENT
DTSTART;TZID=UTC:20260114T110000
DTEND;TZID=UTC:20260114T120000
DTSTAMP:20260422T085047
CREATED:20250814T202409Z
LAST-MODIFIED:20250814T202515Z
UID:10002385-1768388400-1768392000@prismacare.org
SUMMARY:MINDFUL RECOVERY
DESCRIPTION:A holistic approach that integrates mindfulness practices to support recovery from addiction\, stress\, or other mental health challenges. Here are some key aspects of mindful recovery: \n\nStress managements\nSubstance use intervention\nMindfulness\nRelapse prevention\n\n 
URL:https://prismacare.org/event/mindful-recovery-2/2026-01-14/
LOCATION:Prisma Community Care\, 1101 N. Central Ave.\, Phoenix\, AZ\, 85004\, United States
END:VEVENT
BEGIN:VEVENT
DTSTART;TZID=UTC:20260114T110000
DTEND;TZID=UTC:20260114T120000
DTSTAMP:20260422T085047
CREATED:20250212T203759Z
LAST-MODIFIED:20250811T181103Z
UID:10001099-1768388400-1768392000@prismacare.org
SUMMARY:Self Awareness Group
DESCRIPTION:Available to Prisma patients. \nA laid back\, eclectic\, and a safe space for clients to come to every week to connect through healing. \nWhere: 1101 North Central Ave\, Ste. 200\, Phoenix AZ\, 85004. \nWhen: Wednesdays from 11 am to 12pm \nContact: charisma.meadows@prismacare.org\n602.595.8140 \n  \n 
URL:https://prismacare.org/event/self-awarness-group/2026-01-14/
LOCATION:Prisma Community Care\, 1101 N. Central Ave.\, Phoenix\, AZ\, 85004\, United States
END:VEVENT
BEGIN:VEVENT
DTSTART;TZID=UTC:20260114T080000
DTEND;TZID=UTC:20260114T110000
DTSTAMP:20260422T085047
CREATED:20260105T165105Z
LAST-MODIFIED:20260105T165105Z
UID:10002642-1768377600-1768388400@prismacare.org
SUMMARY:Social Spin
DESCRIPTION:Social Spin Laundromat is a community organization that focuses on providing accessible and affordable laundry services. Prisma provides no cost HIV testing\, community resources\, hygiene items and linkages to primary care services every second Wednesday of the month.
URL:https://prismacare.org/event/social-spin-3/
LOCATION:Social Spin Laundromat\, 2418 e portland st.\, AZ\, United States
END:VEVENT
BEGIN:VEVENT
DTSTART;TZID=UTC:20260113T110000
DTEND;TZID=UTC:20260115T120000
DTSTAMP:20260422T085047
CREATED:20250801T192704Z
LAST-MODIFIED:20250808T180725Z
UID:10001545-1768302000-1768478400@prismacare.org
SUMMARY:Recovery Unlocked Group
DESCRIPTION:Available to Prisma patients. \nDiscover a supportive space to explore how substance use affects the body and mind. \nThis group provides tools to navigate substance dependency and addiction\, while encouraging each person to explore healthy paths to recovery. \nWhere: 1101 North Central Ave\, Ste. 200\, Phoenix AZ\, 85004. (Safe Space) \nWhen: Tuesdays from 11am – 12pm and Thursdays from 1pm – 2pm \nContact: charisma.meadows@prismacare.org | 602.595.8140 \nskyler.jorgensen@prismacare.org | 602.595.5615
URL:https://prismacare.org/event/recovery-unlocked-group/2026-01-13/
LOCATION:Prisma Community Care\, 1101 N. Central Ave.\, Phoenix\, AZ\, 85004\, United States
ORGANIZER;CN="Prisma Community Care":MAILTO:contactus@prismacare.org
END:VEVENT
BEGIN:VEVENT
DTSTART;TZID=UTC:20260109T100000
DTEND;TZID=UTC:20260109T120000
DTSTAMP:20260422T085048
CREATED:20250813T190912Z
LAST-MODIFIED:20250813T190912Z
UID:10002328-1767952800-1767960000@prismacare.org
SUMMARY:Creative Collage in Art Therapy
DESCRIPTION:Available to Prisma Patients. \nThis workshop introduces collage-making as a therapeutic tool\, offering an accessible starting point for those hesitant about making art. Participants will explore its uses in therapy\, get practical setup tips\, and create collages in a relaxed group setting. Each session\, a facilitator will introduce a new lesson on nervous system regulation blending DBT skills\, somatic practices\, and polyvagal theory insights. \n\n\n\nWhere: 1101 North Central Ave\, Ste. 200\, Phoenix AZ\, 85004. (The Safe Space) \n\n\nWhen: Fridays 10:00 a.m. – 12:00 p.m | August 22 – September 15\, 2025 \nContact: eden.gillund@prismacare.org OR mallory.waldrop@prismacare.org
URL:https://prismacare.org/event/creative-collage-in-art-therapy/2026-01-09/
END:VEVENT
BEGIN:VEVENT
DTSTART;TZID=UTC:20260108T130000
DTEND;TZID=UTC:20260108T140000
DTSTAMP:20260422T085048
CREATED:20250808T180926Z
LAST-MODIFIED:20250808T180926Z
UID:10001873-1767877200-1767880800@prismacare.org
SUMMARY:Recovery Unlocked Group
DESCRIPTION:Available to Prisma patients. \nDiscover a supportive space to explore how substance use affects the body and mind. \nThis group provides tools to navigate substance dependency and addiction\, while encouraging each person to explore healthy paths to recovery. \nWhere: 1101 North Central Ave\, Ste. 200\, Phoenix AZ\, 85004. (Safe Space) \nWhen: Tuesdays from 11am – 12pm and Thursdays from 1pm – 2pm \nContact: charisma.meadows@prismacare.org | 602.595.8140 \nskyler.jorgensen@prismacare.org | 602.595.5615
URL:https://prismacare.org/event/recovery-unlocked-group-3/2026-01-08/
LOCATION:Prisma Community Care\, 1101 N. Central Ave.\, Phoenix\, AZ\, 85004\, United States
ORGANIZER;CN="Prisma Community Care":MAILTO:contactus@prismacare.org
END:VEVENT
BEGIN:VEVENT
DTSTART;TZID=UTC:20260107T163000
DTEND;TZID=UTC:20260107T173000
DTSTAMP:20260422T085048
CREATED:20250808T210223Z
LAST-MODIFIED:20251201T184044Z
UID:10002194-1767803400-1767807000@prismacare.org
SUMMARY:Dungeons and Dragons (Ages 8-12)
DESCRIPTION:A welcoming space where children can explore and work through difficult emotions using narrative therapy. \nWith guidance from therapists\, children come together to create imaginative worlds that reflect their own life experiences. Even though these adventures happen in make-believe settings\, the growth and positive changes are very real. \n(Ages 8-12) \nWhere: 1101 North Central Ave\, Ste. 200\, Phoenix AZ\, 85004. \nWhen: Wednesdays from 4:30pm to 5:30pm. \nContact: cherron.dunn@prismacare.org
URL:https://prismacare.org/event/dungeons-and-dragons-ages-8-12/2026-01-07/
END:VEVENT
BEGIN:VEVENT
DTSTART;TZID=UTC:20260107T110000
DTEND;TZID=UTC:20260107T120000
DTSTAMP:20260422T085048
CREATED:20250814T202409Z
LAST-MODIFIED:20250814T202515Z
UID:10002384-1767783600-1767787200@prismacare.org
SUMMARY:MINDFUL RECOVERY
DESCRIPTION:A holistic approach that integrates mindfulness practices to support recovery from addiction\, stress\, or other mental health challenges. Here are some key aspects of mindful recovery: \n\nStress managements\nSubstance use intervention\nMindfulness\nRelapse prevention\n\n 
URL:https://prismacare.org/event/mindful-recovery-2/2026-01-07/
LOCATION:Prisma Community Care\, 1101 N. Central Ave.\, Phoenix\, AZ\, 85004\, United States
END:VEVENT
BEGIN:VEVENT
DTSTART;TZID=UTC:20260107T110000
DTEND;TZID=UTC:20260107T120000
DTSTAMP:20260422T085048
CREATED:20250212T203759Z
LAST-MODIFIED:20250811T181103Z
UID:10001098-1767783600-1767787200@prismacare.org
SUMMARY:Self Awareness Group
DESCRIPTION:Available to Prisma patients. \nA laid back\, eclectic\, and a safe space for clients to come to every week to connect through healing. \nWhere: 1101 North Central Ave\, Ste. 200\, Phoenix AZ\, 85004. \nWhen: Wednesdays from 11 am to 12pm \nContact: charisma.meadows@prismacare.org\n602.595.8140 \n  \n 
URL:https://prismacare.org/event/self-awarness-group/2026-01-07/
LOCATION:Prisma Community Care\, 1101 N. Central Ave.\, Phoenix\, AZ\, 85004\, United States
END:VEVENT
BEGIN:VEVENT
DTSTART;TZID=UTC:20260106T160000
DTEND;TZID=UTC:20260106T173000
DTSTAMP:20260422T085048
CREATED:20250801T191645Z
LAST-MODIFIED:20251201T184121Z
UID:10001500-1767715200-1767720600@prismacare.org
SUMMARY:ADULT GAME GROUP
DESCRIPTION:Available to Prisma Patients. \nIn this weekly group\, connect with other adults through team-building board and card games designed to foster meaningful connection and interaction. \nGames will be both familiar and new\, encouraging thoughtful conversation to build emotional awareness and reduce social anxiety and negative self-talk. \nWhere: 1101 North Central Ave\, Ste. 200\, Phoenix AZ\, 85004. (BH Group Room) \nWhen: Tuesdays from 4pm – 5:30pm \nContact: lili.gutierrez@prismacare.org \n 
URL:https://prismacare.org/event/adult-game-group/2026-01-06/
LOCATION:Prisma Community Care\, 1101 N. Central Ave.\, Phoenix\, AZ\, 85004\, United States
ORGANIZER;CN="Prisma Community Care":MAILTO:contactus@prismacare.org
END:VEVENT
BEGIN:VEVENT
DTSTART;TZID=UTC:20260106T110000
DTEND;TZID=UTC:20260108T120000
DTSTAMP:20260422T085048
CREATED:20250801T192704Z
LAST-MODIFIED:20250808T180725Z
UID:10001544-1767697200-1767873600@prismacare.org
SUMMARY:Recovery Unlocked Group
DESCRIPTION:Available to Prisma patients. \nDiscover a supportive space to explore how substance use affects the body and mind. \nThis group provides tools to navigate substance dependency and addiction\, while encouraging each person to explore healthy paths to recovery. \nWhere: 1101 North Central Ave\, Ste. 200\, Phoenix AZ\, 85004. (Safe Space) \nWhen: Tuesdays from 11am – 12pm and Thursdays from 1pm – 2pm \nContact: charisma.meadows@prismacare.org | 602.595.8140 \nskyler.jorgensen@prismacare.org | 602.595.5615
URL:https://prismacare.org/event/recovery-unlocked-group/2026-01-06/
LOCATION:Prisma Community Care\, 1101 N. Central Ave.\, Phoenix\, AZ\, 85004\, United States
ORGANIZER;CN="Prisma Community Care":MAILTO:contactus@prismacare.org
END:VEVENT
BEGIN:VEVENT
DTSTART;TZID=UTC:20260102T100000
DTEND;TZID=UTC:20260102T120000
DTSTAMP:20260422T085048
CREATED:20250813T190912Z
LAST-MODIFIED:20250813T190912Z
UID:10002327-1767348000-1767355200@prismacare.org
SUMMARY:Creative Collage in Art Therapy
DESCRIPTION:Available to Prisma Patients. \nThis workshop introduces collage-making as a therapeutic tool\, offering an accessible starting point for those hesitant about making art. Participants will explore its uses in therapy\, get practical setup tips\, and create collages in a relaxed group setting. Each session\, a facilitator will introduce a new lesson on nervous system regulation blending DBT skills\, somatic practices\, and polyvagal theory insights. \n\n\n\nWhere: 1101 North Central Ave\, Ste. 200\, Phoenix AZ\, 85004. (The Safe Space) \n\n\nWhen: Fridays 10:00 a.m. – 12:00 p.m | August 22 – September 15\, 2025 \nContact: eden.gillund@prismacare.org OR mallory.waldrop@prismacare.org
URL:https://prismacare.org/event/creative-collage-in-art-therapy/2026-01-02/
END:VEVENT
BEGIN:VEVENT
DTSTART;TZID=UTC:20260101T163000
DTEND;TZID=UTC:20260101T183000
DTSTAMP:20260422T085048
CREATED:20250801T194731Z
LAST-MODIFIED:20250801T194731Z
UID:10001805-1767285000-1767292200@prismacare.org
SUMMARY:Art Therapy Group
DESCRIPTION:Available for Prisma patients. \nIn this weekly clay workshop\, discover how working with clay can calm the mind\, encourage self-reflection\, and build coping skills. \nEach session offers a new mindfulness prompt to build emotional awareness and manage stress. \nWhere: 1101 North Central Ave\, Ste. 200\, Phoenix AZ\, 85004. (The Safe Space) \nWhen: Every Thursday from 4:30 p.m.-6:30 p.m. \nContact: eden.gillund@prismacare.org\nmallory.waldrop@prismacare.org
URL:https://prismacare.org/event/art-therapy-group/2026-01-01/
LOCATION:Prisma Community Care\, 1101 N. Central Ave.\, Phoenix\, AZ\, 85004\, United States
ORGANIZER;CN="Prisma Community Care":MAILTO:contactus@prismacare.org
END:VEVENT
BEGIN:VEVENT
DTSTART;TZID=UTC:20260101T130000
DTEND;TZID=UTC:20260101T140000
DTSTAMP:20260422T085048
CREATED:20250808T180926Z
LAST-MODIFIED:20250808T180926Z
UID:10001872-1767272400-1767276000@prismacare.org
SUMMARY:Recovery Unlocked Group
DESCRIPTION:Available to Prisma patients. \nDiscover a supportive space to explore how substance use affects the body and mind. \nThis group provides tools to navigate substance dependency and addiction\, while encouraging each person to explore healthy paths to recovery. \nWhere: 1101 North Central Ave\, Ste. 200\, Phoenix AZ\, 85004. (Safe Space) \nWhen: Tuesdays from 11am – 12pm and Thursdays from 1pm – 2pm \nContact: charisma.meadows@prismacare.org | 602.595.8140 \nskyler.jorgensen@prismacare.org | 602.595.5615
URL:https://prismacare.org/event/recovery-unlocked-group-3/2026-01-01/
LOCATION:Prisma Community Care\, 1101 N. Central Ave.\, Phoenix\, AZ\, 85004\, United States
ORGANIZER;CN="Prisma Community Care":MAILTO:contactus@prismacare.org
END:VEVENT
BEGIN:VEVENT
DTSTART;TZID=UTC:20251231T163000
DTEND;TZID=UTC:20251231T173000
DTSTAMP:20260422T085048
CREATED:20250808T210223Z
LAST-MODIFIED:20251201T184044Z
UID:10002193-1767198600-1767202200@prismacare.org
SUMMARY:Dungeons and Dragons (Ages 8-12)
DESCRIPTION:A welcoming space where children can explore and work through difficult emotions using narrative therapy. \nWith guidance from therapists\, children come together to create imaginative worlds that reflect their own life experiences. Even though these adventures happen in make-believe settings\, the growth and positive changes are very real. \n(Ages 8-12) \nWhere: 1101 North Central Ave\, Ste. 200\, Phoenix AZ\, 85004. \nWhen: Wednesdays from 4:30pm to 5:30pm. \nContact: cherron.dunn@prismacare.org
URL:https://prismacare.org/event/dungeons-and-dragons-ages-8-12/2025-12-31/
END:VEVENT
BEGIN:VEVENT
DTSTART;TZID=UTC:20251231T110000
DTEND;TZID=UTC:20251231T120000
DTSTAMP:20260422T085048
CREATED:20250814T202409Z
LAST-MODIFIED:20250814T202515Z
UID:10002383-1767178800-1767182400@prismacare.org
SUMMARY:MINDFUL RECOVERY
DESCRIPTION:A holistic approach that integrates mindfulness practices to support recovery from addiction\, stress\, or other mental health challenges. Here are some key aspects of mindful recovery: \n\nStress managements\nSubstance use intervention\nMindfulness\nRelapse prevention\n\n 
URL:https://prismacare.org/event/mindful-recovery-2/2025-12-31/
LOCATION:Prisma Community Care\, 1101 N. Central Ave.\, Phoenix\, AZ\, 85004\, United States
END:VEVENT
BEGIN:VEVENT
DTSTART;TZID=UTC:20251231T110000
DTEND;TZID=UTC:20251231T120000
DTSTAMP:20260422T085048
CREATED:20250212T203759Z
LAST-MODIFIED:20250811T181103Z
UID:10001097-1767178800-1767182400@prismacare.org
SUMMARY:Self Awareness Group
DESCRIPTION:Available to Prisma patients. \nA laid back\, eclectic\, and a safe space for clients to come to every week to connect through healing. \nWhere: 1101 North Central Ave\, Ste. 200\, Phoenix AZ\, 85004. \nWhen: Wednesdays from 11 am to 12pm \nContact: charisma.meadows@prismacare.org\n602.595.8140 \n  \n 
URL:https://prismacare.org/event/self-awarness-group/2025-12-31/
LOCATION:Prisma Community Care\, 1101 N. Central Ave.\, Phoenix\, AZ\, 85004\, United States
END:VEVENT
BEGIN:VEVENT
DTSTART;TZID=UTC:20251230T173000
DTEND;TZID=UTC:20251230T190000
DTSTAMP:20260422T085048
CREATED:20250808T205251Z
LAST-MODIFIED:20250808T205251Z
UID:10002117-1767115800-1767121200@prismacare.org
SUMMARY:Positive Living Group
DESCRIPTION:Available to Prisma Patients. \nPositive Living is a welcoming\, judgment-free space for people living with HIV to connect\, share\, and grow. Through peer support\, open discussions\, and educational resources\, this group explores health\, wellness\, relationships\, and personal growth in a safe\, respectful\, and confidential environment. \nWhether you’re newly diagnosed or have been living with HIV for years\, Positive Living offers a safe space to be heard\, understood\, and inspired. \n\n\nWhere: 1101 North Central Ave\, Ste. 200\, Phoenix AZ\, 85004. \n\n\nWhen: Last Tuesday of every month. 5:30 pm – 7 pm \nContact: christopher.carrillo@prismacare.org
URL:https://prismacare.org/event/positive-living-group/2025-12-30/
END:VEVENT
BEGIN:VEVENT
DTSTART;TZID=UTC:20251230T160000
DTEND;TZID=UTC:20251230T173000
DTSTAMP:20260422T085048
CREATED:20250801T191645Z
LAST-MODIFIED:20251201T184121Z
UID:10001499-1767110400-1767115800@prismacare.org
SUMMARY:ADULT GAME GROUP
DESCRIPTION:Available to Prisma Patients. \nIn this weekly group\, connect with other adults through team-building board and card games designed to foster meaningful connection and interaction. \nGames will be both familiar and new\, encouraging thoughtful conversation to build emotional awareness and reduce social anxiety and negative self-talk. \nWhere: 1101 North Central Ave\, Ste. 200\, Phoenix AZ\, 85004. (BH Group Room) \nWhen: Tuesdays from 4pm – 5:30pm \nContact: lili.gutierrez@prismacare.org \n 
URL:https://prismacare.org/event/adult-game-group/2025-12-30/
LOCATION:Prisma Community Care\, 1101 N. Central Ave.\, Phoenix\, AZ\, 85004\, United States
ORGANIZER;CN="Prisma Community Care":MAILTO:contactus@prismacare.org
END:VEVENT
BEGIN:VEVENT
DTSTART;TZID=UTC:20251230T110000
DTEND;TZID=UTC:20260101T120000
DTSTAMP:20260422T085048
CREATED:20250801T192704Z
LAST-MODIFIED:20250808T180725Z
UID:10001543-1767092400-1767268800@prismacare.org
SUMMARY:Recovery Unlocked Group
DESCRIPTION:Available to Prisma patients. \nDiscover a supportive space to explore how substance use affects the body and mind. \nThis group provides tools to navigate substance dependency and addiction\, while encouraging each person to explore healthy paths to recovery. \nWhere: 1101 North Central Ave\, Ste. 200\, Phoenix AZ\, 85004. (Safe Space) \nWhen: Tuesdays from 11am – 12pm and Thursdays from 1pm – 2pm \nContact: charisma.meadows@prismacare.org | 602.595.8140 \nskyler.jorgensen@prismacare.org | 602.595.5615
URL:https://prismacare.org/event/recovery-unlocked-group/2025-12-30/
LOCATION:Prisma Community Care\, 1101 N. Central Ave.\, Phoenix\, AZ\, 85004\, United States
ORGANIZER;CN="Prisma Community Care":MAILTO:contactus@prismacare.org
END:VEVENT
BEGIN:VEVENT
DTSTART;TZID=UTC:20251226T100000
DTEND;TZID=UTC:20251226T120000
DTSTAMP:20260422T085048
CREATED:20250813T190912Z
LAST-MODIFIED:20250813T190912Z
UID:10002326-1766743200-1766750400@prismacare.org
SUMMARY:Creative Collage in Art Therapy
DESCRIPTION:Available to Prisma Patients. \nThis workshop introduces collage-making as a therapeutic tool\, offering an accessible starting point for those hesitant about making art. Participants will explore its uses in therapy\, get practical setup tips\, and create collages in a relaxed group setting. Each session\, a facilitator will introduce a new lesson on nervous system regulation blending DBT skills\, somatic practices\, and polyvagal theory insights. \n\n\n\nWhere: 1101 North Central Ave\, Ste. 200\, Phoenix AZ\, 85004. (The Safe Space) \n\n\nWhen: Fridays 10:00 a.m. – 12:00 p.m | August 22 – September 15\, 2025 \nContact: eden.gillund@prismacare.org OR mallory.waldrop@prismacare.org
URL:https://prismacare.org/event/creative-collage-in-art-therapy/2025-12-26/
END:VEVENT
BEGIN:VEVENT
DTSTART;TZID=UTC:20251225T163000
DTEND;TZID=UTC:20251225T183000
DTSTAMP:20260422T085048
CREATED:20250801T194731Z
LAST-MODIFIED:20250801T194731Z
UID:10001804-1766680200-1766687400@prismacare.org
SUMMARY:Art Therapy Group
DESCRIPTION:Available for Prisma patients. \nIn this weekly clay workshop\, discover how working with clay can calm the mind\, encourage self-reflection\, and build coping skills. \nEach session offers a new mindfulness prompt to build emotional awareness and manage stress. \nWhere: 1101 North Central Ave\, Ste. 200\, Phoenix AZ\, 85004. (The Safe Space) \nWhen: Every Thursday from 4:30 p.m.-6:30 p.m. \nContact: eden.gillund@prismacare.org\nmallory.waldrop@prismacare.org
URL:https://prismacare.org/event/art-therapy-group/2025-12-25/
LOCATION:Prisma Community Care\, 1101 N. Central Ave.\, Phoenix\, AZ\, 85004\, United States
ORGANIZER;CN="Prisma Community Care":MAILTO:contactus@prismacare.org
END:VEVENT
BEGIN:VEVENT
DTSTART;TZID=UTC:20251225T130000
DTEND;TZID=UTC:20251225T140000
DTSTAMP:20260422T085048
CREATED:20250808T180926Z
LAST-MODIFIED:20250808T180926Z
UID:10001871-1766667600-1766671200@prismacare.org
SUMMARY:Recovery Unlocked Group
DESCRIPTION:Available to Prisma patients. \nDiscover a supportive space to explore how substance use affects the body and mind. \nThis group provides tools to navigate substance dependency and addiction\, while encouraging each person to explore healthy paths to recovery. \nWhere: 1101 North Central Ave\, Ste. 200\, Phoenix AZ\, 85004. (Safe Space) \nWhen: Tuesdays from 11am – 12pm and Thursdays from 1pm – 2pm \nContact: charisma.meadows@prismacare.org | 602.595.8140 \nskyler.jorgensen@prismacare.org | 602.595.5615
URL:https://prismacare.org/event/recovery-unlocked-group-3/2025-12-25/
LOCATION:Prisma Community Care\, 1101 N. Central Ave.\, Phoenix\, AZ\, 85004\, United States
ORGANIZER;CN="Prisma Community Care":MAILTO:contactus@prismacare.org
END:VEVENT
BEGIN:VEVENT
DTSTART;TZID=UTC:20251224T163000
DTEND;TZID=UTC:20251224T173000
DTSTAMP:20260422T085048
CREATED:20250808T210223Z
LAST-MODIFIED:20251201T184044Z
UID:10002192-1766593800-1766597400@prismacare.org
SUMMARY:Dungeons and Dragons (Ages 8-12)
DESCRIPTION:A welcoming space where children can explore and work through difficult emotions using narrative therapy. \nWith guidance from therapists\, children come together to create imaginative worlds that reflect their own life experiences. Even though these adventures happen in make-believe settings\, the growth and positive changes are very real. \n(Ages 8-12) \nWhere: 1101 North Central Ave\, Ste. 200\, Phoenix AZ\, 85004. \nWhen: Wednesdays from 4:30pm to 5:30pm. \nContact: cherron.dunn@prismacare.org
URL:https://prismacare.org/event/dungeons-and-dragons-ages-8-12/2025-12-24/
END:VEVENT
BEGIN:VEVENT
DTSTART;TZID=UTC:20251224T110000
DTEND;TZID=UTC:20251224T120000
DTSTAMP:20260422T085048
CREATED:20250814T202409Z
LAST-MODIFIED:20250814T202515Z
UID:10002382-1766574000-1766577600@prismacare.org
SUMMARY:MINDFUL RECOVERY
DESCRIPTION:A holistic approach that integrates mindfulness practices to support recovery from addiction\, stress\, or other mental health challenges. Here are some key aspects of mindful recovery: \n\nStress managements\nSubstance use intervention\nMindfulness\nRelapse prevention\n\n 
URL:https://prismacare.org/event/mindful-recovery-2/2025-12-24/
LOCATION:Prisma Community Care\, 1101 N. Central Ave.\, Phoenix\, AZ\, 85004\, United States
END:VEVENT
BEGIN:VEVENT
DTSTART;TZID=UTC:20251224T110000
DTEND;TZID=UTC:20251224T120000
DTSTAMP:20260422T085048
CREATED:20250212T203759Z
LAST-MODIFIED:20250811T181103Z
UID:10001096-1766574000-1766577600@prismacare.org
SUMMARY:Self Awareness Group
DESCRIPTION:Available to Prisma patients. \nA laid back\, eclectic\, and a safe space for clients to come to every week to connect through healing. \nWhere: 1101 North Central Ave\, Ste. 200\, Phoenix AZ\, 85004. \nWhen: Wednesdays from 11 am to 12pm \nContact: charisma.meadows@prismacare.org\n602.595.8140 \n  \n 
URL:https://prismacare.org/event/self-awarness-group/2025-12-24/
LOCATION:Prisma Community Care\, 1101 N. Central Ave.\, Phoenix\, AZ\, 85004\, United States
END:VEVENT
BEGIN:VEVENT
DTSTART;TZID=UTC:20251223T160000
DTEND;TZID=UTC:20251223T173000
DTSTAMP:20260422T085048
CREATED:20250801T191645Z
LAST-MODIFIED:20251201T184121Z
UID:10001498-1766505600-1766511000@prismacare.org
SUMMARY:ADULT GAME GROUP
DESCRIPTION:Available to Prisma Patients. \nIn this weekly group\, connect with other adults through team-building board and card games designed to foster meaningful connection and interaction. \nGames will be both familiar and new\, encouraging thoughtful conversation to build emotional awareness and reduce social anxiety and negative self-talk. \nWhere: 1101 North Central Ave\, Ste. 200\, Phoenix AZ\, 85004. (BH Group Room) \nWhen: Tuesdays from 4pm – 5:30pm \nContact: lili.gutierrez@prismacare.org \n 
URL:https://prismacare.org/event/adult-game-group/2025-12-23/
LOCATION:Prisma Community Care\, 1101 N. Central Ave.\, Phoenix\, AZ\, 85004\, United States
ORGANIZER;CN="Prisma Community Care":MAILTO:contactus@prismacare.org
END:VEVENT
BEGIN:VEVENT
DTSTART;TZID=UTC:20251223T110000
DTEND;TZID=UTC:20251225T120000
DTSTAMP:20260422T085048
CREATED:20250801T192704Z
LAST-MODIFIED:20250808T180725Z
UID:10001542-1766487600-1766664000@prismacare.org
SUMMARY:Recovery Unlocked Group
DESCRIPTION:Available to Prisma patients. \nDiscover a supportive space to explore how substance use affects the body and mind. \nThis group provides tools to navigate substance dependency and addiction\, while encouraging each person to explore healthy paths to recovery. \nWhere: 1101 North Central Ave\, Ste. 200\, Phoenix AZ\, 85004. (Safe Space) \nWhen: Tuesdays from 11am – 12pm and Thursdays from 1pm – 2pm \nContact: charisma.meadows@prismacare.org | 602.595.8140 \nskyler.jorgensen@prismacare.org | 602.595.5615
URL:https://prismacare.org/event/recovery-unlocked-group/2025-12-23/
LOCATION:Prisma Community Care\, 1101 N. Central Ave.\, Phoenix\, AZ\, 85004\, United States
ORGANIZER;CN="Prisma Community Care":MAILTO:contactus@prismacare.org
END:VEVENT
BEGIN:VEVENT
DTSTART;TZID=UTC:20251219T100000
DTEND;TZID=UTC:20251219T120000
DTSTAMP:20260422T085048
CREATED:20250813T190912Z
LAST-MODIFIED:20250813T190912Z
UID:10002325-1766138400-1766145600@prismacare.org
SUMMARY:Creative Collage in Art Therapy
DESCRIPTION:Available to Prisma Patients. \nThis workshop introduces collage-making as a therapeutic tool\, offering an accessible starting point for those hesitant about making art. Participants will explore its uses in therapy\, get practical setup tips\, and create collages in a relaxed group setting. Each session\, a facilitator will introduce a new lesson on nervous system regulation blending DBT skills\, somatic practices\, and polyvagal theory insights. \n\n\n\nWhere: 1101 North Central Ave\, Ste. 200\, Phoenix AZ\, 85004. (The Safe Space) \n\n\nWhen: Fridays 10:00 a.m. – 12:00 p.m | August 22 – September 15\, 2025 \nContact: eden.gillund@prismacare.org OR mallory.waldrop@prismacare.org
URL:https://prismacare.org/event/creative-collage-in-art-therapy/2025-12-19/
END:VEVENT
END:VCALENDAR