BEGIN:VCALENDAR
VERSION:2.0
PRODID:-//Prisma Community Care - ECPv6.10.2//NONSGML v1.0//EN
CALSCALE:GREGORIAN
METHOD:PUBLISH
X-WR-CALNAME:Prisma Community Care
X-ORIGINAL-URL:https://prismacare.org
X-WR-CALDESC:Events for Prisma Community Care
REFRESH-INTERVAL;VALUE=DURATION:PT1H
X-Robots-Tag:noindex
X-PUBLISHED-TTL:PT1H
BEGIN:VTIMEZONE
TZID:UTC
BEGIN:STANDARD
TZOFFSETFROM:+0000
TZOFFSETTO:+0000
TZNAME:UTC
DTSTART:20270101T000000
END:STANDARD
END:VTIMEZONE
BEGIN:VEVENT
DTSTART;TZID=UTC:20270915T110000
DTEND;TZID=UTC:20270915T120000
DTSTAMP:20260423T051909
CREATED:20250212T203759Z
LAST-MODIFIED:20250811T181103Z
UID:10001186-1821006000-1821009600@prismacare.org
SUMMARY:Self Awareness Group
DESCRIPTION:Available to Prisma patients. \nA laid back\, eclectic\, and a safe space for clients to come to every week to connect through healing. \nWhere: 1101 North Central Ave\, Ste. 200\, Phoenix AZ\, 85004. \nWhen: Wednesdays from 11 am to 12pm \nContact: charisma.meadows@prismacare.org\n602.595.8140 \n  \n 
URL:https://prismacare.org/event/self-awarness-group/2027-09-15/
LOCATION:Prisma Community Care\, 1101 N. Central Ave.\, Phoenix\, AZ\, 85004\, United States
END:VEVENT
BEGIN:VEVENT
DTSTART;TZID=UTC:20270915T110000
DTEND;TZID=UTC:20270915T120000
DTSTAMP:20260423T051909
CREATED:20250814T202409Z
LAST-MODIFIED:20250814T202515Z
UID:10002472-1821006000-1821009600@prismacare.org
SUMMARY:MINDFUL RECOVERY
DESCRIPTION:A holistic approach that integrates mindfulness practices to support recovery from addiction\, stress\, or other mental health challenges. Here are some key aspects of mindful recovery: \n\nStress managements\nSubstance use intervention\nMindfulness\nRelapse prevention\n\n 
URL:https://prismacare.org/event/mindful-recovery-2/2027-09-15/
LOCATION:Prisma Community Care\, 1101 N. Central Ave.\, Phoenix\, AZ\, 85004\, United States
END:VEVENT
BEGIN:VEVENT
DTSTART;TZID=UTC:20270916T130000
DTEND;TZID=UTC:20270916T140000
DTSTAMP:20260423T051909
CREATED:20250808T180926Z
LAST-MODIFIED:20250808T180926Z
UID:10001961-1821099600-1821103200@prismacare.org
SUMMARY:Recovery Unlocked Group
DESCRIPTION:Available to Prisma patients. \nDiscover a supportive space to explore how substance use affects the body and mind. \nThis group provides tools to navigate substance dependency and addiction\, while encouraging each person to explore healthy paths to recovery. \nWhere: 1101 North Central Ave\, Ste. 200\, Phoenix AZ\, 85004. (Safe Space) \nWhen: Tuesdays from 11am – 12pm and Thursdays from 1pm – 2pm \nContact: charisma.meadows@prismacare.org | 602.595.8140 \nskyler.jorgensen@prismacare.org | 602.595.5615
URL:https://prismacare.org/event/recovery-unlocked-group-3/2027-09-16/
LOCATION:Prisma Community Care\, 1101 N. Central Ave.\, Phoenix\, AZ\, 85004\, United States
ORGANIZER;CN="Prisma Community Care":MAILTO:contactus@prismacare.org
END:VEVENT
BEGIN:VEVENT
DTSTART;TZID=UTC:20270921T110000
DTEND;TZID=UTC:20270923T120000
DTSTAMP:20260423T051909
CREATED:20250801T192704Z
LAST-MODIFIED:20250808T180725Z
UID:10001633-1821524400-1821700800@prismacare.org
SUMMARY:Recovery Unlocked Group
DESCRIPTION:Available to Prisma patients. \nDiscover a supportive space to explore how substance use affects the body and mind. \nThis group provides tools to navigate substance dependency and addiction\, while encouraging each person to explore healthy paths to recovery. \nWhere: 1101 North Central Ave\, Ste. 200\, Phoenix AZ\, 85004. (Safe Space) \nWhen: Tuesdays from 11am – 12pm and Thursdays from 1pm – 2pm \nContact: charisma.meadows@prismacare.org | 602.595.8140 \nskyler.jorgensen@prismacare.org | 602.595.5615
URL:https://prismacare.org/event/recovery-unlocked-group/2027-09-21/
LOCATION:Prisma Community Care\, 1101 N. Central Ave.\, Phoenix\, AZ\, 85004\, United States
ORGANIZER;CN="Prisma Community Care":MAILTO:contactus@prismacare.org
END:VEVENT
BEGIN:VEVENT
DTSTART;TZID=UTC:20270922T110000
DTEND;TZID=UTC:20270922T120000
DTSTAMP:20260423T051909
CREATED:20250212T203759Z
LAST-MODIFIED:20250811T181103Z
UID:10001187-1821610800-1821614400@prismacare.org
SUMMARY:Self Awareness Group
DESCRIPTION:Available to Prisma patients. \nA laid back\, eclectic\, and a safe space for clients to come to every week to connect through healing. \nWhere: 1101 North Central Ave\, Ste. 200\, Phoenix AZ\, 85004. \nWhen: Wednesdays from 11 am to 12pm \nContact: charisma.meadows@prismacare.org\n602.595.8140 \n  \n 
URL:https://prismacare.org/event/self-awarness-group/2027-09-22/
LOCATION:Prisma Community Care\, 1101 N. Central Ave.\, Phoenix\, AZ\, 85004\, United States
END:VEVENT
BEGIN:VEVENT
DTSTART;TZID=UTC:20270922T110000
DTEND;TZID=UTC:20270922T120000
DTSTAMP:20260423T051909
CREATED:20250814T202409Z
LAST-MODIFIED:20250814T202515Z
UID:10002473-1821610800-1821614400@prismacare.org
SUMMARY:MINDFUL RECOVERY
DESCRIPTION:A holistic approach that integrates mindfulness practices to support recovery from addiction\, stress\, or other mental health challenges. Here are some key aspects of mindful recovery: \n\nStress managements\nSubstance use intervention\nMindfulness\nRelapse prevention\n\n 
URL:https://prismacare.org/event/mindful-recovery-2/2027-09-22/
LOCATION:Prisma Community Care\, 1101 N. Central Ave.\, Phoenix\, AZ\, 85004\, United States
END:VEVENT
BEGIN:VEVENT
DTSTART;TZID=UTC:20270923T130000
DTEND;TZID=UTC:20270923T140000
DTSTAMP:20260423T051909
CREATED:20250808T180926Z
LAST-MODIFIED:20250808T180926Z
UID:10001962-1821704400-1821708000@prismacare.org
SUMMARY:Recovery Unlocked Group
DESCRIPTION:Available to Prisma patients. \nDiscover a supportive space to explore how substance use affects the body and mind. \nThis group provides tools to navigate substance dependency and addiction\, while encouraging each person to explore healthy paths to recovery. \nWhere: 1101 North Central Ave\, Ste. 200\, Phoenix AZ\, 85004. (Safe Space) \nWhen: Tuesdays from 11am – 12pm and Thursdays from 1pm – 2pm \nContact: charisma.meadows@prismacare.org | 602.595.8140 \nskyler.jorgensen@prismacare.org | 602.595.5615
URL:https://prismacare.org/event/recovery-unlocked-group-3/2027-09-23/
LOCATION:Prisma Community Care\, 1101 N. Central Ave.\, Phoenix\, AZ\, 85004\, United States
ORGANIZER;CN="Prisma Community Care":MAILTO:contactus@prismacare.org
END:VEVENT
BEGIN:VEVENT
DTSTART;TZID=UTC:20270928T110000
DTEND;TZID=UTC:20270930T120000
DTSTAMP:20260423T051909
CREATED:20250801T192704Z
LAST-MODIFIED:20250808T180725Z
UID:10001634-1822129200-1822305600@prismacare.org
SUMMARY:Recovery Unlocked Group
DESCRIPTION:Available to Prisma patients. \nDiscover a supportive space to explore how substance use affects the body and mind. \nThis group provides tools to navigate substance dependency and addiction\, while encouraging each person to explore healthy paths to recovery. \nWhere: 1101 North Central Ave\, Ste. 200\, Phoenix AZ\, 85004. (Safe Space) \nWhen: Tuesdays from 11am – 12pm and Thursdays from 1pm – 2pm \nContact: charisma.meadows@prismacare.org | 602.595.8140 \nskyler.jorgensen@prismacare.org | 602.595.5615
URL:https://prismacare.org/event/recovery-unlocked-group/2027-09-28/
LOCATION:Prisma Community Care\, 1101 N. Central Ave.\, Phoenix\, AZ\, 85004\, United States
ORGANIZER;CN="Prisma Community Care":MAILTO:contactus@prismacare.org
END:VEVENT
BEGIN:VEVENT
DTSTART;TZID=UTC:20270928T173000
DTEND;TZID=UTC:20270928T190000
DTSTAMP:20260423T051909
CREATED:20250808T205251Z
LAST-MODIFIED:20250808T205251Z
UID:10002138-1822152600-1822158000@prismacare.org
SUMMARY:Positive Living Group
DESCRIPTION:Available to Prisma Patients. \nPositive Living is a welcoming\, judgment-free space for people living with HIV to connect\, share\, and grow. Through peer support\, open discussions\, and educational resources\, this group explores health\, wellness\, relationships\, and personal growth in a safe\, respectful\, and confidential environment. \nWhether you’re newly diagnosed or have been living with HIV for years\, Positive Living offers a safe space to be heard\, understood\, and inspired. \n\n\nWhere: 1101 North Central Ave\, Ste. 200\, Phoenix AZ\, 85004. \n\n\nWhen: Last Tuesday of every month. 5:30 pm – 7 pm \nContact: christopher.carrillo@prismacare.org
URL:https://prismacare.org/event/positive-living-group/2027-09-28/
END:VEVENT
BEGIN:VEVENT
DTSTART;TZID=UTC:20270929T110000
DTEND;TZID=UTC:20270929T120000
DTSTAMP:20260423T051909
CREATED:20250212T203759Z
LAST-MODIFIED:20250811T181103Z
UID:10001188-1822215600-1822219200@prismacare.org
SUMMARY:Self Awareness Group
DESCRIPTION:Available to Prisma patients. \nA laid back\, eclectic\, and a safe space for clients to come to every week to connect through healing. \nWhere: 1101 North Central Ave\, Ste. 200\, Phoenix AZ\, 85004. \nWhen: Wednesdays from 11 am to 12pm \nContact: charisma.meadows@prismacare.org\n602.595.8140 \n  \n 
URL:https://prismacare.org/event/self-awarness-group/2027-09-29/
LOCATION:Prisma Community Care\, 1101 N. Central Ave.\, Phoenix\, AZ\, 85004\, United States
END:VEVENT
BEGIN:VEVENT
DTSTART;TZID=UTC:20270929T110000
DTEND;TZID=UTC:20270929T120000
DTSTAMP:20260423T051909
CREATED:20250814T202409Z
LAST-MODIFIED:20250814T202515Z
UID:10002474-1822215600-1822219200@prismacare.org
SUMMARY:MINDFUL RECOVERY
DESCRIPTION:A holistic approach that integrates mindfulness practices to support recovery from addiction\, stress\, or other mental health challenges. Here are some key aspects of mindful recovery: \n\nStress managements\nSubstance use intervention\nMindfulness\nRelapse prevention\n\n 
URL:https://prismacare.org/event/mindful-recovery-2/2027-09-29/
LOCATION:Prisma Community Care\, 1101 N. Central Ave.\, Phoenix\, AZ\, 85004\, United States
END:VEVENT
BEGIN:VEVENT
DTSTART;TZID=UTC:20270930T130000
DTEND;TZID=UTC:20270930T140000
DTSTAMP:20260423T051909
CREATED:20250808T180926Z
LAST-MODIFIED:20250808T180926Z
UID:10001963-1822309200-1822312800@prismacare.org
SUMMARY:Recovery Unlocked Group
DESCRIPTION:Available to Prisma patients. \nDiscover a supportive space to explore how substance use affects the body and mind. \nThis group provides tools to navigate substance dependency and addiction\, while encouraging each person to explore healthy paths to recovery. \nWhere: 1101 North Central Ave\, Ste. 200\, Phoenix AZ\, 85004. (Safe Space) \nWhen: Tuesdays from 11am – 12pm and Thursdays from 1pm – 2pm \nContact: charisma.meadows@prismacare.org | 602.595.8140 \nskyler.jorgensen@prismacare.org | 602.595.5615
URL:https://prismacare.org/event/recovery-unlocked-group-3/2027-09-30/
LOCATION:Prisma Community Care\, 1101 N. Central Ave.\, Phoenix\, AZ\, 85004\, United States
ORGANIZER;CN="Prisma Community Care":MAILTO:contactus@prismacare.org
END:VEVENT
BEGIN:VEVENT
DTSTART;TZID=UTC:20271005T110000
DTEND;TZID=UTC:20271007T120000
DTSTAMP:20260423T051909
CREATED:20250801T192704Z
LAST-MODIFIED:20250808T180725Z
UID:10001635-1822734000-1822910400@prismacare.org
SUMMARY:Recovery Unlocked Group
DESCRIPTION:Available to Prisma patients. \nDiscover a supportive space to explore how substance use affects the body and mind. \nThis group provides tools to navigate substance dependency and addiction\, while encouraging each person to explore healthy paths to recovery. \nWhere: 1101 North Central Ave\, Ste. 200\, Phoenix AZ\, 85004. (Safe Space) \nWhen: Tuesdays from 11am – 12pm and Thursdays from 1pm – 2pm \nContact: charisma.meadows@prismacare.org | 602.595.8140 \nskyler.jorgensen@prismacare.org | 602.595.5615
URL:https://prismacare.org/event/recovery-unlocked-group/2027-10-05/
LOCATION:Prisma Community Care\, 1101 N. Central Ave.\, Phoenix\, AZ\, 85004\, United States
ORGANIZER;CN="Prisma Community Care":MAILTO:contactus@prismacare.org
END:VEVENT
BEGIN:VEVENT
DTSTART;TZID=UTC:20271006T110000
DTEND;TZID=UTC:20271006T120000
DTSTAMP:20260423T051909
CREATED:20250212T203759Z
LAST-MODIFIED:20250811T181103Z
UID:10001189-1822820400-1822824000@prismacare.org
SUMMARY:Self Awareness Group
DESCRIPTION:Available to Prisma patients. \nA laid back\, eclectic\, and a safe space for clients to come to every week to connect through healing. \nWhere: 1101 North Central Ave\, Ste. 200\, Phoenix AZ\, 85004. \nWhen: Wednesdays from 11 am to 12pm \nContact: charisma.meadows@prismacare.org\n602.595.8140 \n  \n 
URL:https://prismacare.org/event/self-awarness-group/2027-10-06/
LOCATION:Prisma Community Care\, 1101 N. Central Ave.\, Phoenix\, AZ\, 85004\, United States
END:VEVENT
BEGIN:VEVENT
DTSTART;TZID=UTC:20271006T110000
DTEND;TZID=UTC:20271006T120000
DTSTAMP:20260423T051909
CREATED:20250814T202409Z
LAST-MODIFIED:20250814T202515Z
UID:10002475-1822820400-1822824000@prismacare.org
SUMMARY:MINDFUL RECOVERY
DESCRIPTION:A holistic approach that integrates mindfulness practices to support recovery from addiction\, stress\, or other mental health challenges. Here are some key aspects of mindful recovery: \n\nStress managements\nSubstance use intervention\nMindfulness\nRelapse prevention\n\n 
URL:https://prismacare.org/event/mindful-recovery-2/2027-10-06/
LOCATION:Prisma Community Care\, 1101 N. Central Ave.\, Phoenix\, AZ\, 85004\, United States
END:VEVENT
BEGIN:VEVENT
DTSTART;TZID=UTC:20271007T130000
DTEND;TZID=UTC:20271007T140000
DTSTAMP:20260423T051909
CREATED:20250808T180926Z
LAST-MODIFIED:20250808T180926Z
UID:10001964-1822914000-1822917600@prismacare.org
SUMMARY:Recovery Unlocked Group
DESCRIPTION:Available to Prisma patients. \nDiscover a supportive space to explore how substance use affects the body and mind. \nThis group provides tools to navigate substance dependency and addiction\, while encouraging each person to explore healthy paths to recovery. \nWhere: 1101 North Central Ave\, Ste. 200\, Phoenix AZ\, 85004. (Safe Space) \nWhen: Tuesdays from 11am – 12pm and Thursdays from 1pm – 2pm \nContact: charisma.meadows@prismacare.org | 602.595.8140 \nskyler.jorgensen@prismacare.org | 602.595.5615
URL:https://prismacare.org/event/recovery-unlocked-group-3/2027-10-07/
LOCATION:Prisma Community Care\, 1101 N. Central Ave.\, Phoenix\, AZ\, 85004\, United States
ORGANIZER;CN="Prisma Community Care":MAILTO:contactus@prismacare.org
END:VEVENT
BEGIN:VEVENT
DTSTART;TZID=UTC:20271012T110000
DTEND;TZID=UTC:20271014T120000
DTSTAMP:20260423T051909
CREATED:20250801T192704Z
LAST-MODIFIED:20250808T180725Z
UID:10001636-1823338800-1823515200@prismacare.org
SUMMARY:Recovery Unlocked Group
DESCRIPTION:Available to Prisma patients. \nDiscover a supportive space to explore how substance use affects the body and mind. \nThis group provides tools to navigate substance dependency and addiction\, while encouraging each person to explore healthy paths to recovery. \nWhere: 1101 North Central Ave\, Ste. 200\, Phoenix AZ\, 85004. (Safe Space) \nWhen: Tuesdays from 11am – 12pm and Thursdays from 1pm – 2pm \nContact: charisma.meadows@prismacare.org | 602.595.8140 \nskyler.jorgensen@prismacare.org | 602.595.5615
URL:https://prismacare.org/event/recovery-unlocked-group/2027-10-12/
LOCATION:Prisma Community Care\, 1101 N. Central Ave.\, Phoenix\, AZ\, 85004\, United States
ORGANIZER;CN="Prisma Community Care":MAILTO:contactus@prismacare.org
END:VEVENT
BEGIN:VEVENT
DTSTART;TZID=UTC:20271013T110000
DTEND;TZID=UTC:20271013T120000
DTSTAMP:20260423T051909
CREATED:20250212T203759Z
LAST-MODIFIED:20250811T181103Z
UID:10001190-1823425200-1823428800@prismacare.org
SUMMARY:Self Awareness Group
DESCRIPTION:Available to Prisma patients. \nA laid back\, eclectic\, and a safe space for clients to come to every week to connect through healing. \nWhere: 1101 North Central Ave\, Ste. 200\, Phoenix AZ\, 85004. \nWhen: Wednesdays from 11 am to 12pm \nContact: charisma.meadows@prismacare.org\n602.595.8140 \n  \n 
URL:https://prismacare.org/event/self-awarness-group/2027-10-13/
LOCATION:Prisma Community Care\, 1101 N. Central Ave.\, Phoenix\, AZ\, 85004\, United States
END:VEVENT
BEGIN:VEVENT
DTSTART;TZID=UTC:20271013T110000
DTEND;TZID=UTC:20271013T120000
DTSTAMP:20260423T051909
CREATED:20250814T202409Z
LAST-MODIFIED:20250814T202515Z
UID:10002476-1823425200-1823428800@prismacare.org
SUMMARY:MINDFUL RECOVERY
DESCRIPTION:A holistic approach that integrates mindfulness practices to support recovery from addiction\, stress\, or other mental health challenges. Here are some key aspects of mindful recovery: \n\nStress managements\nSubstance use intervention\nMindfulness\nRelapse prevention\n\n 
URL:https://prismacare.org/event/mindful-recovery-2/2027-10-13/
LOCATION:Prisma Community Care\, 1101 N. Central Ave.\, Phoenix\, AZ\, 85004\, United States
END:VEVENT
BEGIN:VEVENT
DTSTART;TZID=UTC:20271014T130000
DTEND;TZID=UTC:20271014T140000
DTSTAMP:20260423T051909
CREATED:20250808T180926Z
LAST-MODIFIED:20250808T180926Z
UID:10001965-1823518800-1823522400@prismacare.org
SUMMARY:Recovery Unlocked Group
DESCRIPTION:Available to Prisma patients. \nDiscover a supportive space to explore how substance use affects the body and mind. \nThis group provides tools to navigate substance dependency and addiction\, while encouraging each person to explore healthy paths to recovery. \nWhere: 1101 North Central Ave\, Ste. 200\, Phoenix AZ\, 85004. (Safe Space) \nWhen: Tuesdays from 11am – 12pm and Thursdays from 1pm – 2pm \nContact: charisma.meadows@prismacare.org | 602.595.8140 \nskyler.jorgensen@prismacare.org | 602.595.5615
URL:https://prismacare.org/event/recovery-unlocked-group-3/2027-10-14/
LOCATION:Prisma Community Care\, 1101 N. Central Ave.\, Phoenix\, AZ\, 85004\, United States
ORGANIZER;CN="Prisma Community Care":MAILTO:contactus@prismacare.org
END:VEVENT
BEGIN:VEVENT
DTSTART;TZID=UTC:20271019T110000
DTEND;TZID=UTC:20271021T120000
DTSTAMP:20260423T051909
CREATED:20250801T192704Z
LAST-MODIFIED:20250808T180725Z
UID:10001637-1823943600-1824120000@prismacare.org
SUMMARY:Recovery Unlocked Group
DESCRIPTION:Available to Prisma patients. \nDiscover a supportive space to explore how substance use affects the body and mind. \nThis group provides tools to navigate substance dependency and addiction\, while encouraging each person to explore healthy paths to recovery. \nWhere: 1101 North Central Ave\, Ste. 200\, Phoenix AZ\, 85004. (Safe Space) \nWhen: Tuesdays from 11am – 12pm and Thursdays from 1pm – 2pm \nContact: charisma.meadows@prismacare.org | 602.595.8140 \nskyler.jorgensen@prismacare.org | 602.595.5615
URL:https://prismacare.org/event/recovery-unlocked-group/2027-10-19/
LOCATION:Prisma Community Care\, 1101 N. Central Ave.\, Phoenix\, AZ\, 85004\, United States
ORGANIZER;CN="Prisma Community Care":MAILTO:contactus@prismacare.org
END:VEVENT
BEGIN:VEVENT
DTSTART;TZID=UTC:20271020T110000
DTEND;TZID=UTC:20271020T120000
DTSTAMP:20260423T051909
CREATED:20250212T203759Z
LAST-MODIFIED:20250811T181103Z
UID:10001191-1824030000-1824033600@prismacare.org
SUMMARY:Self Awareness Group
DESCRIPTION:Available to Prisma patients. \nA laid back\, eclectic\, and a safe space for clients to come to every week to connect through healing. \nWhere: 1101 North Central Ave\, Ste. 200\, Phoenix AZ\, 85004. \nWhen: Wednesdays from 11 am to 12pm \nContact: charisma.meadows@prismacare.org\n602.595.8140 \n  \n 
URL:https://prismacare.org/event/self-awarness-group/2027-10-20/
LOCATION:Prisma Community Care\, 1101 N. Central Ave.\, Phoenix\, AZ\, 85004\, United States
END:VEVENT
BEGIN:VEVENT
DTSTART;TZID=UTC:20271020T110000
DTEND;TZID=UTC:20271020T120000
DTSTAMP:20260423T051909
CREATED:20250814T202409Z
LAST-MODIFIED:20250814T202515Z
UID:10002477-1824030000-1824033600@prismacare.org
SUMMARY:MINDFUL RECOVERY
DESCRIPTION:A holistic approach that integrates mindfulness practices to support recovery from addiction\, stress\, or other mental health challenges. Here are some key aspects of mindful recovery: \n\nStress managements\nSubstance use intervention\nMindfulness\nRelapse prevention\n\n 
URL:https://prismacare.org/event/mindful-recovery-2/2027-10-20/
LOCATION:Prisma Community Care\, 1101 N. Central Ave.\, Phoenix\, AZ\, 85004\, United States
END:VEVENT
BEGIN:VEVENT
DTSTART;TZID=UTC:20271021T130000
DTEND;TZID=UTC:20271021T140000
DTSTAMP:20260423T051909
CREATED:20250808T180926Z
LAST-MODIFIED:20250808T180926Z
UID:10001966-1824123600-1824127200@prismacare.org
SUMMARY:Recovery Unlocked Group
DESCRIPTION:Available to Prisma patients. \nDiscover a supportive space to explore how substance use affects the body and mind. \nThis group provides tools to navigate substance dependency and addiction\, while encouraging each person to explore healthy paths to recovery. \nWhere: 1101 North Central Ave\, Ste. 200\, Phoenix AZ\, 85004. (Safe Space) \nWhen: Tuesdays from 11am – 12pm and Thursdays from 1pm – 2pm \nContact: charisma.meadows@prismacare.org | 602.595.8140 \nskyler.jorgensen@prismacare.org | 602.595.5615
URL:https://prismacare.org/event/recovery-unlocked-group-3/2027-10-21/
LOCATION:Prisma Community Care\, 1101 N. Central Ave.\, Phoenix\, AZ\, 85004\, United States
ORGANIZER;CN="Prisma Community Care":MAILTO:contactus@prismacare.org
END:VEVENT
BEGIN:VEVENT
DTSTART;TZID=UTC:20271026T110000
DTEND;TZID=UTC:20271028T120000
DTSTAMP:20260423T051909
CREATED:20250801T192704Z
LAST-MODIFIED:20250808T180725Z
UID:10001638-1824548400-1824724800@prismacare.org
SUMMARY:Recovery Unlocked Group
DESCRIPTION:Available to Prisma patients. \nDiscover a supportive space to explore how substance use affects the body and mind. \nThis group provides tools to navigate substance dependency and addiction\, while encouraging each person to explore healthy paths to recovery. \nWhere: 1101 North Central Ave\, Ste. 200\, Phoenix AZ\, 85004. (Safe Space) \nWhen: Tuesdays from 11am – 12pm and Thursdays from 1pm – 2pm \nContact: charisma.meadows@prismacare.org | 602.595.8140 \nskyler.jorgensen@prismacare.org | 602.595.5615
URL:https://prismacare.org/event/recovery-unlocked-group/2027-10-26/
LOCATION:Prisma Community Care\, 1101 N. Central Ave.\, Phoenix\, AZ\, 85004\, United States
ORGANIZER;CN="Prisma Community Care":MAILTO:contactus@prismacare.org
END:VEVENT
BEGIN:VEVENT
DTSTART;TZID=UTC:20271026T173000
DTEND;TZID=UTC:20271026T190000
DTSTAMP:20260423T051909
CREATED:20250808T205251Z
LAST-MODIFIED:20250808T205251Z
UID:10002139-1824571800-1824577200@prismacare.org
SUMMARY:Positive Living Group
DESCRIPTION:Available to Prisma Patients. \nPositive Living is a welcoming\, judgment-free space for people living with HIV to connect\, share\, and grow. Through peer support\, open discussions\, and educational resources\, this group explores health\, wellness\, relationships\, and personal growth in a safe\, respectful\, and confidential environment. \nWhether you’re newly diagnosed or have been living with HIV for years\, Positive Living offers a safe space to be heard\, understood\, and inspired. \n\n\nWhere: 1101 North Central Ave\, Ste. 200\, Phoenix AZ\, 85004. \n\n\nWhen: Last Tuesday of every month. 5:30 pm – 7 pm \nContact: christopher.carrillo@prismacare.org
URL:https://prismacare.org/event/positive-living-group/2027-10-26/
END:VEVENT
BEGIN:VEVENT
DTSTART;TZID=UTC:20271027T110000
DTEND;TZID=UTC:20271027T120000
DTSTAMP:20260423T051909
CREATED:20250212T203759Z
LAST-MODIFIED:20250811T181103Z
UID:10001192-1824634800-1824638400@prismacare.org
SUMMARY:Self Awareness Group
DESCRIPTION:Available to Prisma patients. \nA laid back\, eclectic\, and a safe space for clients to come to every week to connect through healing. \nWhere: 1101 North Central Ave\, Ste. 200\, Phoenix AZ\, 85004. \nWhen: Wednesdays from 11 am to 12pm \nContact: charisma.meadows@prismacare.org\n602.595.8140 \n  \n 
URL:https://prismacare.org/event/self-awarness-group/2027-10-27/
LOCATION:Prisma Community Care\, 1101 N. Central Ave.\, Phoenix\, AZ\, 85004\, United States
END:VEVENT
BEGIN:VEVENT
DTSTART;TZID=UTC:20271027T110000
DTEND;TZID=UTC:20271027T120000
DTSTAMP:20260423T051909
CREATED:20250814T202409Z
LAST-MODIFIED:20250814T202515Z
UID:10002478-1824634800-1824638400@prismacare.org
SUMMARY:MINDFUL RECOVERY
DESCRIPTION:A holistic approach that integrates mindfulness practices to support recovery from addiction\, stress\, or other mental health challenges. Here are some key aspects of mindful recovery: \n\nStress managements\nSubstance use intervention\nMindfulness\nRelapse prevention\n\n 
URL:https://prismacare.org/event/mindful-recovery-2/2027-10-27/
LOCATION:Prisma Community Care\, 1101 N. Central Ave.\, Phoenix\, AZ\, 85004\, United States
END:VEVENT
BEGIN:VEVENT
DTSTART;TZID=UTC:20271028T130000
DTEND;TZID=UTC:20271028T140000
DTSTAMP:20260423T051909
CREATED:20250808T180926Z
LAST-MODIFIED:20250808T180926Z
UID:10001967-1824728400-1824732000@prismacare.org
SUMMARY:Recovery Unlocked Group
DESCRIPTION:Available to Prisma patients. \nDiscover a supportive space to explore how substance use affects the body and mind. \nThis group provides tools to navigate substance dependency and addiction\, while encouraging each person to explore healthy paths to recovery. \nWhere: 1101 North Central Ave\, Ste. 200\, Phoenix AZ\, 85004. (Safe Space) \nWhen: Tuesdays from 11am – 12pm and Thursdays from 1pm – 2pm \nContact: charisma.meadows@prismacare.org | 602.595.8140 \nskyler.jorgensen@prismacare.org | 602.595.5615
URL:https://prismacare.org/event/recovery-unlocked-group-3/2027-10-28/
LOCATION:Prisma Community Care\, 1101 N. Central Ave.\, Phoenix\, AZ\, 85004\, United States
ORGANIZER;CN="Prisma Community Care":MAILTO:contactus@prismacare.org
END:VEVENT
BEGIN:VEVENT
DTSTART;TZID=UTC:20271102T110000
DTEND;TZID=UTC:20271104T120000
DTSTAMP:20260423T051909
CREATED:20250801T192704Z
LAST-MODIFIED:20250808T180725Z
UID:10001639-1825153200-1825329600@prismacare.org
SUMMARY:Recovery Unlocked Group
DESCRIPTION:Available to Prisma patients. \nDiscover a supportive space to explore how substance use affects the body and mind. \nThis group provides tools to navigate substance dependency and addiction\, while encouraging each person to explore healthy paths to recovery. \nWhere: 1101 North Central Ave\, Ste. 200\, Phoenix AZ\, 85004. (Safe Space) \nWhen: Tuesdays from 11am – 12pm and Thursdays from 1pm – 2pm \nContact: charisma.meadows@prismacare.org | 602.595.8140 \nskyler.jorgensen@prismacare.org | 602.595.5615
URL:https://prismacare.org/event/recovery-unlocked-group/2027-11-02/
LOCATION:Prisma Community Care\, 1101 N. Central Ave.\, Phoenix\, AZ\, 85004\, United States
ORGANIZER;CN="Prisma Community Care":MAILTO:contactus@prismacare.org
END:VEVENT
END:VCALENDAR