BEGIN:VCALENDAR
VERSION:2.0
PRODID:-//Prisma Community Care - ECPv6.10.2//NONSGML v1.0//EN
CALSCALE:GREGORIAN
METHOD:PUBLISH
X-WR-CALNAME:Prisma Community Care
X-ORIGINAL-URL:https://prismacare.org
X-WR-CALDESC:Events for Prisma Community Care
REFRESH-INTERVAL;VALUE=DURATION:PT1H
X-Robots-Tag:noindex
X-PUBLISHED-TTL:PT1H
BEGIN:VTIMEZONE
TZID:UTC
BEGIN:STANDARD
TZOFFSETFROM:+0000
TZOFFSETTO:+0000
TZNAME:UTC
DTSTART:20270101T000000
END:STANDARD
END:VTIMEZONE
BEGIN:VEVENT
DTSTART;TZID=UTC:20270316T110000
DTEND;TZID=UTC:20270318T120000
DTSTAMP:20260422T222420
CREATED:20250801T192704Z
LAST-MODIFIED:20250808T180725Z
UID:10001606-1805194800-1805371200@prismacare.org
SUMMARY:Recovery Unlocked Group
DESCRIPTION:Available to Prisma patients. \nDiscover a supportive space to explore how substance use affects the body and mind. \nThis group provides tools to navigate substance dependency and addiction\, while encouraging each person to explore healthy paths to recovery. \nWhere: 1101 North Central Ave\, Ste. 200\, Phoenix AZ\, 85004. (Safe Space) \nWhen: Tuesdays from 11am – 12pm and Thursdays from 1pm – 2pm \nContact: charisma.meadows@prismacare.org | 602.595.8140 \nskyler.jorgensen@prismacare.org | 602.595.5615
URL:https://prismacare.org/event/recovery-unlocked-group/2027-03-16/
LOCATION:Prisma Community Care\, 1101 N. Central Ave.\, Phoenix\, AZ\, 85004\, United States
ORGANIZER;CN="Prisma Community Care":MAILTO:contactus@prismacare.org
END:VEVENT
BEGIN:VEVENT
DTSTART;TZID=UTC:20270317T110000
DTEND;TZID=UTC:20270317T120000
DTSTAMP:20260422T222420
CREATED:20250212T203759Z
LAST-MODIFIED:20250811T181103Z
UID:10001160-1805281200-1805284800@prismacare.org
SUMMARY:Self Awareness Group
DESCRIPTION:Available to Prisma patients. \nA laid back\, eclectic\, and a safe space for clients to come to every week to connect through healing. \nWhere: 1101 North Central Ave\, Ste. 200\, Phoenix AZ\, 85004. \nWhen: Wednesdays from 11 am to 12pm \nContact: charisma.meadows@prismacare.org\n602.595.8140 \n  \n 
URL:https://prismacare.org/event/self-awarness-group/2027-03-17/
LOCATION:Prisma Community Care\, 1101 N. Central Ave.\, Phoenix\, AZ\, 85004\, United States
END:VEVENT
BEGIN:VEVENT
DTSTART;TZID=UTC:20270317T110000
DTEND;TZID=UTC:20270317T120000
DTSTAMP:20260422T222420
CREATED:20250814T202409Z
LAST-MODIFIED:20250814T202515Z
UID:10002446-1805281200-1805284800@prismacare.org
SUMMARY:MINDFUL RECOVERY
DESCRIPTION:A holistic approach that integrates mindfulness practices to support recovery from addiction\, stress\, or other mental health challenges. Here are some key aspects of mindful recovery: \n\nStress managements\nSubstance use intervention\nMindfulness\nRelapse prevention\n\n 
URL:https://prismacare.org/event/mindful-recovery-2/2027-03-17/
LOCATION:Prisma Community Care\, 1101 N. Central Ave.\, Phoenix\, AZ\, 85004\, United States
END:VEVENT
BEGIN:VEVENT
DTSTART;TZID=UTC:20270318T130000
DTEND;TZID=UTC:20270318T140000
DTSTAMP:20260422T222420
CREATED:20250808T180926Z
LAST-MODIFIED:20250808T180926Z
UID:10001935-1805374800-1805378400@prismacare.org
SUMMARY:Recovery Unlocked Group
DESCRIPTION:Available to Prisma patients. \nDiscover a supportive space to explore how substance use affects the body and mind. \nThis group provides tools to navigate substance dependency and addiction\, while encouraging each person to explore healthy paths to recovery. \nWhere: 1101 North Central Ave\, Ste. 200\, Phoenix AZ\, 85004. (Safe Space) \nWhen: Tuesdays from 11am – 12pm and Thursdays from 1pm – 2pm \nContact: charisma.meadows@prismacare.org | 602.595.8140 \nskyler.jorgensen@prismacare.org | 602.595.5615
URL:https://prismacare.org/event/recovery-unlocked-group-3/2027-03-18/
LOCATION:Prisma Community Care\, 1101 N. Central Ave.\, Phoenix\, AZ\, 85004\, United States
ORGANIZER;CN="Prisma Community Care":MAILTO:contactus@prismacare.org
END:VEVENT
BEGIN:VEVENT
DTSTART;TZID=UTC:20270323T110000
DTEND;TZID=UTC:20270325T120000
DTSTAMP:20260422T222420
CREATED:20250801T192704Z
LAST-MODIFIED:20250808T180725Z
UID:10001607-1805799600-1805976000@prismacare.org
SUMMARY:Recovery Unlocked Group
DESCRIPTION:Available to Prisma patients. \nDiscover a supportive space to explore how substance use affects the body and mind. \nThis group provides tools to navigate substance dependency and addiction\, while encouraging each person to explore healthy paths to recovery. \nWhere: 1101 North Central Ave\, Ste. 200\, Phoenix AZ\, 85004. (Safe Space) \nWhen: Tuesdays from 11am – 12pm and Thursdays from 1pm – 2pm \nContact: charisma.meadows@prismacare.org | 602.595.8140 \nskyler.jorgensen@prismacare.org | 602.595.5615
URL:https://prismacare.org/event/recovery-unlocked-group/2027-03-23/
LOCATION:Prisma Community Care\, 1101 N. Central Ave.\, Phoenix\, AZ\, 85004\, United States
ORGANIZER;CN="Prisma Community Care":MAILTO:contactus@prismacare.org
END:VEVENT
BEGIN:VEVENT
DTSTART;TZID=UTC:20270324T110000
DTEND;TZID=UTC:20270324T120000
DTSTAMP:20260422T222420
CREATED:20250212T203759Z
LAST-MODIFIED:20250811T181103Z
UID:10001161-1805886000-1805889600@prismacare.org
SUMMARY:Self Awareness Group
DESCRIPTION:Available to Prisma patients. \nA laid back\, eclectic\, and a safe space for clients to come to every week to connect through healing. \nWhere: 1101 North Central Ave\, Ste. 200\, Phoenix AZ\, 85004. \nWhen: Wednesdays from 11 am to 12pm \nContact: charisma.meadows@prismacare.org\n602.595.8140 \n  \n 
URL:https://prismacare.org/event/self-awarness-group/2027-03-24/
LOCATION:Prisma Community Care\, 1101 N. Central Ave.\, Phoenix\, AZ\, 85004\, United States
END:VEVENT
BEGIN:VEVENT
DTSTART;TZID=UTC:20270324T110000
DTEND;TZID=UTC:20270324T120000
DTSTAMP:20260422T222420
CREATED:20250814T202409Z
LAST-MODIFIED:20250814T202515Z
UID:10002447-1805886000-1805889600@prismacare.org
SUMMARY:MINDFUL RECOVERY
DESCRIPTION:A holistic approach that integrates mindfulness practices to support recovery from addiction\, stress\, or other mental health challenges. Here are some key aspects of mindful recovery: \n\nStress managements\nSubstance use intervention\nMindfulness\nRelapse prevention\n\n 
URL:https://prismacare.org/event/mindful-recovery-2/2027-03-24/
LOCATION:Prisma Community Care\, 1101 N. Central Ave.\, Phoenix\, AZ\, 85004\, United States
END:VEVENT
BEGIN:VEVENT
DTSTART;TZID=UTC:20270325T130000
DTEND;TZID=UTC:20270325T140000
DTSTAMP:20260422T222420
CREATED:20250808T180926Z
LAST-MODIFIED:20250808T180926Z
UID:10001936-1805979600-1805983200@prismacare.org
SUMMARY:Recovery Unlocked Group
DESCRIPTION:Available to Prisma patients. \nDiscover a supportive space to explore how substance use affects the body and mind. \nThis group provides tools to navigate substance dependency and addiction\, while encouraging each person to explore healthy paths to recovery. \nWhere: 1101 North Central Ave\, Ste. 200\, Phoenix AZ\, 85004. (Safe Space) \nWhen: Tuesdays from 11am – 12pm and Thursdays from 1pm – 2pm \nContact: charisma.meadows@prismacare.org | 602.595.8140 \nskyler.jorgensen@prismacare.org | 602.595.5615
URL:https://prismacare.org/event/recovery-unlocked-group-3/2027-03-25/
LOCATION:Prisma Community Care\, 1101 N. Central Ave.\, Phoenix\, AZ\, 85004\, United States
ORGANIZER;CN="Prisma Community Care":MAILTO:contactus@prismacare.org
END:VEVENT
BEGIN:VEVENT
DTSTART;TZID=UTC:20270330T110000
DTEND;TZID=UTC:20270401T120000
DTSTAMP:20260422T222420
CREATED:20250801T192704Z
LAST-MODIFIED:20250808T180725Z
UID:10001608-1806404400-1806580800@prismacare.org
SUMMARY:Recovery Unlocked Group
DESCRIPTION:Available to Prisma patients. \nDiscover a supportive space to explore how substance use affects the body and mind. \nThis group provides tools to navigate substance dependency and addiction\, while encouraging each person to explore healthy paths to recovery. \nWhere: 1101 North Central Ave\, Ste. 200\, Phoenix AZ\, 85004. (Safe Space) \nWhen: Tuesdays from 11am – 12pm and Thursdays from 1pm – 2pm \nContact: charisma.meadows@prismacare.org | 602.595.8140 \nskyler.jorgensen@prismacare.org | 602.595.5615
URL:https://prismacare.org/event/recovery-unlocked-group/2027-03-30/
LOCATION:Prisma Community Care\, 1101 N. Central Ave.\, Phoenix\, AZ\, 85004\, United States
ORGANIZER;CN="Prisma Community Care":MAILTO:contactus@prismacare.org
END:VEVENT
BEGIN:VEVENT
DTSTART;TZID=UTC:20270330T173000
DTEND;TZID=UTC:20270330T190000
DTSTAMP:20260422T222420
CREATED:20250808T205251Z
LAST-MODIFIED:20250808T205251Z
UID:10002132-1806427800-1806433200@prismacare.org
SUMMARY:Positive Living Group
DESCRIPTION:Available to Prisma Patients. \nPositive Living is a welcoming\, judgment-free space for people living with HIV to connect\, share\, and grow. Through peer support\, open discussions\, and educational resources\, this group explores health\, wellness\, relationships\, and personal growth in a safe\, respectful\, and confidential environment. \nWhether you’re newly diagnosed or have been living with HIV for years\, Positive Living offers a safe space to be heard\, understood\, and inspired. \n\n\nWhere: 1101 North Central Ave\, Ste. 200\, Phoenix AZ\, 85004. \n\n\nWhen: Last Tuesday of every month. 5:30 pm – 7 pm \nContact: christopher.carrillo@prismacare.org
URL:https://prismacare.org/event/positive-living-group/2027-03-30/
END:VEVENT
BEGIN:VEVENT
DTSTART;TZID=UTC:20270331T110000
DTEND;TZID=UTC:20270331T120000
DTSTAMP:20260422T222420
CREATED:20250212T203759Z
LAST-MODIFIED:20250811T181103Z
UID:10001162-1806490800-1806494400@prismacare.org
SUMMARY:Self Awareness Group
DESCRIPTION:Available to Prisma patients. \nA laid back\, eclectic\, and a safe space for clients to come to every week to connect through healing. \nWhere: 1101 North Central Ave\, Ste. 200\, Phoenix AZ\, 85004. \nWhen: Wednesdays from 11 am to 12pm \nContact: charisma.meadows@prismacare.org\n602.595.8140 \n  \n 
URL:https://prismacare.org/event/self-awarness-group/2027-03-31/
LOCATION:Prisma Community Care\, 1101 N. Central Ave.\, Phoenix\, AZ\, 85004\, United States
END:VEVENT
BEGIN:VEVENT
DTSTART;TZID=UTC:20270331T110000
DTEND;TZID=UTC:20270331T120000
DTSTAMP:20260422T222420
CREATED:20250814T202409Z
LAST-MODIFIED:20250814T202515Z
UID:10002448-1806490800-1806494400@prismacare.org
SUMMARY:MINDFUL RECOVERY
DESCRIPTION:A holistic approach that integrates mindfulness practices to support recovery from addiction\, stress\, or other mental health challenges. Here are some key aspects of mindful recovery: \n\nStress managements\nSubstance use intervention\nMindfulness\nRelapse prevention\n\n 
URL:https://prismacare.org/event/mindful-recovery-2/2027-03-31/
LOCATION:Prisma Community Care\, 1101 N. Central Ave.\, Phoenix\, AZ\, 85004\, United States
END:VEVENT
BEGIN:VEVENT
DTSTART;TZID=UTC:20270401T130000
DTEND;TZID=UTC:20270401T140000
DTSTAMP:20260422T222420
CREATED:20250808T180926Z
LAST-MODIFIED:20250808T180926Z
UID:10001937-1806584400-1806588000@prismacare.org
SUMMARY:Recovery Unlocked Group
DESCRIPTION:Available to Prisma patients. \nDiscover a supportive space to explore how substance use affects the body and mind. \nThis group provides tools to navigate substance dependency and addiction\, while encouraging each person to explore healthy paths to recovery. \nWhere: 1101 North Central Ave\, Ste. 200\, Phoenix AZ\, 85004. (Safe Space) \nWhen: Tuesdays from 11am – 12pm and Thursdays from 1pm – 2pm \nContact: charisma.meadows@prismacare.org | 602.595.8140 \nskyler.jorgensen@prismacare.org | 602.595.5615
URL:https://prismacare.org/event/recovery-unlocked-group-3/2027-04-01/
LOCATION:Prisma Community Care\, 1101 N. Central Ave.\, Phoenix\, AZ\, 85004\, United States
ORGANIZER;CN="Prisma Community Care":MAILTO:contactus@prismacare.org
END:VEVENT
BEGIN:VEVENT
DTSTART;TZID=UTC:20270406T110000
DTEND;TZID=UTC:20270408T120000
DTSTAMP:20260422T222420
CREATED:20250801T192704Z
LAST-MODIFIED:20250808T180725Z
UID:10001609-1807009200-1807185600@prismacare.org
SUMMARY:Recovery Unlocked Group
DESCRIPTION:Available to Prisma patients. \nDiscover a supportive space to explore how substance use affects the body and mind. \nThis group provides tools to navigate substance dependency and addiction\, while encouraging each person to explore healthy paths to recovery. \nWhere: 1101 North Central Ave\, Ste. 200\, Phoenix AZ\, 85004. (Safe Space) \nWhen: Tuesdays from 11am – 12pm and Thursdays from 1pm – 2pm \nContact: charisma.meadows@prismacare.org | 602.595.8140 \nskyler.jorgensen@prismacare.org | 602.595.5615
URL:https://prismacare.org/event/recovery-unlocked-group/2027-04-06/
LOCATION:Prisma Community Care\, 1101 N. Central Ave.\, Phoenix\, AZ\, 85004\, United States
ORGANIZER;CN="Prisma Community Care":MAILTO:contactus@prismacare.org
END:VEVENT
BEGIN:VEVENT
DTSTART;TZID=UTC:20270407T110000
DTEND;TZID=UTC:20270407T120000
DTSTAMP:20260422T222420
CREATED:20250212T203759Z
LAST-MODIFIED:20250811T181103Z
UID:10001163-1807095600-1807099200@prismacare.org
SUMMARY:Self Awareness Group
DESCRIPTION:Available to Prisma patients. \nA laid back\, eclectic\, and a safe space for clients to come to every week to connect through healing. \nWhere: 1101 North Central Ave\, Ste. 200\, Phoenix AZ\, 85004. \nWhen: Wednesdays from 11 am to 12pm \nContact: charisma.meadows@prismacare.org\n602.595.8140 \n  \n 
URL:https://prismacare.org/event/self-awarness-group/2027-04-07/
LOCATION:Prisma Community Care\, 1101 N. Central Ave.\, Phoenix\, AZ\, 85004\, United States
END:VEVENT
BEGIN:VEVENT
DTSTART;TZID=UTC:20270407T110000
DTEND;TZID=UTC:20270407T120000
DTSTAMP:20260422T222420
CREATED:20250814T202409Z
LAST-MODIFIED:20250814T202515Z
UID:10002449-1807095600-1807099200@prismacare.org
SUMMARY:MINDFUL RECOVERY
DESCRIPTION:A holistic approach that integrates mindfulness practices to support recovery from addiction\, stress\, or other mental health challenges. Here are some key aspects of mindful recovery: \n\nStress managements\nSubstance use intervention\nMindfulness\nRelapse prevention\n\n 
URL:https://prismacare.org/event/mindful-recovery-2/2027-04-07/
LOCATION:Prisma Community Care\, 1101 N. Central Ave.\, Phoenix\, AZ\, 85004\, United States
END:VEVENT
BEGIN:VEVENT
DTSTART;TZID=UTC:20270408T130000
DTEND;TZID=UTC:20270408T140000
DTSTAMP:20260422T222420
CREATED:20250808T180926Z
LAST-MODIFIED:20250808T180926Z
UID:10001938-1807189200-1807192800@prismacare.org
SUMMARY:Recovery Unlocked Group
DESCRIPTION:Available to Prisma patients. \nDiscover a supportive space to explore how substance use affects the body and mind. \nThis group provides tools to navigate substance dependency and addiction\, while encouraging each person to explore healthy paths to recovery. \nWhere: 1101 North Central Ave\, Ste. 200\, Phoenix AZ\, 85004. (Safe Space) \nWhen: Tuesdays from 11am – 12pm and Thursdays from 1pm – 2pm \nContact: charisma.meadows@prismacare.org | 602.595.8140 \nskyler.jorgensen@prismacare.org | 602.595.5615
URL:https://prismacare.org/event/recovery-unlocked-group-3/2027-04-08/
LOCATION:Prisma Community Care\, 1101 N. Central Ave.\, Phoenix\, AZ\, 85004\, United States
ORGANIZER;CN="Prisma Community Care":MAILTO:contactus@prismacare.org
END:VEVENT
BEGIN:VEVENT
DTSTART;TZID=UTC:20270413T110000
DTEND;TZID=UTC:20270415T120000
DTSTAMP:20260422T222420
CREATED:20250801T192704Z
LAST-MODIFIED:20250808T180725Z
UID:10001610-1807614000-1807790400@prismacare.org
SUMMARY:Recovery Unlocked Group
DESCRIPTION:Available to Prisma patients. \nDiscover a supportive space to explore how substance use affects the body and mind. \nThis group provides tools to navigate substance dependency and addiction\, while encouraging each person to explore healthy paths to recovery. \nWhere: 1101 North Central Ave\, Ste. 200\, Phoenix AZ\, 85004. (Safe Space) \nWhen: Tuesdays from 11am – 12pm and Thursdays from 1pm – 2pm \nContact: charisma.meadows@prismacare.org | 602.595.8140 \nskyler.jorgensen@prismacare.org | 602.595.5615
URL:https://prismacare.org/event/recovery-unlocked-group/2027-04-13/
LOCATION:Prisma Community Care\, 1101 N. Central Ave.\, Phoenix\, AZ\, 85004\, United States
ORGANIZER;CN="Prisma Community Care":MAILTO:contactus@prismacare.org
END:VEVENT
BEGIN:VEVENT
DTSTART;TZID=UTC:20270414T110000
DTEND;TZID=UTC:20270414T120000
DTSTAMP:20260422T222420
CREATED:20250212T203759Z
LAST-MODIFIED:20250811T181103Z
UID:10001164-1807700400-1807704000@prismacare.org
SUMMARY:Self Awareness Group
DESCRIPTION:Available to Prisma patients. \nA laid back\, eclectic\, and a safe space for clients to come to every week to connect through healing. \nWhere: 1101 North Central Ave\, Ste. 200\, Phoenix AZ\, 85004. \nWhen: Wednesdays from 11 am to 12pm \nContact: charisma.meadows@prismacare.org\n602.595.8140 \n  \n 
URL:https://prismacare.org/event/self-awarness-group/2027-04-14/
LOCATION:Prisma Community Care\, 1101 N. Central Ave.\, Phoenix\, AZ\, 85004\, United States
END:VEVENT
BEGIN:VEVENT
DTSTART;TZID=UTC:20270414T110000
DTEND;TZID=UTC:20270414T120000
DTSTAMP:20260422T222420
CREATED:20250814T202409Z
LAST-MODIFIED:20250814T202515Z
UID:10002450-1807700400-1807704000@prismacare.org
SUMMARY:MINDFUL RECOVERY
DESCRIPTION:A holistic approach that integrates mindfulness practices to support recovery from addiction\, stress\, or other mental health challenges. Here are some key aspects of mindful recovery: \n\nStress managements\nSubstance use intervention\nMindfulness\nRelapse prevention\n\n 
URL:https://prismacare.org/event/mindful-recovery-2/2027-04-14/
LOCATION:Prisma Community Care\, 1101 N. Central Ave.\, Phoenix\, AZ\, 85004\, United States
END:VEVENT
BEGIN:VEVENT
DTSTART;TZID=UTC:20270415T130000
DTEND;TZID=UTC:20270415T140000
DTSTAMP:20260422T222420
CREATED:20250808T180926Z
LAST-MODIFIED:20250808T180926Z
UID:10001939-1807794000-1807797600@prismacare.org
SUMMARY:Recovery Unlocked Group
DESCRIPTION:Available to Prisma patients. \nDiscover a supportive space to explore how substance use affects the body and mind. \nThis group provides tools to navigate substance dependency and addiction\, while encouraging each person to explore healthy paths to recovery. \nWhere: 1101 North Central Ave\, Ste. 200\, Phoenix AZ\, 85004. (Safe Space) \nWhen: Tuesdays from 11am – 12pm and Thursdays from 1pm – 2pm \nContact: charisma.meadows@prismacare.org | 602.595.8140 \nskyler.jorgensen@prismacare.org | 602.595.5615
URL:https://prismacare.org/event/recovery-unlocked-group-3/2027-04-15/
LOCATION:Prisma Community Care\, 1101 N. Central Ave.\, Phoenix\, AZ\, 85004\, United States
ORGANIZER;CN="Prisma Community Care":MAILTO:contactus@prismacare.org
END:VEVENT
BEGIN:VEVENT
DTSTART;TZID=UTC:20270420T110000
DTEND;TZID=UTC:20270422T120000
DTSTAMP:20260422T222420
CREATED:20250801T192704Z
LAST-MODIFIED:20250808T180725Z
UID:10001611-1808218800-1808395200@prismacare.org
SUMMARY:Recovery Unlocked Group
DESCRIPTION:Available to Prisma patients. \nDiscover a supportive space to explore how substance use affects the body and mind. \nThis group provides tools to navigate substance dependency and addiction\, while encouraging each person to explore healthy paths to recovery. \nWhere: 1101 North Central Ave\, Ste. 200\, Phoenix AZ\, 85004. (Safe Space) \nWhen: Tuesdays from 11am – 12pm and Thursdays from 1pm – 2pm \nContact: charisma.meadows@prismacare.org | 602.595.8140 \nskyler.jorgensen@prismacare.org | 602.595.5615
URL:https://prismacare.org/event/recovery-unlocked-group/2027-04-20/
LOCATION:Prisma Community Care\, 1101 N. Central Ave.\, Phoenix\, AZ\, 85004\, United States
ORGANIZER;CN="Prisma Community Care":MAILTO:contactus@prismacare.org
END:VEVENT
BEGIN:VEVENT
DTSTART;TZID=UTC:20270421T110000
DTEND;TZID=UTC:20270421T120000
DTSTAMP:20260422T222420
CREATED:20250212T203759Z
LAST-MODIFIED:20250811T181103Z
UID:10001165-1808305200-1808308800@prismacare.org
SUMMARY:Self Awareness Group
DESCRIPTION:Available to Prisma patients. \nA laid back\, eclectic\, and a safe space for clients to come to every week to connect through healing. \nWhere: 1101 North Central Ave\, Ste. 200\, Phoenix AZ\, 85004. \nWhen: Wednesdays from 11 am to 12pm \nContact: charisma.meadows@prismacare.org\n602.595.8140 \n  \n 
URL:https://prismacare.org/event/self-awarness-group/2027-04-21/
LOCATION:Prisma Community Care\, 1101 N. Central Ave.\, Phoenix\, AZ\, 85004\, United States
END:VEVENT
BEGIN:VEVENT
DTSTART;TZID=UTC:20270421T110000
DTEND;TZID=UTC:20270421T120000
DTSTAMP:20260422T222420
CREATED:20250814T202409Z
LAST-MODIFIED:20250814T202515Z
UID:10002451-1808305200-1808308800@prismacare.org
SUMMARY:MINDFUL RECOVERY
DESCRIPTION:A holistic approach that integrates mindfulness practices to support recovery from addiction\, stress\, or other mental health challenges. Here are some key aspects of mindful recovery: \n\nStress managements\nSubstance use intervention\nMindfulness\nRelapse prevention\n\n 
URL:https://prismacare.org/event/mindful-recovery-2/2027-04-21/
LOCATION:Prisma Community Care\, 1101 N. Central Ave.\, Phoenix\, AZ\, 85004\, United States
END:VEVENT
BEGIN:VEVENT
DTSTART;TZID=UTC:20270422T130000
DTEND;TZID=UTC:20270422T140000
DTSTAMP:20260422T222420
CREATED:20250808T180926Z
LAST-MODIFIED:20250808T180926Z
UID:10001940-1808398800-1808402400@prismacare.org
SUMMARY:Recovery Unlocked Group
DESCRIPTION:Available to Prisma patients. \nDiscover a supportive space to explore how substance use affects the body and mind. \nThis group provides tools to navigate substance dependency and addiction\, while encouraging each person to explore healthy paths to recovery. \nWhere: 1101 North Central Ave\, Ste. 200\, Phoenix AZ\, 85004. (Safe Space) \nWhen: Tuesdays from 11am – 12pm and Thursdays from 1pm – 2pm \nContact: charisma.meadows@prismacare.org | 602.595.8140 \nskyler.jorgensen@prismacare.org | 602.595.5615
URL:https://prismacare.org/event/recovery-unlocked-group-3/2027-04-22/
LOCATION:Prisma Community Care\, 1101 N. Central Ave.\, Phoenix\, AZ\, 85004\, United States
ORGANIZER;CN="Prisma Community Care":MAILTO:contactus@prismacare.org
END:VEVENT
BEGIN:VEVENT
DTSTART;TZID=UTC:20270427T110000
DTEND;TZID=UTC:20270429T120000
DTSTAMP:20260422T222420
CREATED:20250801T192704Z
LAST-MODIFIED:20250808T180725Z
UID:10001612-1808823600-1809000000@prismacare.org
SUMMARY:Recovery Unlocked Group
DESCRIPTION:Available to Prisma patients. \nDiscover a supportive space to explore how substance use affects the body and mind. \nThis group provides tools to navigate substance dependency and addiction\, while encouraging each person to explore healthy paths to recovery. \nWhere: 1101 North Central Ave\, Ste. 200\, Phoenix AZ\, 85004. (Safe Space) \nWhen: Tuesdays from 11am – 12pm and Thursdays from 1pm – 2pm \nContact: charisma.meadows@prismacare.org | 602.595.8140 \nskyler.jorgensen@prismacare.org | 602.595.5615
URL:https://prismacare.org/event/recovery-unlocked-group/2027-04-27/
LOCATION:Prisma Community Care\, 1101 N. Central Ave.\, Phoenix\, AZ\, 85004\, United States
ORGANIZER;CN="Prisma Community Care":MAILTO:contactus@prismacare.org
END:VEVENT
BEGIN:VEVENT
DTSTART;TZID=UTC:20270427T173000
DTEND;TZID=UTC:20270427T190000
DTSTAMP:20260422T222420
CREATED:20250808T205251Z
LAST-MODIFIED:20250808T205251Z
UID:10002133-1808847000-1808852400@prismacare.org
SUMMARY:Positive Living Group
DESCRIPTION:Available to Prisma Patients. \nPositive Living is a welcoming\, judgment-free space for people living with HIV to connect\, share\, and grow. Through peer support\, open discussions\, and educational resources\, this group explores health\, wellness\, relationships\, and personal growth in a safe\, respectful\, and confidential environment. \nWhether you’re newly diagnosed or have been living with HIV for years\, Positive Living offers a safe space to be heard\, understood\, and inspired. \n\n\nWhere: 1101 North Central Ave\, Ste. 200\, Phoenix AZ\, 85004. \n\n\nWhen: Last Tuesday of every month. 5:30 pm – 7 pm \nContact: christopher.carrillo@prismacare.org
URL:https://prismacare.org/event/positive-living-group/2027-04-27/
END:VEVENT
BEGIN:VEVENT
DTSTART;TZID=UTC:20270428T110000
DTEND;TZID=UTC:20270428T120000
DTSTAMP:20260422T222420
CREATED:20250212T203759Z
LAST-MODIFIED:20250811T181103Z
UID:10001166-1808910000-1808913600@prismacare.org
SUMMARY:Self Awareness Group
DESCRIPTION:Available to Prisma patients. \nA laid back\, eclectic\, and a safe space for clients to come to every week to connect through healing. \nWhere: 1101 North Central Ave\, Ste. 200\, Phoenix AZ\, 85004. \nWhen: Wednesdays from 11 am to 12pm \nContact: charisma.meadows@prismacare.org\n602.595.8140 \n  \n 
URL:https://prismacare.org/event/self-awarness-group/2027-04-28/
LOCATION:Prisma Community Care\, 1101 N. Central Ave.\, Phoenix\, AZ\, 85004\, United States
END:VEVENT
BEGIN:VEVENT
DTSTART;TZID=UTC:20270428T110000
DTEND;TZID=UTC:20270428T120000
DTSTAMP:20260422T222420
CREATED:20250814T202409Z
LAST-MODIFIED:20250814T202515Z
UID:10002452-1808910000-1808913600@prismacare.org
SUMMARY:MINDFUL RECOVERY
DESCRIPTION:A holistic approach that integrates mindfulness practices to support recovery from addiction\, stress\, or other mental health challenges. Here are some key aspects of mindful recovery: \n\nStress managements\nSubstance use intervention\nMindfulness\nRelapse prevention\n\n 
URL:https://prismacare.org/event/mindful-recovery-2/2027-04-28/
LOCATION:Prisma Community Care\, 1101 N. Central Ave.\, Phoenix\, AZ\, 85004\, United States
END:VEVENT
BEGIN:VEVENT
DTSTART;TZID=UTC:20270429T130000
DTEND;TZID=UTC:20270429T140000
DTSTAMP:20260422T222420
CREATED:20250808T180926Z
LAST-MODIFIED:20250808T180926Z
UID:10001941-1809003600-1809007200@prismacare.org
SUMMARY:Recovery Unlocked Group
DESCRIPTION:Available to Prisma patients. \nDiscover a supportive space to explore how substance use affects the body and mind. \nThis group provides tools to navigate substance dependency and addiction\, while encouraging each person to explore healthy paths to recovery. \nWhere: 1101 North Central Ave\, Ste. 200\, Phoenix AZ\, 85004. (Safe Space) \nWhen: Tuesdays from 11am – 12pm and Thursdays from 1pm – 2pm \nContact: charisma.meadows@prismacare.org | 602.595.8140 \nskyler.jorgensen@prismacare.org | 602.595.5615
URL:https://prismacare.org/event/recovery-unlocked-group-3/2027-04-29/
LOCATION:Prisma Community Care\, 1101 N. Central Ave.\, Phoenix\, AZ\, 85004\, United States
ORGANIZER;CN="Prisma Community Care":MAILTO:contactus@prismacare.org
END:VEVENT
END:VCALENDAR