BEGIN:VCALENDAR
VERSION:2.0
PRODID:-//Prisma Community Care - ECPv6.10.2//NONSGML v1.0//EN
CALSCALE:GREGORIAN
METHOD:PUBLISH
X-WR-CALNAME:Prisma Community Care
X-ORIGINAL-URL:https://prismacare.org
X-WR-CALDESC:Events for Prisma Community Care
REFRESH-INTERVAL;VALUE=DURATION:PT1H
X-Robots-Tag:noindex
X-PUBLISHED-TTL:PT1H
BEGIN:VTIMEZONE
TZID:UTC
BEGIN:STANDARD
TZOFFSETFROM:+0000
TZOFFSETTO:+0000
TZNAME:UTC
DTSTART:20260101T000000
END:STANDARD
END:VTIMEZONE
BEGIN:VEVENT
DTSTART;TZID=UTC:20260319T170000
DTEND;TZID=UTC:20260319T200000
DTSTAMP:20260421T160948
CREATED:20260227T190356Z
LAST-MODIFIED:20260227T190537Z
UID:10002654-1773939600-1773950400@prismacare.org
SUMMARY:Testing at Brick Road Coffee Copy
DESCRIPTION:Brick Road Coffee is a LGBTQIA2S+ coffee shop where the community intersects\, connects\, and supports each other. \nJoin us at Brick Road Coffee for drinks and resources provided by Prisma Community Care. We offer Insti HIV testing\, which gives results in as little as 60 seconds\, along with connections to primary care\, swag items\, PrEP assessments\, and various health and wellness services. We are kicking off HIV testing week with this event.
URL:https://prismacare.org/event/testing-at-brick-road-coffee-4-copy/
LOCATION:Brick Road\, 4415 S Rural Rd\, Phoenix\, AZ\, 85282\, United States
END:VEVENT
BEGIN:VEVENT
DTSTART;TZID=UTC:20260319T130000
DTEND;TZID=UTC:20260319T140000
DTSTAMP:20260421T160948
CREATED:20250808T180926Z
LAST-MODIFIED:20250808T180926Z
UID:10001883-1773925200-1773928800@prismacare.org
SUMMARY:Recovery Unlocked Group
DESCRIPTION:Available to Prisma patients. \nDiscover a supportive space to explore how substance use affects the body and mind. \nThis group provides tools to navigate substance dependency and addiction\, while encouraging each person to explore healthy paths to recovery. \nWhere: 1101 North Central Ave\, Ste. 200\, Phoenix AZ\, 85004. (Safe Space) \nWhen: Tuesdays from 11am – 12pm and Thursdays from 1pm – 2pm \nContact: charisma.meadows@prismacare.org | 602.595.8140 \nskyler.jorgensen@prismacare.org | 602.595.5615
URL:https://prismacare.org/event/recovery-unlocked-group-3/2026-03-19/
LOCATION:Prisma Community Care\, 1101 N. Central Ave.\, Phoenix\, AZ\, 85004\, United States
ORGANIZER;CN="Prisma Community Care":MAILTO:contactus@prismacare.org
END:VEVENT
BEGIN:VEVENT
DTSTART;TZID=UTC:20260318T110000
DTEND;TZID=UTC:20260318T120000
DTSTAMP:20260421T160948
CREATED:20250814T202409Z
LAST-MODIFIED:20250814T202515Z
UID:10002394-1773831600-1773835200@prismacare.org
SUMMARY:MINDFUL RECOVERY
DESCRIPTION:A holistic approach that integrates mindfulness practices to support recovery from addiction\, stress\, or other mental health challenges. Here are some key aspects of mindful recovery: \n\nStress managements\nSubstance use intervention\nMindfulness\nRelapse prevention\n\n 
URL:https://prismacare.org/event/mindful-recovery-2/2026-03-18/
LOCATION:Prisma Community Care\, 1101 N. Central Ave.\, Phoenix\, AZ\, 85004\, United States
END:VEVENT
BEGIN:VEVENT
DTSTART;TZID=UTC:20260318T110000
DTEND;TZID=UTC:20260318T120000
DTSTAMP:20260421T160948
CREATED:20250212T203759Z
LAST-MODIFIED:20250811T181103Z
UID:10001108-1773831600-1773835200@prismacare.org
SUMMARY:Self Awareness Group
DESCRIPTION:Available to Prisma patients. \nA laid back\, eclectic\, and a safe space for clients to come to every week to connect through healing. \nWhere: 1101 North Central Ave\, Ste. 200\, Phoenix AZ\, 85004. \nWhen: Wednesdays from 11 am to 12pm \nContact: charisma.meadows@prismacare.org\n602.595.8140 \n  \n 
URL:https://prismacare.org/event/self-awarness-group/2026-03-18/
LOCATION:Prisma Community Care\, 1101 N. Central Ave.\, Phoenix\, AZ\, 85004\, United States
END:VEVENT
BEGIN:VEVENT
DTSTART;TZID=UTC:20260317T110000
DTEND;TZID=UTC:20260319T120000
DTSTAMP:20260421T160948
CREATED:20250801T192704Z
LAST-MODIFIED:20250808T180725Z
UID:10001554-1773745200-1773921600@prismacare.org
SUMMARY:Recovery Unlocked Group
DESCRIPTION:Available to Prisma patients. \nDiscover a supportive space to explore how substance use affects the body and mind. \nThis group provides tools to navigate substance dependency and addiction\, while encouraging each person to explore healthy paths to recovery. \nWhere: 1101 North Central Ave\, Ste. 200\, Phoenix AZ\, 85004. (Safe Space) \nWhen: Tuesdays from 11am – 12pm and Thursdays from 1pm – 2pm \nContact: charisma.meadows@prismacare.org | 602.595.8140 \nskyler.jorgensen@prismacare.org | 602.595.5615
URL:https://prismacare.org/event/recovery-unlocked-group/2026-03-17/
LOCATION:Prisma Community Care\, 1101 N. Central Ave.\, Phoenix\, AZ\, 85004\, United States
ORGANIZER;CN="Prisma Community Care":MAILTO:contactus@prismacare.org
END:VEVENT
BEGIN:VEVENT
DTSTART;TZID=UTC:20260317T090000
DTEND;TZID=UTC:20260317T120000
DTSTAMP:20260421T160948
CREATED:20260227T185643Z
LAST-MODIFIED:20260227T185643Z
UID:10002652-1773738000-1773748800@prismacare.org
SUMMARY:FairTrade Coffee
DESCRIPTION:
URL:https://prismacare.org/event/fairtrade-coffee/
LOCATION:AZ
END:VEVENT
BEGIN:VEVENT
DTSTART;TZID=UTC:20260313T190000
DTEND;TZID=UTC:20260315T230000
DTSTAMP:20260421T160948
CREATED:20260227T185524Z
LAST-MODIFIED:20260227T185524Z
UID:10002651-1773428400-1773615600@prismacare.org
SUMMARY:Tempe Festival of the Arts
DESCRIPTION:Tempe Festival of the Arts has a 50+ year history in Tempe and takes place in early December and early to mid-March each year. It is one of the oldest festivals in the Southwest. The festival has grown to become a Tempe point of pride and a favorite of our residents and visitors. Guests enjoy artists from around the country\, local music\, a Kids Block and many great food options – all located on the streets of historic Mill Avenue.
URL:https://prismacare.org/event/tempe-festival-of-the-arts/
LOCATION:Centerpoint Plaza\, 660-740 S Mill Ave\, Tempe\, AZ\, United States
END:VEVENT
BEGIN:VEVENT
DTSTART;TZID=UTC:20260313T100000
DTEND;TZID=UTC:20260313T120000
DTSTAMP:20260421T160948
CREATED:20250813T190912Z
LAST-MODIFIED:20250813T190912Z
UID:10002337-1773396000-1773403200@prismacare.org
SUMMARY:Creative Collage in Art Therapy
DESCRIPTION:Available to Prisma Patients. \nThis workshop introduces collage-making as a therapeutic tool\, offering an accessible starting point for those hesitant about making art. Participants will explore its uses in therapy\, get practical setup tips\, and create collages in a relaxed group setting. Each session\, a facilitator will introduce a new lesson on nervous system regulation blending DBT skills\, somatic practices\, and polyvagal theory insights. \n\n\n\nWhere: 1101 North Central Ave\, Ste. 200\, Phoenix AZ\, 85004. (The Safe Space) \n\n\nWhen: Fridays 10:00 a.m. – 12:00 p.m | August 22 – September 15\, 2025 \nContact: eden.gillund@prismacare.org OR mallory.waldrop@prismacare.org
URL:https://prismacare.org/event/creative-collage-in-art-therapy/2026-03-13/
LOCATION:AZ
END:VEVENT
BEGIN:VEVENT
DTSTART;TZID=UTC:20260312T130000
DTEND;TZID=UTC:20260312T140000
DTSTAMP:20260421T160948
CREATED:20250808T180926Z
LAST-MODIFIED:20250808T180926Z
UID:10001882-1773320400-1773324000@prismacare.org
SUMMARY:Recovery Unlocked Group
DESCRIPTION:Available to Prisma patients. \nDiscover a supportive space to explore how substance use affects the body and mind. \nThis group provides tools to navigate substance dependency and addiction\, while encouraging each person to explore healthy paths to recovery. \nWhere: 1101 North Central Ave\, Ste. 200\, Phoenix AZ\, 85004. (Safe Space) \nWhen: Tuesdays from 11am – 12pm and Thursdays from 1pm – 2pm \nContact: charisma.meadows@prismacare.org | 602.595.8140 \nskyler.jorgensen@prismacare.org | 602.595.5615
URL:https://prismacare.org/event/recovery-unlocked-group-3/2026-03-12/
LOCATION:Prisma Community Care\, 1101 N. Central Ave.\, Phoenix\, AZ\, 85004\, United States
ORGANIZER;CN="Prisma Community Care":MAILTO:contactus@prismacare.org
END:VEVENT
BEGIN:VEVENT
DTSTART;TZID=UTC:20260311T110000
DTEND;TZID=UTC:20260311T120000
DTSTAMP:20260421T160948
CREATED:20250814T202409Z
LAST-MODIFIED:20250814T202515Z
UID:10002393-1773226800-1773230400@prismacare.org
SUMMARY:MINDFUL RECOVERY
DESCRIPTION:A holistic approach that integrates mindfulness practices to support recovery from addiction\, stress\, or other mental health challenges. Here are some key aspects of mindful recovery: \n\nStress managements\nSubstance use intervention\nMindfulness\nRelapse prevention\n\n 
URL:https://prismacare.org/event/mindful-recovery-2/2026-03-11/
LOCATION:Prisma Community Care\, 1101 N. Central Ave.\, Phoenix\, AZ\, 85004\, United States
END:VEVENT
BEGIN:VEVENT
DTSTART;TZID=UTC:20260311T110000
DTEND;TZID=UTC:20260311T120000
DTSTAMP:20260421T160948
CREATED:20250212T203759Z
LAST-MODIFIED:20250811T181103Z
UID:10001107-1773226800-1773230400@prismacare.org
SUMMARY:Self Awareness Group
DESCRIPTION:Available to Prisma patients. \nA laid back\, eclectic\, and a safe space for clients to come to every week to connect through healing. \nWhere: 1101 North Central Ave\, Ste. 200\, Phoenix AZ\, 85004. \nWhen: Wednesdays from 11 am to 12pm \nContact: charisma.meadows@prismacare.org\n602.595.8140 \n  \n 
URL:https://prismacare.org/event/self-awarness-group/2026-03-11/
LOCATION:Prisma Community Care\, 1101 N. Central Ave.\, Phoenix\, AZ\, 85004\, United States
END:VEVENT
BEGIN:VEVENT
DTSTART;TZID=UTC:20260310T110000
DTEND;TZID=UTC:20260312T120000
DTSTAMP:20260421T160948
CREATED:20250801T192704Z
LAST-MODIFIED:20250808T180725Z
UID:10001553-1773140400-1773316800@prismacare.org
SUMMARY:Recovery Unlocked Group
DESCRIPTION:Available to Prisma patients. \nDiscover a supportive space to explore how substance use affects the body and mind. \nThis group provides tools to navigate substance dependency and addiction\, while encouraging each person to explore healthy paths to recovery. \nWhere: 1101 North Central Ave\, Ste. 200\, Phoenix AZ\, 85004. (Safe Space) \nWhen: Tuesdays from 11am – 12pm and Thursdays from 1pm – 2pm \nContact: charisma.meadows@prismacare.org | 602.595.8140 \nskyler.jorgensen@prismacare.org | 602.595.5615
URL:https://prismacare.org/event/recovery-unlocked-group/2026-03-10/
LOCATION:Prisma Community Care\, 1101 N. Central Ave.\, Phoenix\, AZ\, 85004\, United States
ORGANIZER;CN="Prisma Community Care":MAILTO:contactus@prismacare.org
END:VEVENT
BEGIN:VEVENT
DTSTART;TZID=UTC:20260306T100000
DTEND;TZID=UTC:20260306T140000
DTSTAMP:20260421T160948
CREATED:20260227T184838Z
LAST-MODIFIED:20260227T184838Z
UID:10002650-1772791200-1772805600@prismacare.org
SUMMARY:International Women's Day
DESCRIPTION:Celebrate\, connect\, and be inspired at International Women’s Day 2026\, presented by the East Valley Hispanic Chamber of Commerce (EVHCC) and the Women’s Innovative Network. \nThis special event brings together women entrepreneurs\, professionals\, creatives\, and community leaders from across the East Valley for a powerful day of connection\, celebration\, and empowerment in honor of women’s achievements and impact. \n 
URL:https://prismacare.org/event/international-womens-day-2/
LOCATION:Dobson Ranch Golf Course\, 2155 S Dobson Rd\, Mesa\, AZ\, 85202\, United States
END:VEVENT
BEGIN:VEVENT
DTSTART;TZID=UTC:20260306T100000
DTEND;TZID=UTC:20260306T120000
DTSTAMP:20260421T160948
CREATED:20250813T190912Z
LAST-MODIFIED:20250813T190912Z
UID:10002336-1772791200-1772798400@prismacare.org
SUMMARY:Creative Collage in Art Therapy
DESCRIPTION:Available to Prisma Patients. \nThis workshop introduces collage-making as a therapeutic tool\, offering an accessible starting point for those hesitant about making art. Participants will explore its uses in therapy\, get practical setup tips\, and create collages in a relaxed group setting. Each session\, a facilitator will introduce a new lesson on nervous system regulation blending DBT skills\, somatic practices\, and polyvagal theory insights. \n\n\n\nWhere: 1101 North Central Ave\, Ste. 200\, Phoenix AZ\, 85004. (The Safe Space) \n\n\nWhen: Fridays 10:00 a.m. – 12:00 p.m | August 22 – September 15\, 2025 \nContact: eden.gillund@prismacare.org OR mallory.waldrop@prismacare.org
URL:https://prismacare.org/event/creative-collage-in-art-therapy/2026-03-06/
LOCATION:AZ
END:VEVENT
BEGIN:VEVENT
DTSTART;TZID=UTC:20260305T130000
DTEND;TZID=UTC:20260305T140000
DTSTAMP:20260421T160948
CREATED:20250808T180926Z
LAST-MODIFIED:20250808T180926Z
UID:10001881-1772715600-1772719200@prismacare.org
SUMMARY:Recovery Unlocked Group
DESCRIPTION:Available to Prisma patients. \nDiscover a supportive space to explore how substance use affects the body and mind. \nThis group provides tools to navigate substance dependency and addiction\, while encouraging each person to explore healthy paths to recovery. \nWhere: 1101 North Central Ave\, Ste. 200\, Phoenix AZ\, 85004. (Safe Space) \nWhen: Tuesdays from 11am – 12pm and Thursdays from 1pm – 2pm \nContact: charisma.meadows@prismacare.org | 602.595.8140 \nskyler.jorgensen@prismacare.org | 602.595.5615
URL:https://prismacare.org/event/recovery-unlocked-group-3/2026-03-05/
LOCATION:Prisma Community Care\, 1101 N. Central Ave.\, Phoenix\, AZ\, 85004\, United States
ORGANIZER;CN="Prisma Community Care":MAILTO:contactus@prismacare.org
END:VEVENT
BEGIN:VEVENT
DTSTART;TZID=UTC:20260304T110000
DTEND;TZID=UTC:20260304T120000
DTSTAMP:20260421T160948
CREATED:20250814T202409Z
LAST-MODIFIED:20250814T202515Z
UID:10002392-1772622000-1772625600@prismacare.org
SUMMARY:MINDFUL RECOVERY
DESCRIPTION:A holistic approach that integrates mindfulness practices to support recovery from addiction\, stress\, or other mental health challenges. Here are some key aspects of mindful recovery: \n\nStress managements\nSubstance use intervention\nMindfulness\nRelapse prevention\n\n 
URL:https://prismacare.org/event/mindful-recovery-2/2026-03-04/
LOCATION:Prisma Community Care\, 1101 N. Central Ave.\, Phoenix\, AZ\, 85004\, United States
END:VEVENT
BEGIN:VEVENT
DTSTART;TZID=UTC:20260304T110000
DTEND;TZID=UTC:20260304T120000
DTSTAMP:20260421T160948
CREATED:20250212T203759Z
LAST-MODIFIED:20250811T181103Z
UID:10001106-1772622000-1772625600@prismacare.org
SUMMARY:Self Awareness Group
DESCRIPTION:Available to Prisma patients. \nA laid back\, eclectic\, and a safe space for clients to come to every week to connect through healing. \nWhere: 1101 North Central Ave\, Ste. 200\, Phoenix AZ\, 85004. \nWhen: Wednesdays from 11 am to 12pm \nContact: charisma.meadows@prismacare.org\n602.595.8140 \n  \n 
URL:https://prismacare.org/event/self-awarness-group/2026-03-04/
LOCATION:Prisma Community Care\, 1101 N. Central Ave.\, Phoenix\, AZ\, 85004\, United States
END:VEVENT
BEGIN:VEVENT
DTSTART;TZID=UTC:20260303T110000
DTEND;TZID=UTC:20260305T120000
DTSTAMP:20260421T160948
CREATED:20250801T192704Z
LAST-MODIFIED:20250808T180725Z
UID:10001552-1772535600-1772712000@prismacare.org
SUMMARY:Recovery Unlocked Group
DESCRIPTION:Available to Prisma patients. \nDiscover a supportive space to explore how substance use affects the body and mind. \nThis group provides tools to navigate substance dependency and addiction\, while encouraging each person to explore healthy paths to recovery. \nWhere: 1101 North Central Ave\, Ste. 200\, Phoenix AZ\, 85004. (Safe Space) \nWhen: Tuesdays from 11am – 12pm and Thursdays from 1pm – 2pm \nContact: charisma.meadows@prismacare.org | 602.595.8140 \nskyler.jorgensen@prismacare.org | 602.595.5615
URL:https://prismacare.org/event/recovery-unlocked-group/2026-03-03/
LOCATION:Prisma Community Care\, 1101 N. Central Ave.\, Phoenix\, AZ\, 85004\, United States
ORGANIZER;CN="Prisma Community Care":MAILTO:contactus@prismacare.org
END:VEVENT
BEGIN:VEVENT
DTSTART;TZID=UTC:20260228T110000
DTEND;TZID=UTC:20260228T170000
DTSTAMP:20260421T160948
CREATED:20260210T181733Z
LAST-MODIFIED:20260210T181733Z
UID:10002649-1772276400-1772298000@prismacare.org
SUMMARY:Melrose Street Fair
DESCRIPTION:This annual one-day event spans over a half mile in the heart of Phoenix’s Melrose District on 7th Avenue from Indian School to Campbell Avenue. The event is FREE to the public and features over 200 local and independent artisans\, food trucks\, live musicians\, a farmer’s market\, a kids zone\, a craft beer garden and all the awesome local businesses along 7th Ave.
URL:https://prismacare.org/event/melrose-street-fair-2/
LOCATION:Melrose District\, 7th Avenue and Indian School Road Phoenix\, AZ 85013-3014\, Phoenix\, AZ\, AZ\, 85013\, United States
END:VEVENT
BEGIN:VEVENT
DTSTART;TZID=UTC:20260227T100000
DTEND;TZID=UTC:20260227T120000
DTSTAMP:20260421T160948
CREATED:20250813T190912Z
LAST-MODIFIED:20250813T190912Z
UID:10002335-1772186400-1772193600@prismacare.org
SUMMARY:Creative Collage in Art Therapy
DESCRIPTION:Available to Prisma Patients. \nThis workshop introduces collage-making as a therapeutic tool\, offering an accessible starting point for those hesitant about making art. Participants will explore its uses in therapy\, get practical setup tips\, and create collages in a relaxed group setting. Each session\, a facilitator will introduce a new lesson on nervous system regulation blending DBT skills\, somatic practices\, and polyvagal theory insights. \n\n\n\nWhere: 1101 North Central Ave\, Ste. 200\, Phoenix AZ\, 85004. (The Safe Space) \n\n\nWhen: Fridays 10:00 a.m. – 12:00 p.m | August 22 – September 15\, 2025 \nContact: eden.gillund@prismacare.org OR mallory.waldrop@prismacare.org
URL:https://prismacare.org/event/creative-collage-in-art-therapy/2026-02-27/
LOCATION:AZ
END:VEVENT
BEGIN:VEVENT
DTSTART;TZID=UTC:20260226T130000
DTEND;TZID=UTC:20260226T140000
DTSTAMP:20260421T160948
CREATED:20250808T180926Z
LAST-MODIFIED:20250808T180926Z
UID:10001880-1772110800-1772114400@prismacare.org
SUMMARY:Recovery Unlocked Group
DESCRIPTION:Available to Prisma patients. \nDiscover a supportive space to explore how substance use affects the body and mind. \nThis group provides tools to navigate substance dependency and addiction\, while encouraging each person to explore healthy paths to recovery. \nWhere: 1101 North Central Ave\, Ste. 200\, Phoenix AZ\, 85004. (Safe Space) \nWhen: Tuesdays from 11am – 12pm and Thursdays from 1pm – 2pm \nContact: charisma.meadows@prismacare.org | 602.595.8140 \nskyler.jorgensen@prismacare.org | 602.595.5615
URL:https://prismacare.org/event/recovery-unlocked-group-3/2026-02-26/
LOCATION:Prisma Community Care\, 1101 N. Central Ave.\, Phoenix\, AZ\, 85004\, United States
ORGANIZER;CN="Prisma Community Care":MAILTO:contactus@prismacare.org
END:VEVENT
BEGIN:VEVENT
DTSTART;TZID=UTC:20260225T110000
DTEND;TZID=UTC:20260225T120000
DTSTAMP:20260421T160948
CREATED:20250814T202409Z
LAST-MODIFIED:20250814T202515Z
UID:10002391-1772017200-1772020800@prismacare.org
SUMMARY:MINDFUL RECOVERY
DESCRIPTION:A holistic approach that integrates mindfulness practices to support recovery from addiction\, stress\, or other mental health challenges. Here are some key aspects of mindful recovery: \n\nStress managements\nSubstance use intervention\nMindfulness\nRelapse prevention\n\n 
URL:https://prismacare.org/event/mindful-recovery-2/2026-02-25/
LOCATION:Prisma Community Care\, 1101 N. Central Ave.\, Phoenix\, AZ\, 85004\, United States
END:VEVENT
BEGIN:VEVENT
DTSTART;TZID=UTC:20260225T110000
DTEND;TZID=UTC:20260225T120000
DTSTAMP:20260421T160948
CREATED:20250212T203759Z
LAST-MODIFIED:20250811T181103Z
UID:10001105-1772017200-1772020800@prismacare.org
SUMMARY:Self Awareness Group
DESCRIPTION:Available to Prisma patients. \nA laid back\, eclectic\, and a safe space for clients to come to every week to connect through healing. \nWhere: 1101 North Central Ave\, Ste. 200\, Phoenix AZ\, 85004. \nWhen: Wednesdays from 11 am to 12pm \nContact: charisma.meadows@prismacare.org\n602.595.8140 \n  \n 
URL:https://prismacare.org/event/self-awarness-group/2026-02-25/
LOCATION:Prisma Community Care\, 1101 N. Central Ave.\, Phoenix\, AZ\, 85004\, United States
END:VEVENT
BEGIN:VEVENT
DTSTART;TZID=UTC:20260224T173000
DTEND;TZID=UTC:20260224T190000
DTSTAMP:20260421T160948
CREATED:20250808T205251Z
LAST-MODIFIED:20250808T205251Z
UID:10002119-1771954200-1771959600@prismacare.org
SUMMARY:Positive Living Group
DESCRIPTION:Available to Prisma Patients. \nPositive Living is a welcoming\, judgment-free space for people living with HIV to connect\, share\, and grow. Through peer support\, open discussions\, and educational resources\, this group explores health\, wellness\, relationships\, and personal growth in a safe\, respectful\, and confidential environment. \nWhether you’re newly diagnosed or have been living with HIV for years\, Positive Living offers a safe space to be heard\, understood\, and inspired. \n\n\nWhere: 1101 North Central Ave\, Ste. 200\, Phoenix AZ\, 85004. \n\n\nWhen: Last Tuesday of every month. 5:30 pm – 7 pm \nContact: christopher.carrillo@prismacare.org
URL:https://prismacare.org/event/positive-living-group/2026-02-24/
LOCATION:AZ
END:VEVENT
BEGIN:VEVENT
DTSTART;TZID=UTC:20260224T110000
DTEND;TZID=UTC:20260226T120000
DTSTAMP:20260421T160948
CREATED:20250801T192704Z
LAST-MODIFIED:20250808T180725Z
UID:10001551-1771930800-1772107200@prismacare.org
SUMMARY:Recovery Unlocked Group
DESCRIPTION:Available to Prisma patients. \nDiscover a supportive space to explore how substance use affects the body and mind. \nThis group provides tools to navigate substance dependency and addiction\, while encouraging each person to explore healthy paths to recovery. \nWhere: 1101 North Central Ave\, Ste. 200\, Phoenix AZ\, 85004. (Safe Space) \nWhen: Tuesdays from 11am – 12pm and Thursdays from 1pm – 2pm \nContact: charisma.meadows@prismacare.org | 602.595.8140 \nskyler.jorgensen@prismacare.org | 602.595.5615
URL:https://prismacare.org/event/recovery-unlocked-group/2026-02-24/
LOCATION:Prisma Community Care\, 1101 N. Central Ave.\, Phoenix\, AZ\, 85004\, United States
ORGANIZER;CN="Prisma Community Care":MAILTO:contactus@prismacare.org
END:VEVENT
BEGIN:VEVENT
DTSTART;TZID=UTC:20260221T100000
DTEND;TZID=UTC:20260221T153000
DTSTAMP:20260421T160948
CREATED:20260210T180538Z
LAST-MODIFIED:20260210T180538Z
UID:10002648-1771668000-1771687800@prismacare.org
SUMMARY:Arizona 2 Spirit Powwow
DESCRIPTION:Prisma will be tabling at the AZ Two Spirit powwow at South Mountain Community college.
URL:https://prismacare.org/event/arizona-2-spirit-powwow/
LOCATION:South Mountain Community College\, 7050 S 24th St\, Phoenix\, AZ\, 85042\, United States
END:VEVENT
BEGIN:VEVENT
DTSTART;TZID=UTC:20260220T100000
DTEND;TZID=UTC:20260220T120000
DTSTAMP:20260421T160948
CREATED:20250813T190912Z
LAST-MODIFIED:20250813T190912Z
UID:10002334-1771581600-1771588800@prismacare.org
SUMMARY:Creative Collage in Art Therapy
DESCRIPTION:Available to Prisma Patients. \nThis workshop introduces collage-making as a therapeutic tool\, offering an accessible starting point for those hesitant about making art. Participants will explore its uses in therapy\, get practical setup tips\, and create collages in a relaxed group setting. Each session\, a facilitator will introduce a new lesson on nervous system regulation blending DBT skills\, somatic practices\, and polyvagal theory insights. \n\n\n\nWhere: 1101 North Central Ave\, Ste. 200\, Phoenix AZ\, 85004. (The Safe Space) \n\n\nWhen: Fridays 10:00 a.m. – 12:00 p.m | August 22 – September 15\, 2025 \nContact: eden.gillund@prismacare.org OR mallory.waldrop@prismacare.org
URL:https://prismacare.org/event/creative-collage-in-art-therapy/2026-02-20/
LOCATION:AZ
END:VEVENT
BEGIN:VEVENT
DTSTART;TZID=UTC:20260219T170000
DTEND;TZID=UTC:20260219T200000
DTSTAMP:20260421T160948
CREATED:20251208T174636Z
LAST-MODIFIED:20260203T185820Z
UID:10002641-1771520400-1771531200@prismacare.org
SUMMARY:Testing at Brick Road Coffee
DESCRIPTION:Brick Road Coffee is a LGBTQIA2S+ coffee shop where the community intersects\, connects\, and supports each other. \nJoin us at Brick Road Coffee for drinks and resources provided by Prisma Community Care. We offer Insti HIV testing\, which gives results in as little as 60 seconds\, along with connections to primary care\, swag items\, PrEP assessments\, and various health and wellness services. We are kicking off HIV testing week with this event.
URL:https://prismacare.org/event/testing-at-brick-road-coffee-4/
LOCATION:Brick Road\, 4415 S Rural Rd\, Phoenix\, AZ\, 85282\, United States
END:VEVENT
BEGIN:VEVENT
DTSTART;TZID=UTC:20260219T130000
DTEND;TZID=UTC:20260219T140000
DTSTAMP:20260421T160948
CREATED:20250808T180926Z
LAST-MODIFIED:20250808T180926Z
UID:10001879-1771506000-1771509600@prismacare.org
SUMMARY:Recovery Unlocked Group
DESCRIPTION:Available to Prisma patients. \nDiscover a supportive space to explore how substance use affects the body and mind. \nThis group provides tools to navigate substance dependency and addiction\, while encouraging each person to explore healthy paths to recovery. \nWhere: 1101 North Central Ave\, Ste. 200\, Phoenix AZ\, 85004. (Safe Space) \nWhen: Tuesdays from 11am – 12pm and Thursdays from 1pm – 2pm \nContact: charisma.meadows@prismacare.org | 602.595.8140 \nskyler.jorgensen@prismacare.org | 602.595.5615
URL:https://prismacare.org/event/recovery-unlocked-group-3/2026-02-19/
LOCATION:Prisma Community Care\, 1101 N. Central Ave.\, Phoenix\, AZ\, 85004\, United States
ORGANIZER;CN="Prisma Community Care":MAILTO:contactus@prismacare.org
END:VEVENT
BEGIN:VEVENT
DTSTART;TZID=UTC:20260218T110000
DTEND;TZID=UTC:20260218T120000
DTSTAMP:20260421T160948
CREATED:20250814T202409Z
LAST-MODIFIED:20250814T202515Z
UID:10002390-1771412400-1771416000@prismacare.org
SUMMARY:MINDFUL RECOVERY
DESCRIPTION:A holistic approach that integrates mindfulness practices to support recovery from addiction\, stress\, or other mental health challenges. Here are some key aspects of mindful recovery: \n\nStress managements\nSubstance use intervention\nMindfulness\nRelapse prevention\n\n 
URL:https://prismacare.org/event/mindful-recovery-2/2026-02-18/
LOCATION:Prisma Community Care\, 1101 N. Central Ave.\, Phoenix\, AZ\, 85004\, United States
END:VEVENT
END:VCALENDAR