BEGIN:VCALENDAR
VERSION:2.0
PRODID:-//Prisma Community Care - ECPv6.10.2//NONSGML v1.0//EN
CALSCALE:GREGORIAN
METHOD:PUBLISH
X-WR-CALNAME:Prisma Community Care
X-ORIGINAL-URL:https://prismacare.org
X-WR-CALDESC:Events for Prisma Community Care
REFRESH-INTERVAL;VALUE=DURATION:PT1H
X-Robots-Tag:noindex
X-PUBLISHED-TTL:PT1H
BEGIN:VTIMEZONE
TZID:UTC
BEGIN:STANDARD
TZOFFSETFROM:+0000
TZOFFSETTO:+0000
TZNAME:UTC
DTSTART:20250101T000000
END:STANDARD
END:VTIMEZONE
BEGIN:VEVENT
DTSTART;TZID=UTC:20251202T160000
DTEND;TZID=UTC:20251202T173000
DTSTAMP:20260424T140717
CREATED:20250801T191645Z
LAST-MODIFIED:20251201T184121Z
UID:10001495-1764691200-1764696600@prismacare.org
SUMMARY:ADULT GAME GROUP
DESCRIPTION:Available to Prisma Patients. \nIn this weekly group\, connect with other adults through team-building board and card games designed to foster meaningful connection and interaction. \nGames will be both familiar and new\, encouraging thoughtful conversation to build emotional awareness and reduce social anxiety and negative self-talk. \nWhere: 1101 North Central Ave\, Ste. 200\, Phoenix AZ\, 85004. (BH Group Room) \nWhen: Tuesdays from 4pm – 5:30pm \nContact: lili.gutierrez@prismacare.org \n 
URL:https://prismacare.org/event/adult-game-group/2025-12-02/
LOCATION:Prisma Community Care\, 1101 N. Central Ave.\, Phoenix\, AZ\, 85004\, United States
ORGANIZER;CN="Prisma Community Care":MAILTO:contactus@prismacare.org
END:VEVENT
BEGIN:VEVENT
DTSTART;TZID=UTC:20251202T110000
DTEND;TZID=UTC:20251204T120000
DTSTAMP:20260424T140717
CREATED:20250801T192704Z
LAST-MODIFIED:20250808T180725Z
UID:10001539-1764673200-1764849600@prismacare.org
SUMMARY:Recovery Unlocked Group
DESCRIPTION:Available to Prisma patients. \nDiscover a supportive space to explore how substance use affects the body and mind. \nThis group provides tools to navigate substance dependency and addiction\, while encouraging each person to explore healthy paths to recovery. \nWhere: 1101 North Central Ave\, Ste. 200\, Phoenix AZ\, 85004. (Safe Space) \nWhen: Tuesdays from 11am – 12pm and Thursdays from 1pm – 2pm \nContact: charisma.meadows@prismacare.org | 602.595.8140 \nskyler.jorgensen@prismacare.org | 602.595.5615
URL:https://prismacare.org/event/recovery-unlocked-group/2025-12-02/
LOCATION:Prisma Community Care\, 1101 N. Central Ave.\, Phoenix\, AZ\, 85004\, United States
ORGANIZER;CN="Prisma Community Care":MAILTO:contactus@prismacare.org
END:VEVENT
BEGIN:VEVENT
DTSTART;TZID=UTC:20251201T110000
DTEND;TZID=UTC:20251201T130000
DTSTAMP:20260424T140717
CREATED:20251107T214749Z
LAST-MODIFIED:20251121T202844Z
UID:10002637-1764586800-1764594000@prismacare.org
SUMMARY:World AIDS Day: Lunch & Learn → AIDS Memorial Quilt → Candlelight Vigil
DESCRIPTION:  \nLearn. Remember. Act.On World AIDS Day\, we turn data into action and remembrance into community. Save your seat for the Lunch & Learn\, explore the AIDS Memorial Quilt on site\, and join the evening Candlelight Vigil. \n \nEvent details\nLunch & Learn (RSVP required) \n \nWhat to expect: Arizona’s latest HIV data translated into practical steps to engage and re-engage people living with HIV in care—with voices from research\, clinical care\, community leadership\, and lived experience. \nPanelists: \n\nHeather A. Smith\, LMSW\, Senior Community Liaison\, Gilead\nStacey Jay Cavaliere\, Executive Director\, Aunt Rita’s Foundation\nAngel B. Algarin\, PhD\, MPH\, Assistant Professor\, Arizona State University\nTaylor Piontek\, MSN\, APRN\, FNP-C\, AAHIVS\, Prisma Community Car\n\nQuilt on site: View selected AIDS Memorial Quilt panels and use our interactive display to explore stories and search the Quilt database before and after the program. \n[RSVP for Lunch & Learn] Space is limited; registrants receive resources post-event. \nCandlelight Vigil (hosted by Aunt Rita’s Foundation) \n \nRSVP is not needed. \nTime: 5:30 PM mingle • 6:00 PM program | Location: 326 E Coronado Rd\, Suite 102\, Phoenix\, AZ 85004
URL:https://prismacare.org/event/world-aids-day/
LOCATION:The Parsons Center for Health and Wellness\, 1101 N Central Ave\, Phoenix\, AZ\, 85004\, United States
ORGANIZER;CN="Prisma Community Care":MAILTO:contactus@prismacare.org
END:VEVENT
BEGIN:VEVENT
DTSTART;TZID=UTC:20251128T100000
DTEND;TZID=UTC:20251128T120000
DTSTAMP:20260424T140717
CREATED:20250813T190912Z
LAST-MODIFIED:20250813T190912Z
UID:10002322-1764324000-1764331200@prismacare.org
SUMMARY:Creative Collage in Art Therapy
DESCRIPTION:Available to Prisma Patients. \nThis workshop introduces collage-making as a therapeutic tool\, offering an accessible starting point for those hesitant about making art. Participants will explore its uses in therapy\, get practical setup tips\, and create collages in a relaxed group setting. Each session\, a facilitator will introduce a new lesson on nervous system regulation blending DBT skills\, somatic practices\, and polyvagal theory insights. \n\n\n\nWhere: 1101 North Central Ave\, Ste. 200\, Phoenix AZ\, 85004. (The Safe Space) \n\n\nWhen: Fridays 10:00 a.m. – 12:00 p.m | August 22 – September 15\, 2025 \nContact: eden.gillund@prismacare.org OR mallory.waldrop@prismacare.org
URL:https://prismacare.org/event/creative-collage-in-art-therapy/2025-11-28/
END:VEVENT
BEGIN:VEVENT
DTSTART;TZID=UTC:20251127T163000
DTEND;TZID=UTC:20251127T183000
DTSTAMP:20260424T140717
CREATED:20250801T194731Z
LAST-MODIFIED:20250801T194731Z
UID:10001800-1764261000-1764268200@prismacare.org
SUMMARY:Art Therapy Group
DESCRIPTION:Available for Prisma patients. \nIn this weekly clay workshop\, discover how working with clay can calm the mind\, encourage self-reflection\, and build coping skills. \nEach session offers a new mindfulness prompt to build emotional awareness and manage stress. \nWhere: 1101 North Central Ave\, Ste. 200\, Phoenix AZ\, 85004. (The Safe Space) \nWhen: Every Thursday from 4:30 p.m.-6:30 p.m. \nContact: eden.gillund@prismacare.org\nmallory.waldrop@prismacare.org
URL:https://prismacare.org/event/art-therapy-group/2025-11-27/
LOCATION:Prisma Community Care\, 1101 N. Central Ave.\, Phoenix\, AZ\, 85004\, United States
ORGANIZER;CN="Prisma Community Care":MAILTO:contactus@prismacare.org
END:VEVENT
BEGIN:VEVENT
DTSTART;TZID=UTC:20251127T130000
DTEND;TZID=UTC:20251127T140000
DTSTAMP:20260424T140717
CREATED:20250808T180926Z
LAST-MODIFIED:20250808T180926Z
UID:10001867-1764248400-1764252000@prismacare.org
SUMMARY:Recovery Unlocked Group
DESCRIPTION:Available to Prisma patients. \nDiscover a supportive space to explore how substance use affects the body and mind. \nThis group provides tools to navigate substance dependency and addiction\, while encouraging each person to explore healthy paths to recovery. \nWhere: 1101 North Central Ave\, Ste. 200\, Phoenix AZ\, 85004. (Safe Space) \nWhen: Tuesdays from 11am – 12pm and Thursdays from 1pm – 2pm \nContact: charisma.meadows@prismacare.org | 602.595.8140 \nskyler.jorgensen@prismacare.org | 602.595.5615
URL:https://prismacare.org/event/recovery-unlocked-group-3/2025-11-27/
LOCATION:Prisma Community Care\, 1101 N. Central Ave.\, Phoenix\, AZ\, 85004\, United States
ORGANIZER;CN="Prisma Community Care":MAILTO:contactus@prismacare.org
END:VEVENT
BEGIN:VEVENT
DTSTART;TZID=UTC:20251126T163000
DTEND;TZID=UTC:20251126T173000
DTSTAMP:20260424T140717
CREATED:20250808T210223Z
LAST-MODIFIED:20251201T184044Z
UID:10002188-1764174600-1764178200@prismacare.org
SUMMARY:Dungeons and Dragons (Ages 8-12)
DESCRIPTION:A welcoming space where children can explore and work through difficult emotions using narrative therapy. \nWith guidance from therapists\, children come together to create imaginative worlds that reflect their own life experiences. Even though these adventures happen in make-believe settings\, the growth and positive changes are very real. \n(Ages 8-12) \nWhere: 1101 North Central Ave\, Ste. 200\, Phoenix AZ\, 85004. \nWhen: Wednesdays from 4:30pm to 5:30pm. \nContact: cherron.dunn@prismacare.org
URL:https://prismacare.org/event/dungeons-and-dragons-ages-8-12/2025-11-26/
END:VEVENT
BEGIN:VEVENT
DTSTART;TZID=UTC:20251126T110000
DTEND;TZID=UTC:20251126T120000
DTSTAMP:20260424T140717
CREATED:20250814T202409Z
LAST-MODIFIED:20250814T202515Z
UID:10002378-1764154800-1764158400@prismacare.org
SUMMARY:MINDFUL RECOVERY
DESCRIPTION:A holistic approach that integrates mindfulness practices to support recovery from addiction\, stress\, or other mental health challenges. Here are some key aspects of mindful recovery: \n\nStress managements\nSubstance use intervention\nMindfulness\nRelapse prevention\n\n 
URL:https://prismacare.org/event/mindful-recovery-2/2025-11-26/
LOCATION:Prisma Community Care\, 1101 N. Central Ave.\, Phoenix\, AZ\, 85004\, United States
END:VEVENT
BEGIN:VEVENT
DTSTART;TZID=UTC:20251126T110000
DTEND;TZID=UTC:20251126T120000
DTSTAMP:20260424T140717
CREATED:20250212T203759Z
LAST-MODIFIED:20250811T181103Z
UID:10001092-1764154800-1764158400@prismacare.org
SUMMARY:Self Awareness Group
DESCRIPTION:Available to Prisma patients. \nA laid back\, eclectic\, and a safe space for clients to come to every week to connect through healing. \nWhere: 1101 North Central Ave\, Ste. 200\, Phoenix AZ\, 85004. \nWhen: Wednesdays from 11 am to 12pm \nContact: charisma.meadows@prismacare.org\n602.595.8140 \n  \n 
URL:https://prismacare.org/event/self-awarness-group/2025-11-26/
LOCATION:Prisma Community Care\, 1101 N. Central Ave.\, Phoenix\, AZ\, 85004\, United States
END:VEVENT
BEGIN:VEVENT
DTSTART;TZID=UTC:20251125T173000
DTEND;TZID=UTC:20251125T190000
DTSTAMP:20260424T140717
CREATED:20250808T205251Z
LAST-MODIFIED:20250808T205251Z
UID:10002116-1764091800-1764097200@prismacare.org
SUMMARY:Positive Living Group
DESCRIPTION:Available to Prisma Patients. \nPositive Living is a welcoming\, judgment-free space for people living with HIV to connect\, share\, and grow. Through peer support\, open discussions\, and educational resources\, this group explores health\, wellness\, relationships\, and personal growth in a safe\, respectful\, and confidential environment. \nWhether you’re newly diagnosed or have been living with HIV for years\, Positive Living offers a safe space to be heard\, understood\, and inspired. \n\n\nWhere: 1101 North Central Ave\, Ste. 200\, Phoenix AZ\, 85004. \n\n\nWhen: Last Tuesday of every month. 5:30 pm – 7 pm \nContact: christopher.carrillo@prismacare.org
URL:https://prismacare.org/event/positive-living-group/2025-11-25/
END:VEVENT
BEGIN:VEVENT
DTSTART;TZID=UTC:20251125T160000
DTEND;TZID=UTC:20251125T173000
DTSTAMP:20260424T140717
CREATED:20250801T191645Z
LAST-MODIFIED:20251201T184121Z
UID:10001494-1764086400-1764091800@prismacare.org
SUMMARY:ADULT GAME GROUP
DESCRIPTION:Available to Prisma Patients. \nIn this weekly group\, connect with other adults through team-building board and card games designed to foster meaningful connection and interaction. \nGames will be both familiar and new\, encouraging thoughtful conversation to build emotional awareness and reduce social anxiety and negative self-talk. \nWhere: 1101 North Central Ave\, Ste. 200\, Phoenix AZ\, 85004. (BH Group Room) \nWhen: Tuesdays from 4pm – 5:30pm \nContact: lili.gutierrez@prismacare.org \n 
URL:https://prismacare.org/event/adult-game-group/2025-11-25/
LOCATION:Prisma Community Care\, 1101 N. Central Ave.\, Phoenix\, AZ\, 85004\, United States
ORGANIZER;CN="Prisma Community Care":MAILTO:contactus@prismacare.org
END:VEVENT
BEGIN:VEVENT
DTSTART;TZID=UTC:20251125T110000
DTEND;TZID=UTC:20251127T120000
DTSTAMP:20260424T140717
CREATED:20250801T192704Z
LAST-MODIFIED:20250808T180725Z
UID:10001538-1764068400-1764244800@prismacare.org
SUMMARY:Recovery Unlocked Group
DESCRIPTION:Available to Prisma patients. \nDiscover a supportive space to explore how substance use affects the body and mind. \nThis group provides tools to navigate substance dependency and addiction\, while encouraging each person to explore healthy paths to recovery. \nWhere: 1101 North Central Ave\, Ste. 200\, Phoenix AZ\, 85004. (Safe Space) \nWhen: Tuesdays from 11am – 12pm and Thursdays from 1pm – 2pm \nContact: charisma.meadows@prismacare.org | 602.595.8140 \nskyler.jorgensen@prismacare.org | 602.595.5615
URL:https://prismacare.org/event/recovery-unlocked-group/2025-11-25/
LOCATION:Prisma Community Care\, 1101 N. Central Ave.\, Phoenix\, AZ\, 85004\, United States
ORGANIZER;CN="Prisma Community Care":MAILTO:contactus@prismacare.org
END:VEVENT
BEGIN:VEVENT
DTSTART;TZID=UTC:20251121T100000
DTEND;TZID=UTC:20251121T120000
DTSTAMP:20260424T140717
CREATED:20250813T190912Z
LAST-MODIFIED:20250813T190912Z
UID:10002321-1763719200-1763726400@prismacare.org
SUMMARY:Creative Collage in Art Therapy
DESCRIPTION:Available to Prisma Patients. \nThis workshop introduces collage-making as a therapeutic tool\, offering an accessible starting point for those hesitant about making art. Participants will explore its uses in therapy\, get practical setup tips\, and create collages in a relaxed group setting. Each session\, a facilitator will introduce a new lesson on nervous system regulation blending DBT skills\, somatic practices\, and polyvagal theory insights. \n\n\n\nWhere: 1101 North Central Ave\, Ste. 200\, Phoenix AZ\, 85004. (The Safe Space) \n\n\nWhen: Fridays 10:00 a.m. – 12:00 p.m | August 22 – September 15\, 2025 \nContact: eden.gillund@prismacare.org OR mallory.waldrop@prismacare.org
URL:https://prismacare.org/event/creative-collage-in-art-therapy/2025-11-21/
END:VEVENT
BEGIN:VEVENT
DTSTART;TZID=UTC:20251120T170000
DTEND;TZID=UTC:20251120T200000
DTSTAMP:20260424T140717
CREATED:20250326T220301Z
LAST-MODIFIED:20251105T202601Z
UID:10001461-1763658000-1763668800@prismacare.org
SUMMARY:Testing at Brick Road Coffee
DESCRIPTION:Brick Road Coffee is a LGBTQIA2S+ coffee shop where the community intersects\, connects\, and supports each other. \nJoin us at Brick Road Coffee for drinks and resources provided by Prisma Community Care. We offer Insti HIV testing\, which gives results in as little as 60 seconds\, along with connections to primary care\, swag items\, PrEP assessments\, and various health and wellness services. We are kicking off HIV testing week with this event.
URL:https://prismacare.org/event/testing-at-brick-road-coffee/
LOCATION:Brick Road\, 4415 S Rural Rd\, Phoenix\, AZ\, 85282\, United States
END:VEVENT
BEGIN:VEVENT
DTSTART;TZID=UTC:20251120T163000
DTEND;TZID=UTC:20251120T183000
DTSTAMP:20260424T140717
CREATED:20250801T194731Z
LAST-MODIFIED:20250801T194731Z
UID:10001799-1763656200-1763663400@prismacare.org
SUMMARY:Art Therapy Group
DESCRIPTION:Available for Prisma patients. \nIn this weekly clay workshop\, discover how working with clay can calm the mind\, encourage self-reflection\, and build coping skills. \nEach session offers a new mindfulness prompt to build emotional awareness and manage stress. \nWhere: 1101 North Central Ave\, Ste. 200\, Phoenix AZ\, 85004. (The Safe Space) \nWhen: Every Thursday from 4:30 p.m.-6:30 p.m. \nContact: eden.gillund@prismacare.org\nmallory.waldrop@prismacare.org
URL:https://prismacare.org/event/art-therapy-group/2025-11-20/
LOCATION:Prisma Community Care\, 1101 N. Central Ave.\, Phoenix\, AZ\, 85004\, United States
ORGANIZER;CN="Prisma Community Care":MAILTO:contactus@prismacare.org
END:VEVENT
BEGIN:VEVENT
DTSTART;TZID=UTC:20251120T130000
DTEND;TZID=UTC:20251120T140000
DTSTAMP:20260424T140717
CREATED:20250808T180926Z
LAST-MODIFIED:20250808T180926Z
UID:10001866-1763643600-1763647200@prismacare.org
SUMMARY:Recovery Unlocked Group
DESCRIPTION:Available to Prisma patients. \nDiscover a supportive space to explore how substance use affects the body and mind. \nThis group provides tools to navigate substance dependency and addiction\, while encouraging each person to explore healthy paths to recovery. \nWhere: 1101 North Central Ave\, Ste. 200\, Phoenix AZ\, 85004. (Safe Space) \nWhen: Tuesdays from 11am – 12pm and Thursdays from 1pm – 2pm \nContact: charisma.meadows@prismacare.org | 602.595.8140 \nskyler.jorgensen@prismacare.org | 602.595.5615
URL:https://prismacare.org/event/recovery-unlocked-group-3/2025-11-20/
LOCATION:Prisma Community Care\, 1101 N. Central Ave.\, Phoenix\, AZ\, 85004\, United States
ORGANIZER;CN="Prisma Community Care":MAILTO:contactus@prismacare.org
END:VEVENT
BEGIN:VEVENT
DTSTART;TZID=UTC:20251119T163000
DTEND;TZID=UTC:20251119T173000
DTSTAMP:20260424T140717
CREATED:20250808T210223Z
LAST-MODIFIED:20251201T184044Z
UID:10002187-1763569800-1763573400@prismacare.org
SUMMARY:Dungeons and Dragons (Ages 8-12)
DESCRIPTION:A welcoming space where children can explore and work through difficult emotions using narrative therapy. \nWith guidance from therapists\, children come together to create imaginative worlds that reflect their own life experiences. Even though these adventures happen in make-believe settings\, the growth and positive changes are very real. \n(Ages 8-12) \nWhere: 1101 North Central Ave\, Ste. 200\, Phoenix AZ\, 85004. \nWhen: Wednesdays from 4:30pm to 5:30pm. \nContact: cherron.dunn@prismacare.org
URL:https://prismacare.org/event/dungeons-and-dragons-ages-8-12/2025-11-19/
END:VEVENT
BEGIN:VEVENT
DTSTART;TZID=UTC:20251119T110000
DTEND;TZID=UTC:20251119T120000
DTSTAMP:20260424T140717
CREATED:20250814T202409Z
LAST-MODIFIED:20250814T202515Z
UID:10002377-1763550000-1763553600@prismacare.org
SUMMARY:MINDFUL RECOVERY
DESCRIPTION:A holistic approach that integrates mindfulness practices to support recovery from addiction\, stress\, or other mental health challenges. Here are some key aspects of mindful recovery: \n\nStress managements\nSubstance use intervention\nMindfulness\nRelapse prevention\n\n 
URL:https://prismacare.org/event/mindful-recovery-2/2025-11-19/
LOCATION:Prisma Community Care\, 1101 N. Central Ave.\, Phoenix\, AZ\, 85004\, United States
END:VEVENT
BEGIN:VEVENT
DTSTART;TZID=UTC:20251119T110000
DTEND;TZID=UTC:20251119T120000
DTSTAMP:20260424T140717
CREATED:20250212T203759Z
LAST-MODIFIED:20250811T181103Z
UID:10001091-1763550000-1763553600@prismacare.org
SUMMARY:Self Awareness Group
DESCRIPTION:Available to Prisma patients. \nA laid back\, eclectic\, and a safe space for clients to come to every week to connect through healing. \nWhere: 1101 North Central Ave\, Ste. 200\, Phoenix AZ\, 85004. \nWhen: Wednesdays from 11 am to 12pm \nContact: charisma.meadows@prismacare.org\n602.595.8140 \n  \n 
URL:https://prismacare.org/event/self-awarness-group/2025-11-19/
LOCATION:Prisma Community Care\, 1101 N. Central Ave.\, Phoenix\, AZ\, 85004\, United States
END:VEVENT
BEGIN:VEVENT
DTSTART;TZID=UTC:20251118T160000
DTEND;TZID=UTC:20251118T173000
DTSTAMP:20260424T140717
CREATED:20250801T191645Z
LAST-MODIFIED:20251201T184121Z
UID:10001493-1763481600-1763487000@prismacare.org
SUMMARY:ADULT GAME GROUP
DESCRIPTION:Available to Prisma Patients. \nIn this weekly group\, connect with other adults through team-building board and card games designed to foster meaningful connection and interaction. \nGames will be both familiar and new\, encouraging thoughtful conversation to build emotional awareness and reduce social anxiety and negative self-talk. \nWhere: 1101 North Central Ave\, Ste. 200\, Phoenix AZ\, 85004. (BH Group Room) \nWhen: Tuesdays from 4pm – 5:30pm \nContact: lili.gutierrez@prismacare.org \n 
URL:https://prismacare.org/event/adult-game-group/2025-11-18/
LOCATION:Prisma Community Care\, 1101 N. Central Ave.\, Phoenix\, AZ\, 85004\, United States
ORGANIZER;CN="Prisma Community Care":MAILTO:contactus@prismacare.org
END:VEVENT
BEGIN:VEVENT
DTSTART;TZID=UTC:20251118T110000
DTEND;TZID=UTC:20251120T120000
DTSTAMP:20260424T140717
CREATED:20250801T192704Z
LAST-MODIFIED:20250808T180725Z
UID:10001537-1763463600-1763640000@prismacare.org
SUMMARY:Recovery Unlocked Group
DESCRIPTION:Available to Prisma patients. \nDiscover a supportive space to explore how substance use affects the body and mind. \nThis group provides tools to navigate substance dependency and addiction\, while encouraging each person to explore healthy paths to recovery. \nWhere: 1101 North Central Ave\, Ste. 200\, Phoenix AZ\, 85004. (Safe Space) \nWhen: Tuesdays from 11am – 12pm and Thursdays from 1pm – 2pm \nContact: charisma.meadows@prismacare.org | 602.595.8140 \nskyler.jorgensen@prismacare.org | 602.595.5615
URL:https://prismacare.org/event/recovery-unlocked-group/2025-11-18/
LOCATION:Prisma Community Care\, 1101 N. Central Ave.\, Phoenix\, AZ\, 85004\, United States
ORGANIZER;CN="Prisma Community Care":MAILTO:contactus@prismacare.org
END:VEVENT
BEGIN:VEVENT
DTSTART;TZID=UTC:20251116T100000
DTEND;TZID=UTC:20251116T160000
DTSTAMP:20260424T140717
CREATED:20251105T201642Z
LAST-MODIFIED:20251105T201642Z
UID:10002636-1763287200-1763308800@prismacare.org
SUMMARY:Queer Holiday Market
DESCRIPTION:Celebrate diversity\, creativity\, and community at our 3rd Annual Queer Holiday Market! Browse an incredible selection of local LGBTQ+ and allied artists\, makers\, and small businesses while enjoying holiday shopping and delicious bites from food trucks and pop-ups. This inclusive and welcoming event is the perfect place to shop unique finds\, support local talent\, and connect with the community. Everyone is welcome—come as you are and celebrate with us!
URL:https://prismacare.org/event/queer-holiday-market/
LOCATION:Warehouse215\, 215 E Grant St\, Phoenix\, AZ\, United States
END:VEVENT
BEGIN:VEVENT
DTSTART;TZID=UTC:20251114T100000
DTEND;TZID=UTC:20251114T120000
DTSTAMP:20260424T140717
CREATED:20250813T190912Z
LAST-MODIFIED:20250813T190912Z
UID:10002320-1763114400-1763121600@prismacare.org
SUMMARY:Creative Collage in Art Therapy
DESCRIPTION:Available to Prisma Patients. \nThis workshop introduces collage-making as a therapeutic tool\, offering an accessible starting point for those hesitant about making art. Participants will explore its uses in therapy\, get practical setup tips\, and create collages in a relaxed group setting. Each session\, a facilitator will introduce a new lesson on nervous system regulation blending DBT skills\, somatic practices\, and polyvagal theory insights. \n\n\n\nWhere: 1101 North Central Ave\, Ste. 200\, Phoenix AZ\, 85004. (The Safe Space) \n\n\nWhen: Fridays 10:00 a.m. – 12:00 p.m | August 22 – September 15\, 2025 \nContact: eden.gillund@prismacare.org OR mallory.waldrop@prismacare.org
URL:https://prismacare.org/event/creative-collage-in-art-therapy/2025-11-14/
END:VEVENT
BEGIN:VEVENT
DTSTART;TZID=UTC:20251113T163000
DTEND;TZID=UTC:20251113T183000
DTSTAMP:20260424T140717
CREATED:20250801T194731Z
LAST-MODIFIED:20250801T194731Z
UID:10001798-1763051400-1763058600@prismacare.org
SUMMARY:Art Therapy Group
DESCRIPTION:Available for Prisma patients. \nIn this weekly clay workshop\, discover how working with clay can calm the mind\, encourage self-reflection\, and build coping skills. \nEach session offers a new mindfulness prompt to build emotional awareness and manage stress. \nWhere: 1101 North Central Ave\, Ste. 200\, Phoenix AZ\, 85004. (The Safe Space) \nWhen: Every Thursday from 4:30 p.m.-6:30 p.m. \nContact: eden.gillund@prismacare.org\nmallory.waldrop@prismacare.org
URL:https://prismacare.org/event/art-therapy-group/2025-11-13/
LOCATION:Prisma Community Care\, 1101 N. Central Ave.\, Phoenix\, AZ\, 85004\, United States
ORGANIZER;CN="Prisma Community Care":MAILTO:contactus@prismacare.org
END:VEVENT
BEGIN:VEVENT
DTSTART;TZID=UTC:20251113T130000
DTEND;TZID=UTC:20251113T140000
DTSTAMP:20260424T140717
CREATED:20250808T180926Z
LAST-MODIFIED:20250808T180926Z
UID:10001865-1763038800-1763042400@prismacare.org
SUMMARY:Recovery Unlocked Group
DESCRIPTION:Available to Prisma patients. \nDiscover a supportive space to explore how substance use affects the body and mind. \nThis group provides tools to navigate substance dependency and addiction\, while encouraging each person to explore healthy paths to recovery. \nWhere: 1101 North Central Ave\, Ste. 200\, Phoenix AZ\, 85004. (Safe Space) \nWhen: Tuesdays from 11am – 12pm and Thursdays from 1pm – 2pm \nContact: charisma.meadows@prismacare.org | 602.595.8140 \nskyler.jorgensen@prismacare.org | 602.595.5615
URL:https://prismacare.org/event/recovery-unlocked-group-3/2025-11-13/
LOCATION:Prisma Community Care\, 1101 N. Central Ave.\, Phoenix\, AZ\, 85004\, United States
ORGANIZER;CN="Prisma Community Care":MAILTO:contactus@prismacare.org
END:VEVENT
BEGIN:VEVENT
DTSTART;TZID=UTC:20251113T080000
DTEND;TZID=UTC:20251113T110000
DTSTAMP:20260424T140717
CREATED:20251105T190948Z
LAST-MODIFIED:20251105T190948Z
UID:10002635-1763020800-1763031600@prismacare.org
SUMMARY:Project Connect
DESCRIPTION:**”One-stop resource event connecting vulnerable individuals to essential services\, housing assistance\, benefits connections\, heat relief\, and employment resources.”. \nThis event brings together a wide range of service providers offering on-the-spot support\, including: \nHousing or shelter access\nMedicaid and nutrition assistance\nClothing and meals\nSubstance use treatment\nEmployment readiness services\nSocial Security assistance\nMental health support\nAnd much more
URL:https://prismacare.org/event/project-connect-2/
LOCATION:University Presbyterian Church\, 139 E Alameda Dr\, Tempe\, 85282\, United States
END:VEVENT
BEGIN:VEVENT
DTSTART;TZID=UTC:20251112T163000
DTEND;TZID=UTC:20251112T173000
DTSTAMP:20260424T140717
CREATED:20250808T210223Z
LAST-MODIFIED:20251201T184044Z
UID:10002186-1762965000-1762968600@prismacare.org
SUMMARY:Dungeons and Dragons (Ages 8-12)
DESCRIPTION:A welcoming space where children can explore and work through difficult emotions using narrative therapy. \nWith guidance from therapists\, children come together to create imaginative worlds that reflect their own life experiences. Even though these adventures happen in make-believe settings\, the growth and positive changes are very real. \n(Ages 8-12) \nWhere: 1101 North Central Ave\, Ste. 200\, Phoenix AZ\, 85004. \nWhen: Wednesdays from 4:30pm to 5:30pm. \nContact: cherron.dunn@prismacare.org
URL:https://prismacare.org/event/dungeons-and-dragons-ages-8-12/2025-11-12/
END:VEVENT
BEGIN:VEVENT
DTSTART;TZID=UTC:20251112T110000
DTEND;TZID=UTC:20251112T120000
DTSTAMP:20260424T140717
CREATED:20250814T202409Z
LAST-MODIFIED:20250814T202515Z
UID:10002376-1762945200-1762948800@prismacare.org
SUMMARY:MINDFUL RECOVERY
DESCRIPTION:A holistic approach that integrates mindfulness practices to support recovery from addiction\, stress\, or other mental health challenges. Here are some key aspects of mindful recovery: \n\nStress managements\nSubstance use intervention\nMindfulness\nRelapse prevention\n\n 
URL:https://prismacare.org/event/mindful-recovery-2/2025-11-12/
LOCATION:Prisma Community Care\, 1101 N. Central Ave.\, Phoenix\, AZ\, 85004\, United States
END:VEVENT
BEGIN:VEVENT
DTSTART;TZID=UTC:20251112T110000
DTEND;TZID=UTC:20251112T120000
DTSTAMP:20260424T140717
CREATED:20250212T203759Z
LAST-MODIFIED:20250811T181103Z
UID:10001090-1762945200-1762948800@prismacare.org
SUMMARY:Self Awareness Group
DESCRIPTION:Available to Prisma patients. \nA laid back\, eclectic\, and a safe space for clients to come to every week to connect through healing. \nWhere: 1101 North Central Ave\, Ste. 200\, Phoenix AZ\, 85004. \nWhen: Wednesdays from 11 am to 12pm \nContact: charisma.meadows@prismacare.org\n602.595.8140 \n  \n 
URL:https://prismacare.org/event/self-awarness-group/2025-11-12/
LOCATION:Prisma Community Care\, 1101 N. Central Ave.\, Phoenix\, AZ\, 85004\, United States
END:VEVENT
BEGIN:VEVENT
DTSTART;TZID=UTC:20251112T080000
DTEND;TZID=UTC:20251112T110000
DTSTAMP:20260424T140717
CREATED:20250815T205027Z
LAST-MODIFIED:20251105T190216Z
UID:10002629-1762934400-1762945200@prismacare.org
SUMMARY:Social Spin
DESCRIPTION:Social Spin Laundromat is a community organization that focuses on providing accessible and affordable laundry services. Prisma provides no cost HIV testing\, community resources\, hygiene items and linkages to primary care services every second Wednesday of the month.
URL:https://prismacare.org/event/social-spin-2/
LOCATION:Social Spin Laundromat\, 2418 e portland st.\, AZ\, United States
END:VEVENT
END:VCALENDAR