BEGIN:VCALENDAR
VERSION:2.0
PRODID:-//Prisma Community Care - ECPv6.10.2//NONSGML v1.0//EN
CALSCALE:GREGORIAN
METHOD:PUBLISH
X-ORIGINAL-URL:https://prismacare.org
X-WR-CALDESC:Events for Prisma Community Care
REFRESH-INTERVAL;VALUE=DURATION:PT1H
X-Robots-Tag:noindex
X-PUBLISHED-TTL:PT1H
BEGIN:VTIMEZONE
TZID:UTC
BEGIN:STANDARD
TZOFFSETFROM:+0000
TZOFFSETTO:+0000
TZNAME:UTC
DTSTART:20270101T000000
END:STANDARD
END:VTIMEZONE
BEGIN:VEVENT
DTSTART;TZID=UTC:20271102T110000
DTEND;TZID=UTC:20271104T120000
DTSTAMP:20260423T111559
CREATED:20250801T192704Z
LAST-MODIFIED:20250808T180725Z
UID:10001639-1825153200-1825329600@prismacare.org
SUMMARY:Recovery Unlocked Group
DESCRIPTION:Available to Prisma patients. \nDiscover a supportive space to explore how substance use affects the body and mind. \nThis group provides tools to navigate substance dependency and addiction\, while encouraging each person to explore healthy paths to recovery. \nWhere: 1101 North Central Ave\, Ste. 200\, Phoenix AZ\, 85004. (Safe Space) \nWhen: Tuesdays from 11am – 12pm and Thursdays from 1pm – 2pm \nContact: charisma.meadows@prismacare.org | 602.595.8140 \nskyler.jorgensen@prismacare.org | 602.595.5615
URL:https://prismacare.org/event/recovery-unlocked-group/2027-11-02/
LOCATION:Prisma Community Care\, 1101 N. Central Ave.\, Phoenix\, AZ\, 85004\, United States
ORGANIZER;CN="Prisma Community Care":MAILTO:contactus@prismacare.org
END:VEVENT
BEGIN:VEVENT
DTSTART;TZID=UTC:20271103T110000
DTEND;TZID=UTC:20271103T120000
DTSTAMP:20260423T111559
CREATED:20250212T203759Z
LAST-MODIFIED:20250811T181103Z
UID:10001193-1825239600-1825243200@prismacare.org
SUMMARY:Self Awareness Group
DESCRIPTION:Available to Prisma patients. \nA laid back\, eclectic\, and a safe space for clients to come to every week to connect through healing. \nWhere: 1101 North Central Ave\, Ste. 200\, Phoenix AZ\, 85004. \nWhen: Wednesdays from 11 am to 12pm \nContact: charisma.meadows@prismacare.org\n602.595.8140 \n  \n 
URL:https://prismacare.org/event/self-awarness-group/2027-11-03/
LOCATION:Prisma Community Care\, 1101 N. Central Ave.\, Phoenix\, AZ\, 85004\, United States
END:VEVENT
BEGIN:VEVENT
DTSTART;TZID=UTC:20271103T110000
DTEND;TZID=UTC:20271103T120000
DTSTAMP:20260423T111559
CREATED:20250814T202409Z
LAST-MODIFIED:20250814T202515Z
UID:10002479-1825239600-1825243200@prismacare.org
SUMMARY:MINDFUL RECOVERY
DESCRIPTION:A holistic approach that integrates mindfulness practices to support recovery from addiction\, stress\, or other mental health challenges. Here are some key aspects of mindful recovery: \n\nStress managements\nSubstance use intervention\nMindfulness\nRelapse prevention\n\n 
URL:https://prismacare.org/event/mindful-recovery-2/2027-11-03/
LOCATION:Prisma Community Care\, 1101 N. Central Ave.\, Phoenix\, AZ\, 85004\, United States
END:VEVENT
BEGIN:VEVENT
DTSTART;TZID=UTC:20271104T130000
DTEND;TZID=UTC:20271104T140000
DTSTAMP:20260423T111559
CREATED:20250808T180926Z
LAST-MODIFIED:20250808T180926Z
UID:10001968-1825333200-1825336800@prismacare.org
SUMMARY:Recovery Unlocked Group
DESCRIPTION:Available to Prisma patients. \nDiscover a supportive space to explore how substance use affects the body and mind. \nThis group provides tools to navigate substance dependency and addiction\, while encouraging each person to explore healthy paths to recovery. \nWhere: 1101 North Central Ave\, Ste. 200\, Phoenix AZ\, 85004. (Safe Space) \nWhen: Tuesdays from 11am – 12pm and Thursdays from 1pm – 2pm \nContact: charisma.meadows@prismacare.org | 602.595.8140 \nskyler.jorgensen@prismacare.org | 602.595.5615
URL:https://prismacare.org/event/recovery-unlocked-group-3/2027-11-04/
LOCATION:Prisma Community Care\, 1101 N. Central Ave.\, Phoenix\, AZ\, 85004\, United States
ORGANIZER;CN="Prisma Community Care":MAILTO:contactus@prismacare.org
END:VEVENT
BEGIN:VEVENT
DTSTART;TZID=UTC:20271109T110000
DTEND;TZID=UTC:20271111T120000
DTSTAMP:20260423T111559
CREATED:20250801T192704Z
LAST-MODIFIED:20250808T180725Z
UID:10001640-1825758000-1825934400@prismacare.org
SUMMARY:Recovery Unlocked Group
DESCRIPTION:Available to Prisma patients. \nDiscover a supportive space to explore how substance use affects the body and mind. \nThis group provides tools to navigate substance dependency and addiction\, while encouraging each person to explore healthy paths to recovery. \nWhere: 1101 North Central Ave\, Ste. 200\, Phoenix AZ\, 85004. (Safe Space) \nWhen: Tuesdays from 11am – 12pm and Thursdays from 1pm – 2pm \nContact: charisma.meadows@prismacare.org | 602.595.8140 \nskyler.jorgensen@prismacare.org | 602.595.5615
URL:https://prismacare.org/event/recovery-unlocked-group/2027-11-09/
LOCATION:Prisma Community Care\, 1101 N. Central Ave.\, Phoenix\, AZ\, 85004\, United States
ORGANIZER;CN="Prisma Community Care":MAILTO:contactus@prismacare.org
END:VEVENT
BEGIN:VEVENT
DTSTART;TZID=UTC:20271110T110000
DTEND;TZID=UTC:20271110T120000
DTSTAMP:20260423T111559
CREATED:20250212T203759Z
LAST-MODIFIED:20250811T181103Z
UID:10001194-1825844400-1825848000@prismacare.org
SUMMARY:Self Awareness Group
DESCRIPTION:Available to Prisma patients. \nA laid back\, eclectic\, and a safe space for clients to come to every week to connect through healing. \nWhere: 1101 North Central Ave\, Ste. 200\, Phoenix AZ\, 85004. \nWhen: Wednesdays from 11 am to 12pm \nContact: charisma.meadows@prismacare.org\n602.595.8140 \n  \n 
URL:https://prismacare.org/event/self-awarness-group/2027-11-10/
LOCATION:Prisma Community Care\, 1101 N. Central Ave.\, Phoenix\, AZ\, 85004\, United States
END:VEVENT
BEGIN:VEVENT
DTSTART;TZID=UTC:20271110T110000
DTEND;TZID=UTC:20271110T120000
DTSTAMP:20260423T111559
CREATED:20250814T202409Z
LAST-MODIFIED:20250814T202515Z
UID:10002480-1825844400-1825848000@prismacare.org
SUMMARY:MINDFUL RECOVERY
DESCRIPTION:A holistic approach that integrates mindfulness practices to support recovery from addiction\, stress\, or other mental health challenges. Here are some key aspects of mindful recovery: \n\nStress managements\nSubstance use intervention\nMindfulness\nRelapse prevention\n\n 
URL:https://prismacare.org/event/mindful-recovery-2/2027-11-10/
LOCATION:Prisma Community Care\, 1101 N. Central Ave.\, Phoenix\, AZ\, 85004\, United States
END:VEVENT
BEGIN:VEVENT
DTSTART;TZID=UTC:20271111T130000
DTEND;TZID=UTC:20271111T140000
DTSTAMP:20260423T111559
CREATED:20250808T180926Z
LAST-MODIFIED:20250808T180926Z
UID:10001969-1825938000-1825941600@prismacare.org
SUMMARY:Recovery Unlocked Group
DESCRIPTION:Available to Prisma patients. \nDiscover a supportive space to explore how substance use affects the body and mind. \nThis group provides tools to navigate substance dependency and addiction\, while encouraging each person to explore healthy paths to recovery. \nWhere: 1101 North Central Ave\, Ste. 200\, Phoenix AZ\, 85004. (Safe Space) \nWhen: Tuesdays from 11am – 12pm and Thursdays from 1pm – 2pm \nContact: charisma.meadows@prismacare.org | 602.595.8140 \nskyler.jorgensen@prismacare.org | 602.595.5615
URL:https://prismacare.org/event/recovery-unlocked-group-3/2027-11-11/
LOCATION:Prisma Community Care\, 1101 N. Central Ave.\, Phoenix\, AZ\, 85004\, United States
ORGANIZER;CN="Prisma Community Care":MAILTO:contactus@prismacare.org
END:VEVENT
BEGIN:VEVENT
DTSTART;TZID=UTC:20271116T110000
DTEND;TZID=UTC:20271118T120000
DTSTAMP:20260423T111559
CREATED:20250801T192704Z
LAST-MODIFIED:20250808T180725Z
UID:10001641-1826362800-1826539200@prismacare.org
SUMMARY:Recovery Unlocked Group
DESCRIPTION:Available to Prisma patients. \nDiscover a supportive space to explore how substance use affects the body and mind. \nThis group provides tools to navigate substance dependency and addiction\, while encouraging each person to explore healthy paths to recovery. \nWhere: 1101 North Central Ave\, Ste. 200\, Phoenix AZ\, 85004. (Safe Space) \nWhen: Tuesdays from 11am – 12pm and Thursdays from 1pm – 2pm \nContact: charisma.meadows@prismacare.org | 602.595.8140 \nskyler.jorgensen@prismacare.org | 602.595.5615
URL:https://prismacare.org/event/recovery-unlocked-group/2027-11-16/
LOCATION:Prisma Community Care\, 1101 N. Central Ave.\, Phoenix\, AZ\, 85004\, United States
ORGANIZER;CN="Prisma Community Care":MAILTO:contactus@prismacare.org
END:VEVENT
BEGIN:VEVENT
DTSTART;TZID=UTC:20271117T110000
DTEND;TZID=UTC:20271117T120000
DTSTAMP:20260423T111559
CREATED:20250212T203759Z
LAST-MODIFIED:20250811T181103Z
UID:10001195-1826449200-1826452800@prismacare.org
SUMMARY:Self Awareness Group
DESCRIPTION:Available to Prisma patients. \nA laid back\, eclectic\, and a safe space for clients to come to every week to connect through healing. \nWhere: 1101 North Central Ave\, Ste. 200\, Phoenix AZ\, 85004. \nWhen: Wednesdays from 11 am to 12pm \nContact: charisma.meadows@prismacare.org\n602.595.8140 \n  \n 
URL:https://prismacare.org/event/self-awarness-group/2027-11-17/
LOCATION:Prisma Community Care\, 1101 N. Central Ave.\, Phoenix\, AZ\, 85004\, United States
END:VEVENT
BEGIN:VEVENT
DTSTART;TZID=UTC:20271117T110000
DTEND;TZID=UTC:20271117T120000
DTSTAMP:20260423T111559
CREATED:20250814T202409Z
LAST-MODIFIED:20250814T202515Z
UID:10002481-1826449200-1826452800@prismacare.org
SUMMARY:MINDFUL RECOVERY
DESCRIPTION:A holistic approach that integrates mindfulness practices to support recovery from addiction\, stress\, or other mental health challenges. Here are some key aspects of mindful recovery: \n\nStress managements\nSubstance use intervention\nMindfulness\nRelapse prevention\n\n 
URL:https://prismacare.org/event/mindful-recovery-2/2027-11-17/
LOCATION:Prisma Community Care\, 1101 N. Central Ave.\, Phoenix\, AZ\, 85004\, United States
END:VEVENT
BEGIN:VEVENT
DTSTART;TZID=UTC:20271118T130000
DTEND;TZID=UTC:20271118T140000
DTSTAMP:20260423T111559
CREATED:20250808T180926Z
LAST-MODIFIED:20250808T180926Z
UID:10001970-1826542800-1826546400@prismacare.org
SUMMARY:Recovery Unlocked Group
DESCRIPTION:Available to Prisma patients. \nDiscover a supportive space to explore how substance use affects the body and mind. \nThis group provides tools to navigate substance dependency and addiction\, while encouraging each person to explore healthy paths to recovery. \nWhere: 1101 North Central Ave\, Ste. 200\, Phoenix AZ\, 85004. (Safe Space) \nWhen: Tuesdays from 11am – 12pm and Thursdays from 1pm – 2pm \nContact: charisma.meadows@prismacare.org | 602.595.8140 \nskyler.jorgensen@prismacare.org | 602.595.5615
URL:https://prismacare.org/event/recovery-unlocked-group-3/2027-11-18/
LOCATION:Prisma Community Care\, 1101 N. Central Ave.\, Phoenix\, AZ\, 85004\, United States
ORGANIZER;CN="Prisma Community Care":MAILTO:contactus@prismacare.org
END:VEVENT
BEGIN:VEVENT
DTSTART;TZID=UTC:20271123T110000
DTEND;TZID=UTC:20271125T120000
DTSTAMP:20260423T111559
CREATED:20250801T192704Z
LAST-MODIFIED:20250808T180725Z
UID:10001642-1826967600-1827144000@prismacare.org
SUMMARY:Recovery Unlocked Group
DESCRIPTION:Available to Prisma patients. \nDiscover a supportive space to explore how substance use affects the body and mind. \nThis group provides tools to navigate substance dependency and addiction\, while encouraging each person to explore healthy paths to recovery. \nWhere: 1101 North Central Ave\, Ste. 200\, Phoenix AZ\, 85004. (Safe Space) \nWhen: Tuesdays from 11am – 12pm and Thursdays from 1pm – 2pm \nContact: charisma.meadows@prismacare.org | 602.595.8140 \nskyler.jorgensen@prismacare.org | 602.595.5615
URL:https://prismacare.org/event/recovery-unlocked-group/2027-11-23/
LOCATION:Prisma Community Care\, 1101 N. Central Ave.\, Phoenix\, AZ\, 85004\, United States
ORGANIZER;CN="Prisma Community Care":MAILTO:contactus@prismacare.org
END:VEVENT
BEGIN:VEVENT
DTSTART;TZID=UTC:20271124T110000
DTEND;TZID=UTC:20271124T120000
DTSTAMP:20260423T111559
CREATED:20250212T203759Z
LAST-MODIFIED:20250811T181103Z
UID:10001196-1827054000-1827057600@prismacare.org
SUMMARY:Self Awareness Group
DESCRIPTION:Available to Prisma patients. \nA laid back\, eclectic\, and a safe space for clients to come to every week to connect through healing. \nWhere: 1101 North Central Ave\, Ste. 200\, Phoenix AZ\, 85004. \nWhen: Wednesdays from 11 am to 12pm \nContact: charisma.meadows@prismacare.org\n602.595.8140 \n  \n 
URL:https://prismacare.org/event/self-awarness-group/2027-11-24/
LOCATION:Prisma Community Care\, 1101 N. Central Ave.\, Phoenix\, AZ\, 85004\, United States
END:VEVENT
BEGIN:VEVENT
DTSTART;TZID=UTC:20271124T110000
DTEND;TZID=UTC:20271124T120000
DTSTAMP:20260423T111559
CREATED:20250814T202409Z
LAST-MODIFIED:20250814T202515Z
UID:10002482-1827054000-1827057600@prismacare.org
SUMMARY:MINDFUL RECOVERY
DESCRIPTION:A holistic approach that integrates mindfulness practices to support recovery from addiction\, stress\, or other mental health challenges. Here are some key aspects of mindful recovery: \n\nStress managements\nSubstance use intervention\nMindfulness\nRelapse prevention\n\n 
URL:https://prismacare.org/event/mindful-recovery-2/2027-11-24/
LOCATION:Prisma Community Care\, 1101 N. Central Ave.\, Phoenix\, AZ\, 85004\, United States
END:VEVENT
BEGIN:VEVENT
DTSTART;TZID=UTC:20271125T130000
DTEND;TZID=UTC:20271125T140000
DTSTAMP:20260423T111559
CREATED:20250808T180926Z
LAST-MODIFIED:20250808T180926Z
UID:10001971-1827147600-1827151200@prismacare.org
SUMMARY:Recovery Unlocked Group
DESCRIPTION:Available to Prisma patients. \nDiscover a supportive space to explore how substance use affects the body and mind. \nThis group provides tools to navigate substance dependency and addiction\, while encouraging each person to explore healthy paths to recovery. \nWhere: 1101 North Central Ave\, Ste. 200\, Phoenix AZ\, 85004. (Safe Space) \nWhen: Tuesdays from 11am – 12pm and Thursdays from 1pm – 2pm \nContact: charisma.meadows@prismacare.org | 602.595.8140 \nskyler.jorgensen@prismacare.org | 602.595.5615
URL:https://prismacare.org/event/recovery-unlocked-group-3/2027-11-25/
LOCATION:Prisma Community Care\, 1101 N. Central Ave.\, Phoenix\, AZ\, 85004\, United States
ORGANIZER;CN="Prisma Community Care":MAILTO:contactus@prismacare.org
END:VEVENT
BEGIN:VEVENT
DTSTART;TZID=UTC:20271130T110000
DTEND;TZID=UTC:20271202T120000
DTSTAMP:20260423T111559
CREATED:20250801T192704Z
LAST-MODIFIED:20250808T180725Z
UID:10001643-1827572400-1827748800@prismacare.org
SUMMARY:Recovery Unlocked Group
DESCRIPTION:Available to Prisma patients. \nDiscover a supportive space to explore how substance use affects the body and mind. \nThis group provides tools to navigate substance dependency and addiction\, while encouraging each person to explore healthy paths to recovery. \nWhere: 1101 North Central Ave\, Ste. 200\, Phoenix AZ\, 85004. (Safe Space) \nWhen: Tuesdays from 11am – 12pm and Thursdays from 1pm – 2pm \nContact: charisma.meadows@prismacare.org | 602.595.8140 \nskyler.jorgensen@prismacare.org | 602.595.5615
URL:https://prismacare.org/event/recovery-unlocked-group/2027-11-30/
LOCATION:Prisma Community Care\, 1101 N. Central Ave.\, Phoenix\, AZ\, 85004\, United States
ORGANIZER;CN="Prisma Community Care":MAILTO:contactus@prismacare.org
END:VEVENT
BEGIN:VEVENT
DTSTART;TZID=UTC:20271130T173000
DTEND;TZID=UTC:20271130T190000
DTSTAMP:20260423T111559
CREATED:20250808T205251Z
LAST-MODIFIED:20250808T205251Z
UID:10002140-1827595800-1827601200@prismacare.org
SUMMARY:Positive Living Group
DESCRIPTION:Available to Prisma Patients. \nPositive Living is a welcoming\, judgment-free space for people living with HIV to connect\, share\, and grow. Through peer support\, open discussions\, and educational resources\, this group explores health\, wellness\, relationships\, and personal growth in a safe\, respectful\, and confidential environment. \nWhether you’re newly diagnosed or have been living with HIV for years\, Positive Living offers a safe space to be heard\, understood\, and inspired. \n\n\nWhere: 1101 North Central Ave\, Ste. 200\, Phoenix AZ\, 85004. \n\n\nWhen: Last Tuesday of every month. 5:30 pm – 7 pm \nContact: christopher.carrillo@prismacare.org
URL:https://prismacare.org/event/positive-living-group/2027-11-30/
LOCATION:AZ
END:VEVENT
BEGIN:VEVENT
DTSTART;TZID=UTC:20271201T110000
DTEND;TZID=UTC:20271201T120000
DTSTAMP:20260423T111559
CREATED:20250212T203759Z
LAST-MODIFIED:20250811T181103Z
UID:10001197-1827658800-1827662400@prismacare.org
SUMMARY:Self Awareness Group
DESCRIPTION:Available to Prisma patients. \nA laid back\, eclectic\, and a safe space for clients to come to every week to connect through healing. \nWhere: 1101 North Central Ave\, Ste. 200\, Phoenix AZ\, 85004. \nWhen: Wednesdays from 11 am to 12pm \nContact: charisma.meadows@prismacare.org\n602.595.8140 \n  \n 
URL:https://prismacare.org/event/self-awarness-group/2027-12-01/
LOCATION:Prisma Community Care\, 1101 N. Central Ave.\, Phoenix\, AZ\, 85004\, United States
END:VEVENT
BEGIN:VEVENT
DTSTART;TZID=UTC:20271201T110000
DTEND;TZID=UTC:20271201T120000
DTSTAMP:20260423T111559
CREATED:20250814T202409Z
LAST-MODIFIED:20250814T202515Z
UID:10002483-1827658800-1827662400@prismacare.org
SUMMARY:MINDFUL RECOVERY
DESCRIPTION:A holistic approach that integrates mindfulness practices to support recovery from addiction\, stress\, or other mental health challenges. Here are some key aspects of mindful recovery: \n\nStress managements\nSubstance use intervention\nMindfulness\nRelapse prevention\n\n 
URL:https://prismacare.org/event/mindful-recovery-2/2027-12-01/
LOCATION:Prisma Community Care\, 1101 N. Central Ave.\, Phoenix\, AZ\, 85004\, United States
END:VEVENT
BEGIN:VEVENT
DTSTART;TZID=UTC:20271202T130000
DTEND;TZID=UTC:20271202T140000
DTSTAMP:20260423T111559
CREATED:20250808T180926Z
LAST-MODIFIED:20250808T180926Z
UID:10001972-1827752400-1827756000@prismacare.org
SUMMARY:Recovery Unlocked Group
DESCRIPTION:Available to Prisma patients. \nDiscover a supportive space to explore how substance use affects the body and mind. \nThis group provides tools to navigate substance dependency and addiction\, while encouraging each person to explore healthy paths to recovery. \nWhere: 1101 North Central Ave\, Ste. 200\, Phoenix AZ\, 85004. (Safe Space) \nWhen: Tuesdays from 11am – 12pm and Thursdays from 1pm – 2pm \nContact: charisma.meadows@prismacare.org | 602.595.8140 \nskyler.jorgensen@prismacare.org | 602.595.5615
URL:https://prismacare.org/event/recovery-unlocked-group-3/2027-12-02/
LOCATION:Prisma Community Care\, 1101 N. Central Ave.\, Phoenix\, AZ\, 85004\, United States
ORGANIZER;CN="Prisma Community Care":MAILTO:contactus@prismacare.org
END:VEVENT
BEGIN:VEVENT
DTSTART;TZID=UTC:20271207T110000
DTEND;TZID=UTC:20271209T120000
DTSTAMP:20260423T111559
CREATED:20250801T192704Z
LAST-MODIFIED:20250808T180725Z
UID:10001644-1828177200-1828353600@prismacare.org
SUMMARY:Recovery Unlocked Group
DESCRIPTION:Available to Prisma patients. \nDiscover a supportive space to explore how substance use affects the body and mind. \nThis group provides tools to navigate substance dependency and addiction\, while encouraging each person to explore healthy paths to recovery. \nWhere: 1101 North Central Ave\, Ste. 200\, Phoenix AZ\, 85004. (Safe Space) \nWhen: Tuesdays from 11am – 12pm and Thursdays from 1pm – 2pm \nContact: charisma.meadows@prismacare.org | 602.595.8140 \nskyler.jorgensen@prismacare.org | 602.595.5615
URL:https://prismacare.org/event/recovery-unlocked-group/2027-12-07/
LOCATION:Prisma Community Care\, 1101 N. Central Ave.\, Phoenix\, AZ\, 85004\, United States
ORGANIZER;CN="Prisma Community Care":MAILTO:contactus@prismacare.org
END:VEVENT
BEGIN:VEVENT
DTSTART;TZID=UTC:20271208T110000
DTEND;TZID=UTC:20271208T120000
DTSTAMP:20260423T111559
CREATED:20250212T203759Z
LAST-MODIFIED:20250811T181103Z
UID:10001198-1828263600-1828267200@prismacare.org
SUMMARY:Self Awareness Group
DESCRIPTION:Available to Prisma patients. \nA laid back\, eclectic\, and a safe space for clients to come to every week to connect through healing. \nWhere: 1101 North Central Ave\, Ste. 200\, Phoenix AZ\, 85004. \nWhen: Wednesdays from 11 am to 12pm \nContact: charisma.meadows@prismacare.org\n602.595.8140 \n  \n 
URL:https://prismacare.org/event/self-awarness-group/2027-12-08/
LOCATION:Prisma Community Care\, 1101 N. Central Ave.\, Phoenix\, AZ\, 85004\, United States
END:VEVENT
BEGIN:VEVENT
DTSTART;TZID=UTC:20271208T110000
DTEND;TZID=UTC:20271208T120000
DTSTAMP:20260423T111559
CREATED:20250814T202409Z
LAST-MODIFIED:20250814T202515Z
UID:10002484-1828263600-1828267200@prismacare.org
SUMMARY:MINDFUL RECOVERY
DESCRIPTION:A holistic approach that integrates mindfulness practices to support recovery from addiction\, stress\, or other mental health challenges. Here are some key aspects of mindful recovery: \n\nStress managements\nSubstance use intervention\nMindfulness\nRelapse prevention\n\n 
URL:https://prismacare.org/event/mindful-recovery-2/2027-12-08/
LOCATION:Prisma Community Care\, 1101 N. Central Ave.\, Phoenix\, AZ\, 85004\, United States
END:VEVENT
BEGIN:VEVENT
DTSTART;TZID=UTC:20271209T130000
DTEND;TZID=UTC:20271209T140000
DTSTAMP:20260423T111559
CREATED:20250808T180926Z
LAST-MODIFIED:20250808T180926Z
UID:10001973-1828357200-1828360800@prismacare.org
SUMMARY:Recovery Unlocked Group
DESCRIPTION:Available to Prisma patients. \nDiscover a supportive space to explore how substance use affects the body and mind. \nThis group provides tools to navigate substance dependency and addiction\, while encouraging each person to explore healthy paths to recovery. \nWhere: 1101 North Central Ave\, Ste. 200\, Phoenix AZ\, 85004. (Safe Space) \nWhen: Tuesdays from 11am – 12pm and Thursdays from 1pm – 2pm \nContact: charisma.meadows@prismacare.org | 602.595.8140 \nskyler.jorgensen@prismacare.org | 602.595.5615
URL:https://prismacare.org/event/recovery-unlocked-group-3/2027-12-09/
LOCATION:Prisma Community Care\, 1101 N. Central Ave.\, Phoenix\, AZ\, 85004\, United States
ORGANIZER;CN="Prisma Community Care":MAILTO:contactus@prismacare.org
END:VEVENT
BEGIN:VEVENT
DTSTART;TZID=UTC:20271214T110000
DTEND;TZID=UTC:20271216T120000
DTSTAMP:20260423T111559
CREATED:20250801T192704Z
LAST-MODIFIED:20250808T180725Z
UID:10001645-1828782000-1828958400@prismacare.org
SUMMARY:Recovery Unlocked Group
DESCRIPTION:Available to Prisma patients. \nDiscover a supportive space to explore how substance use affects the body and mind. \nThis group provides tools to navigate substance dependency and addiction\, while encouraging each person to explore healthy paths to recovery. \nWhere: 1101 North Central Ave\, Ste. 200\, Phoenix AZ\, 85004. (Safe Space) \nWhen: Tuesdays from 11am – 12pm and Thursdays from 1pm – 2pm \nContact: charisma.meadows@prismacare.org | 602.595.8140 \nskyler.jorgensen@prismacare.org | 602.595.5615
URL:https://prismacare.org/event/recovery-unlocked-group/2027-12-14/
LOCATION:Prisma Community Care\, 1101 N. Central Ave.\, Phoenix\, AZ\, 85004\, United States
ORGANIZER;CN="Prisma Community Care":MAILTO:contactus@prismacare.org
END:VEVENT
BEGIN:VEVENT
DTSTART;TZID=UTC:20271215T110000
DTEND;TZID=UTC:20271215T120000
DTSTAMP:20260423T111559
CREATED:20250212T203759Z
LAST-MODIFIED:20250811T181103Z
UID:10001199-1828868400-1828872000@prismacare.org
SUMMARY:Self Awareness Group
DESCRIPTION:Available to Prisma patients. \nA laid back\, eclectic\, and a safe space for clients to come to every week to connect through healing. \nWhere: 1101 North Central Ave\, Ste. 200\, Phoenix AZ\, 85004. \nWhen: Wednesdays from 11 am to 12pm \nContact: charisma.meadows@prismacare.org\n602.595.8140 \n  \n 
URL:https://prismacare.org/event/self-awarness-group/2027-12-15/
LOCATION:Prisma Community Care\, 1101 N. Central Ave.\, Phoenix\, AZ\, 85004\, United States
END:VEVENT
BEGIN:VEVENT
DTSTART;TZID=UTC:20271215T110000
DTEND;TZID=UTC:20271215T120000
DTSTAMP:20260423T111559
CREATED:20250814T202409Z
LAST-MODIFIED:20250814T202515Z
UID:10002485-1828868400-1828872000@prismacare.org
SUMMARY:MINDFUL RECOVERY
DESCRIPTION:A holistic approach that integrates mindfulness practices to support recovery from addiction\, stress\, or other mental health challenges. Here are some key aspects of mindful recovery: \n\nStress managements\nSubstance use intervention\nMindfulness\nRelapse prevention\n\n 
URL:https://prismacare.org/event/mindful-recovery-2/2027-12-15/
LOCATION:Prisma Community Care\, 1101 N. Central Ave.\, Phoenix\, AZ\, 85004\, United States
END:VEVENT
BEGIN:VEVENT
DTSTART;TZID=UTC:20271216T130000
DTEND;TZID=UTC:20271216T140000
DTSTAMP:20260423T111559
CREATED:20250808T180926Z
LAST-MODIFIED:20250808T180926Z
UID:10001974-1828962000-1828965600@prismacare.org
SUMMARY:Recovery Unlocked Group
DESCRIPTION:Available to Prisma patients. \nDiscover a supportive space to explore how substance use affects the body and mind. \nThis group provides tools to navigate substance dependency and addiction\, while encouraging each person to explore healthy paths to recovery. \nWhere: 1101 North Central Ave\, Ste. 200\, Phoenix AZ\, 85004. (Safe Space) \nWhen: Tuesdays from 11am – 12pm and Thursdays from 1pm – 2pm \nContact: charisma.meadows@prismacare.org | 602.595.8140 \nskyler.jorgensen@prismacare.org | 602.595.5615
URL:https://prismacare.org/event/recovery-unlocked-group-3/2027-12-16/
LOCATION:Prisma Community Care\, 1101 N. Central Ave.\, Phoenix\, AZ\, 85004\, United States
ORGANIZER;CN="Prisma Community Care":MAILTO:contactus@prismacare.org
END:VEVENT
BEGIN:VEVENT
DTSTART;TZID=UTC:20271221T110000
DTEND;TZID=UTC:20271223T120000
DTSTAMP:20260423T111559
CREATED:20250801T192704Z
LAST-MODIFIED:20250808T180725Z
UID:10001646-1829386800-1829563200@prismacare.org
SUMMARY:Recovery Unlocked Group
DESCRIPTION:Available to Prisma patients. \nDiscover a supportive space to explore how substance use affects the body and mind. \nThis group provides tools to navigate substance dependency and addiction\, while encouraging each person to explore healthy paths to recovery. \nWhere: 1101 North Central Ave\, Ste. 200\, Phoenix AZ\, 85004. (Safe Space) \nWhen: Tuesdays from 11am – 12pm and Thursdays from 1pm – 2pm \nContact: charisma.meadows@prismacare.org | 602.595.8140 \nskyler.jorgensen@prismacare.org | 602.595.5615
URL:https://prismacare.org/event/recovery-unlocked-group/2027-12-21/
LOCATION:Prisma Community Care\, 1101 N. Central Ave.\, Phoenix\, AZ\, 85004\, United States
ORGANIZER;CN="Prisma Community Care":MAILTO:contactus@prismacare.org
END:VEVENT
END:VCALENDAR