BEGIN:VCALENDAR
VERSION:2.0
PRODID:-//Prisma Community Care - ECPv6.10.2//NONSGML v1.0//EN
CALSCALE:GREGORIAN
METHOD:PUBLISH
X-ORIGINAL-URL:https://prismacare.org
X-WR-CALDESC:Events for Prisma Community Care
REFRESH-INTERVAL;VALUE=DURATION:PT1H
X-Robots-Tag:noindex
X-PUBLISHED-TTL:PT1H
BEGIN:VTIMEZONE
TZID:UTC
BEGIN:STANDARD
TZOFFSETFROM:+0000
TZOFFSETTO:+0000
TZNAME:UTC
DTSTART:20260101T000000
END:STANDARD
END:VTIMEZONE
BEGIN:VEVENT
DTSTART;TZID=UTC:20260626T100000
DTEND;TZID=UTC:20260626T120000
DTSTAMP:20260421T184208
CREATED:20250813T190912Z
LAST-MODIFIED:20250813T190912Z
UID:10002352-1782468000-1782475200@prismacare.org
SUMMARY:Creative Collage in Art Therapy
DESCRIPTION:Available to Prisma Patients. \nThis workshop introduces collage-making as a therapeutic tool\, offering an accessible starting point for those hesitant about making art. Participants will explore its uses in therapy\, get practical setup tips\, and create collages in a relaxed group setting. Each session\, a facilitator will introduce a new lesson on nervous system regulation blending DBT skills\, somatic practices\, and polyvagal theory insights. \n\n\n\nWhere: 1101 North Central Ave\, Ste. 200\, Phoenix AZ\, 85004. (The Safe Space) \n\n\nWhen: Fridays 10:00 a.m. – 12:00 p.m | August 22 – September 15\, 2025 \nContact: eden.gillund@prismacare.org OR mallory.waldrop@prismacare.org
URL:https://prismacare.org/event/creative-collage-in-art-therapy/2026-06-26/
LOCATION:AZ
END:VEVENT
END:VCALENDAR