BEGIN:VCALENDAR
VERSION:2.0
PRODID:-//Prisma Community Care - ECPv6.10.2//NONSGML v1.0//EN
CALSCALE:GREGORIAN
METHOD:PUBLISH
X-WR-CALNAME:Prisma Community Care
X-ORIGINAL-URL:https://prismacare.org
X-WR-CALDESC:Events for Prisma Community Care
REFRESH-INTERVAL;VALUE=DURATION:PT1H
X-Robots-Tag:noindex
X-PUBLISHED-TTL:PT1H
BEGIN:VTIMEZONE
TZID:UTC
BEGIN:STANDARD
TZOFFSETFROM:+0000
TZOFFSETTO:+0000
TZNAME:UTC
DTSTART:20260101T000000
END:STANDARD
END:VTIMEZONE
BEGIN:VEVENT
DTSTART;TZID=UTC:20260428T110000
DTEND;TZID=UTC:20260430T120000
DTSTAMP:20260421T102314
CREATED:20250801T192704Z
LAST-MODIFIED:20250808T180725Z
UID:10001560-1777374000-1777550400@prismacare.org
SUMMARY:Recovery Unlocked Group
DESCRIPTION:Available to Prisma patients. \nDiscover a supportive space to explore how substance use affects the body and mind. \nThis group provides tools to navigate substance dependency and addiction\, while encouraging each person to explore healthy paths to recovery. \nWhere: 1101 North Central Ave\, Ste. 200\, Phoenix AZ\, 85004. (Safe Space) \nWhen: Tuesdays from 11am – 12pm and Thursdays from 1pm – 2pm \nContact: charisma.meadows@prismacare.org | 602.595.8140 \nskyler.jorgensen@prismacare.org | 602.595.5615
URL:https://prismacare.org/event/recovery-unlocked-group/2026-04-28/
LOCATION:Prisma Community Care\, 1101 N. Central Ave.\, Phoenix\, AZ\, 85004\, United States
ORGANIZER;CN="Prisma Community Care":MAILTO:contactus@prismacare.org
END:VEVENT
BEGIN:VEVENT
DTSTART;TZID=UTC:20260430T130000
DTEND;TZID=UTC:20260430T140000
DTSTAMP:20260421T102314
CREATED:20250808T180926Z
LAST-MODIFIED:20250808T180926Z
UID:10001889-1777554000-1777557600@prismacare.org
SUMMARY:Recovery Unlocked Group
DESCRIPTION:Available to Prisma patients. \nDiscover a supportive space to explore how substance use affects the body and mind. \nThis group provides tools to navigate substance dependency and addiction\, while encouraging each person to explore healthy paths to recovery. \nWhere: 1101 North Central Ave\, Ste. 200\, Phoenix AZ\, 85004. (Safe Space) \nWhen: Tuesdays from 11am – 12pm and Thursdays from 1pm – 2pm \nContact: charisma.meadows@prismacare.org | 602.595.8140 \nskyler.jorgensen@prismacare.org | 602.595.5615
URL:https://prismacare.org/event/recovery-unlocked-group-3/2026-04-30/
LOCATION:Prisma Community Care\, 1101 N. Central Ave.\, Phoenix\, AZ\, 85004\, United States
ORGANIZER;CN="Prisma Community Care":MAILTO:contactus@prismacare.org
END:VEVENT
END:VCALENDAR