BEGIN:VCALENDAR
VERSION:2.0
PRODID:-//Prisma Community Care - ECPv6.10.2//NONSGML v1.0//EN
CALSCALE:GREGORIAN
METHOD:PUBLISH
X-WR-CALNAME:Prisma Community Care
X-ORIGINAL-URL:https://prismacare.org
X-WR-CALDESC:Events for Prisma Community Care
REFRESH-INTERVAL;VALUE=DURATION:PT1H
X-Robots-Tag:noindex
X-PUBLISHED-TTL:PT1H
BEGIN:VTIMEZONE
TZID:UTC
BEGIN:STANDARD
TZOFFSETFROM:+0000
TZOFFSETTO:+0000
TZNAME:UTC
DTSTART:20260101T000000
END:STANDARD
END:VTIMEZONE
BEGIN:VEVENT
DTSTART;TZID=UTC:20260328T100000
DTEND;TZID=UTC:20260329T170000
DTSTAMP:20260423T165544
CREATED:20260302T173750Z
LAST-MODIFIED:20260302T173750Z
UID:10002657-1774692000-1774803600@prismacare.org
SUMMARY:Rainbows Festival
DESCRIPTION: 
URL:https://prismacare.org/event/rainbows-festival-3/
LOCATION:Heritage Square Park\, 601 E Monroe St\, Phoenix\, AZ\, 85004\, United States
END:VEVENT
END:VCALENDAR