BEGIN:VCALENDAR
VERSION:2.0
PRODID:-//Prisma Community Care - ECPv6.10.2//NONSGML v1.0//EN
CALSCALE:GREGORIAN
METHOD:PUBLISH
X-WR-CALNAME:Prisma Community Care
X-ORIGINAL-URL:https://prismacare.org
X-WR-CALDESC:Events for Prisma Community Care
REFRESH-INTERVAL;VALUE=DURATION:PT1H
X-Robots-Tag:noindex
X-PUBLISHED-TTL:PT1H
BEGIN:VTIMEZONE
TZID:UTC
BEGIN:STANDARD
TZOFFSETFROM:+0000
TZOFFSETTO:+0000
TZNAME:UTC
DTSTART:20260101T000000
END:STANDARD
END:VTIMEZONE
BEGIN:VEVENT
DTSTART;TZID=UTC:20260321T083000
DTEND;TZID=UTC:20260321T120000
DTSTAMP:20260424T051718
CREATED:20260227T190329Z
LAST-MODIFIED:20260227T190329Z
UID:10002653-1774081800-1774094400@prismacare.org
SUMMARY:AIDS Walk
DESCRIPTION:Arizona AIDS Walk Run & Roll takes place at beautiful Steele Indian School Park and offers a flat\, easy course that everyone can enjoy. Runners take on a 5K route\, while walkers and rollers follow a 2.5K path designed for all levels and abilities. The course is supported with cheer stations and water stations along the way to keep everyone motivated and comfortable.\nBefore we start\, the park comes alive with food trucks\, entertainment and a lively vendor village filled with community partners and local businesses. It is the perfect spot to gather with your team\, meet new people and enjoy the morning before heading out on the course. \nThe event is built to be fun\, inclusive and meaningful from start to finish. Whether you are running\, walking\, rolling or cheering\, you help support programs that make a real difference for people living with and affected by HIV across Arizona.
URL:https://prismacare.org/event/aids-walk/
LOCATION:Steele Indian School Park\, 300 East Indian School Road\, Phoenix\, AZ\, 85012\, United States
END:VEVENT
END:VCALENDAR